BEGIN:VCALENDAR
VERSION:2.0
PRODID:-//Northern Lights College - ECPv6.15.17.1//NONSGML v1.0//EN
CALSCALE:GREGORIAN
METHOD:PUBLISH
X-WR-CALNAME:Northern Lights College
X-ORIGINAL-URL:https://www.nlc.bc.ca
X-WR-CALDESC:Events for Northern Lights College
REFRESH-INTERVAL;VALUE=DURATION:PT1H
X-Robots-Tag:noindex
X-PUBLISHED-TTL:PT1H
BEGIN:VTIMEZONE
TZID:America/Vancouver
BEGIN:DAYLIGHT
TZOFFSETFROM:-0800
TZOFFSETTO:-0700
TZNAME:PDT
DTSTART:20220313T100000
END:DAYLIGHT
BEGIN:STANDARD
TZOFFSETFROM:-0700
TZOFFSETTO:-0800
TZNAME:PST
DTSTART:20221106T090000
END:STANDARD
BEGIN:DAYLIGHT
TZOFFSETFROM:-0800
TZOFFSETTO:-0700
TZNAME:PDT
DTSTART:20230312T100000
END:DAYLIGHT
BEGIN:STANDARD
TZOFFSETFROM:-0700
TZOFFSETTO:-0800
TZNAME:PST
DTSTART:20231105T090000
END:STANDARD
BEGIN:DAYLIGHT
TZOFFSETFROM:-0800
TZOFFSETTO:-0700
TZNAME:PDT
DTSTART:20240310T100000
END:DAYLIGHT
BEGIN:STANDARD
TZOFFSETFROM:-0700
TZOFFSETTO:-0800
TZNAME:PST
DTSTART:20241103T090000
END:STANDARD
END:VTIMEZONE
BEGIN:VEVENT
DTSTART;TZID=America/Vancouver:20230318T170000
DTEND;TZID=America/Vancouver:20230318T190000
DTSTAMP:20260420T000220
CREATED:20230221T194055Z
LAST-MODIFIED:20230221T194055Z
UID:10001003-1679158800-1679166000@www.nlc.bc.ca
SUMMARY:Cricket - FSJ
DESCRIPTION:Cricket \nSaturdays 5-7pm \nContact Chanteil 250-401-8080 cdrschiwiski@engagesportnorth.com for details.
URL:https://www.nlc.bc.ca/event/cricket-fsj/2023-03-18/
CATEGORIES:College Events,Sports
END:VEVENT
END:VCALENDAR