BEGIN:VCALENDAR
VERSION:2.0
PRODID:-//Northern Lights College - ECPv6.15.17.1//NONSGML v1.0//EN
CALSCALE:GREGORIAN
METHOD:PUBLISH
X-WR-CALNAME:Northern Lights College
X-ORIGINAL-URL:https://www.nlc.bc.ca
X-WR-CALDESC:Events for Northern Lights College
REFRESH-INTERVAL;VALUE=DURATION:PT1H
X-Robots-Tag:noindex
X-PUBLISHED-TTL:PT1H
BEGIN:VTIMEZONE
TZID:America/Vancouver
BEGIN:DAYLIGHT
TZOFFSETFROM:-0800
TZOFFSETTO:-0700
TZNAME:PDT
DTSTART:20220313T100000
END:DAYLIGHT
BEGIN:STANDARD
TZOFFSETFROM:-0700
TZOFFSETTO:-0800
TZNAME:PST
DTSTART:20221106T090000
END:STANDARD
BEGIN:DAYLIGHT
TZOFFSETFROM:-0800
TZOFFSETTO:-0700
TZNAME:PDT
DTSTART:20230312T100000
END:DAYLIGHT
BEGIN:STANDARD
TZOFFSETFROM:-0700
TZOFFSETTO:-0800
TZNAME:PST
DTSTART:20231105T090000
END:STANDARD
BEGIN:DAYLIGHT
TZOFFSETFROM:-0800
TZOFFSETTO:-0700
TZNAME:PDT
DTSTART:20240310T100000
END:DAYLIGHT
BEGIN:STANDARD
TZOFFSETFROM:-0700
TZOFFSETTO:-0800
TZNAME:PST
DTSTART:20241103T090000
END:STANDARD
END:VTIMEZONE
BEGIN:VEVENT
DTSTART;TZID=America/Vancouver:20230330T150000
DTEND;TZID=America/Vancouver:20230330T160000
DTSTAMP:20260419T002825
CREATED:20230221T193031Z
LAST-MODIFIED:20230221T193050Z
UID:10000972-1680188400-1680192000@www.nlc.bc.ca
SUMMARY:Conversation Circles
DESCRIPTION:Conversation Circles \nEvery Thursday from February 9 to March 30 from 3–4pm \nFort St. John Campus Atrium \nConversation\, Coffee and snacks. \n << For information on topics click image at left
URL:https://www.nlc.bc.ca/event/conversation-circles/2023-03-30/
CATEGORIES:College Events
END:VEVENT
BEGIN:VEVENT
DTSTART;TZID=America/Vancouver:20230330T173000
DTEND;TZID=America/Vancouver:20230330T193000
DTSTAMP:20260419T002825
CREATED:20230221T193311Z
LAST-MODIFIED:20230221T193323Z
UID:10000978-1680197400-1680204600@www.nlc.bc.ca
SUMMARY:Pub Night - DC
DESCRIPTION:Every Thursday\, 5:30-7:30 \nGeorge Dawson Inn Lounge\, Dawson Creek \nShow your student or staff ID and receive 15% off your food bill!
URL:https://www.nlc.bc.ca/event/pub-night-dc/2023-03-30/
LOCATION:George Dawson Inn Lounge\, 11705 8th St\, Dawson Creek\, BC\, V1G 4N9\, Canada
CATEGORIES:College Events
END:VEVENT
END:VCALENDAR