BEGIN:VCALENDAR
VERSION:2.0
PRODID:-//Northern Lights College - ECPv6.15.17.1//NONSGML v1.0//EN
CALSCALE:GREGORIAN
METHOD:PUBLISH
X-ORIGINAL-URL:https://www.nlc.bc.ca
X-WR-CALDESC:Events for Northern Lights College
REFRESH-INTERVAL;VALUE=DURATION:PT1H
X-Robots-Tag:noindex
X-PUBLISHED-TTL:PT1H
BEGIN:VTIMEZONE
TZID:America/Vancouver
BEGIN:DAYLIGHT
TZOFFSETFROM:-0800
TZOFFSETTO:-0700
TZNAME:PDT
DTSTART:20220313T100000
END:DAYLIGHT
BEGIN:STANDARD
TZOFFSETFROM:-0700
TZOFFSETTO:-0800
TZNAME:PST
DTSTART:20221106T090000
END:STANDARD
BEGIN:DAYLIGHT
TZOFFSETFROM:-0800
TZOFFSETTO:-0700
TZNAME:PDT
DTSTART:20230312T100000
END:DAYLIGHT
BEGIN:STANDARD
TZOFFSETFROM:-0700
TZOFFSETTO:-0800
TZNAME:PST
DTSTART:20231105T090000
END:STANDARD
BEGIN:DAYLIGHT
TZOFFSETFROM:-0800
TZOFFSETTO:-0700
TZNAME:PDT
DTSTART:20240310T100000
END:DAYLIGHT
BEGIN:STANDARD
TZOFFSETFROM:-0700
TZOFFSETTO:-0800
TZNAME:PST
DTSTART:20241103T090000
END:STANDARD
END:VTIMEZONE
BEGIN:VEVENT
DTSTART;TZID=America/Vancouver:20230905T084500
DTEND;TZID=America/Vancouver:20230905T131500
DTSTAMP:20260419T141058
CREATED:20230706T020556Z
LAST-MODIFIED:20230706T020556Z
UID:10001203-1693903500-1693919700@www.nlc.bc.ca
SUMMARY:New Student Orientation
DESCRIPTION:Program Specific & General Orientation in the Atrium for NEW students will take place in lieu of classes on the first day of the 2023-2024 school year. Invitation letters will be emailed to all students prior to September 5 with more information.
URL:https://www.nlc.bc.ca/event/new-student-orientation/
LOCATION:Northern Lights College Fort St. John campus\, 9820 – 120 Avenue\, Fort St. John\, British Columbia\, V1J 8C3\, Canada
END:VEVENT
BEGIN:VEVENT
DTSTART;TZID=America/Vancouver:20230905T084500
DTEND;TZID=America/Vancouver:20230905T131500
DTSTAMP:20260419T141058
CREATED:20230706T020951Z
LAST-MODIFIED:20230706T020951Z
UID:10001204-1693903500-1693919700@www.nlc.bc.ca
SUMMARY:New Student Orientation
DESCRIPTION:Program Specific & General Orientation for NEW students will take place in the gym in lieu of classes on the first day of the 2023-2024 school year. Invitation letters will be emailed to all students prior to September 5 with more information.
URL:https://www.nlc.bc.ca/event/new-student-orientation-2/
LOCATION:Dawson Creek Campus\, 11401 8th St\, Dawson Creek\, British Columbia\, V1G 4G2\, Canada
END:VEVENT
BEGIN:VEVENT
DTSTART;TZID=America/Vancouver:20230905T120000
DTEND;TZID=America/Vancouver:20230919T120000
DTSTAMP:20260419T141058
CREATED:20230815T162645Z
LAST-MODIFIED:20230905T220820Z
UID:10001256-1693915200-1695124800@www.nlc.bc.ca
SUMMARY:NLCSA General Elections - Nominations Open
DESCRIPTION:Nominations for Student Council positions are now open. \nIf you are interested in planning inclusive events that engage students from all programs\, geographic locations\, and cultural backgrounds – get involved in your local student council. \nSix positions are available at each Student Council branch: President\, Vice-President\, Indigenous Liaison\, Secretary\, Treasurer and Social Media Facilitator. \nClick here for the nomination form. \nNominations open Sept 5 2023. \nNominations close Sept 19\, 2023 at noon. \nOctober 4\, 2023 – Election day\, watch your email for your voting ballot!
URL:https://www.nlc.bc.ca/event/nlcsa-general-elections-nominations-open/
CATEGORIES:Student Association
END:VEVENT
BEGIN:VEVENT
DTSTART;TZID=America/Vancouver:20230905T133000
DTEND;TZID=America/Vancouver:20230905T143000
DTSTAMP:20260419T141058
CREATED:20230901T161113Z
LAST-MODIFIED:20230901T161113Z
UID:10001267-1693920600-1693924200@www.nlc.bc.ca
SUMMARY:Introduction to D2L & Teams (Dawson Creek)
DESCRIPTION:Microsoft Teams and D2L (Desire2Learn) are online learning platforms at NLC. This workshop will help you to navigate your courses\, communicate with instructors\, and submit assignments. \nWe’ll also show you some student success tools you can access through D2L. \nBring your questions\, we’ve got answers!
URL:https://www.nlc.bc.ca/event/introduction-to-d2l-teams-dawson-creek/
LOCATION:Dawson Creek Campus\, 11401 8th St\, Dawson Creek\, British Columbia\, V1G 4G2\, Canada
ATTACH;FMTTYPE=image/jpeg:https://www.nlc.bc.ca/wp-content/uploads/Social-Media-Intro-to-D2L-Teams.jpg
END:VEVENT
BEGIN:VEVENT
DTSTART;TZID=America/Vancouver:20230905T133000
DTEND;TZID=America/Vancouver:20230905T143000
DTSTAMP:20260419T141058
CREATED:20230901T162849Z
LAST-MODIFIED:20230901T162917Z
UID:10001271-1693920600-1693924200@www.nlc.bc.ca
SUMMARY:Introduction to D2L & Teams (Fort St. John)
DESCRIPTION:Microsoft Teams and D2L (Desire2Learn) are online learning platforms at NLC. This workshop will help you to navigate your courses\, communicate with instructors\, and submit assignments. \nWe’ll also show you some student success tools you can access through D2L. \nBring your questions\, we’ve got answers!
URL:https://www.nlc.bc.ca/event/introduction-to-d2l-teams-fort-st-john/
LOCATION:Fort St. John Campus\, 9820 - 120th Ave\, Fort St. John\, British Columbia\, V1J 8C3\, Canada
ATTACH;FMTTYPE=image/jpeg:https://www.nlc.bc.ca/wp-content/uploads/Social-Media-Intro-to-D2L-Teams.jpg
END:VEVENT
END:VCALENDAR