BEGIN:VCALENDAR
VERSION:2.0
PRODID:-//Northern Lights College - ECPv6.15.17.1//NONSGML v1.0//EN
CALSCALE:GREGORIAN
METHOD:PUBLISH
X-WR-CALNAME:Northern Lights College
X-ORIGINAL-URL:https://www.nlc.bc.ca
X-WR-CALDESC:Events for Northern Lights College
REFRESH-INTERVAL;VALUE=DURATION:PT1H
X-Robots-Tag:noindex
X-PUBLISHED-TTL:PT1H
BEGIN:VTIMEZONE
TZID:America/Vancouver
BEGIN:DAYLIGHT
TZOFFSETFROM:-0800
TZOFFSETTO:-0700
TZNAME:PDT
DTSTART:20220313T100000
END:DAYLIGHT
BEGIN:STANDARD
TZOFFSETFROM:-0700
TZOFFSETTO:-0800
TZNAME:PST
DTSTART:20221106T090000
END:STANDARD
BEGIN:DAYLIGHT
TZOFFSETFROM:-0800
TZOFFSETTO:-0700
TZNAME:PDT
DTSTART:20230312T100000
END:DAYLIGHT
BEGIN:STANDARD
TZOFFSETFROM:-0700
TZOFFSETTO:-0800
TZNAME:PST
DTSTART:20231105T090000
END:STANDARD
BEGIN:DAYLIGHT
TZOFFSETFROM:-0800
TZOFFSETTO:-0700
TZNAME:PDT
DTSTART:20240310T100000
END:DAYLIGHT
BEGIN:STANDARD
TZOFFSETFROM:-0700
TZOFFSETTO:-0800
TZNAME:PST
DTSTART:20241103T090000
END:STANDARD
END:VTIMEZONE
BEGIN:VEVENT
DTSTART;TZID=America/Vancouver:20230905T120000
DTEND;TZID=America/Vancouver:20230919T120000
DTSTAMP:20260419T141021
CREATED:20230815T162645Z
LAST-MODIFIED:20230905T220820Z
UID:10001256-1693915200-1695124800@www.nlc.bc.ca
SUMMARY:NLCSA General Elections - Nominations Open
DESCRIPTION:Nominations for Student Council positions are now open. \nIf you are interested in planning inclusive events that engage students from all programs\, geographic locations\, and cultural backgrounds – get involved in your local student council. \nSix positions are available at each Student Council branch: President\, Vice-President\, Indigenous Liaison\, Secretary\, Treasurer and Social Media Facilitator. \nClick here for the nomination form. \nNominations open Sept 5 2023. \nNominations close Sept 19\, 2023 at noon. \nOctober 4\, 2023 – Election day\, watch your email for your voting ballot!
URL:https://www.nlc.bc.ca/event/nlcsa-general-elections-nominations-open/
CATEGORIES:Student Association
END:VEVENT
BEGIN:VEVENT
DTSTART;TZID=America/Vancouver:20230907T133000
DTEND;TZID=America/Vancouver:20230907T143000
DTSTAMP:20260419T141021
CREATED:20230901T162210Z
LAST-MODIFIED:20230901T162210Z
UID:10001269-1694093400-1694097000@www.nlc.bc.ca
SUMMARY:APA References & Citations (Dawson Creek)
DESCRIPTION:Join us for an introduction to the American Psychological Association (APA) style. APA is one style you may need to use for citing your sources in essays\, reports\, or other submitted assignments. \nLocation: Library
URL:https://www.nlc.bc.ca/event/apa-references-citations-dawson-creek/
ATTACH;FMTTYPE=image/jpeg:https://www.nlc.bc.ca/wp-content/uploads/Social-Media-APA-References-Citations.jpg
END:VEVENT
BEGIN:VEVENT
DTSTART;TZID=America/Vancouver:20230907T133000
DTEND;TZID=America/Vancouver:20230907T143000
DTSTAMP:20260419T141021
CREATED:20230901T162556Z
LAST-MODIFIED:20230901T162556Z
UID:10001270-1694093400-1694097000@www.nlc.bc.ca
SUMMARY:APA References & Citations (Fort St. John)
DESCRIPTION:Join us for an introduction to the American Psychological Association (APA) style. APA is one style you may need to use for citing your sources in essays\, reports\, or other submitted assignments. \nLocation: Atrium
URL:https://www.nlc.bc.ca/event/apa-references-citations-fort-st-john/
LOCATION:Fort St. John Campus\, 9820 - 120th Ave\, Fort St. John\, British Columbia\, V1J 8C3\, Canada
ATTACH;FMTTYPE=image/jpeg:https://www.nlc.bc.ca/wp-content/uploads/Social-Media-APA-References-Citations.jpg
END:VEVENT
BEGIN:VEVENT
DTSTART;TZID=America/Vancouver:20230907T160000
DTEND;TZID=America/Vancouver:20230907T190000
DTSTAMP:20260419T141021
CREATED:20230706T030208Z
LAST-MODIFIED:20230825T173806Z
UID:10001253-1694102400-1694113200@www.nlc.bc.ca
SUMMARY:Welcome Fest 2023
DESCRIPTION:Free Food & Drinks!\nMusic & Games!\nTeam Challenge Event with Prizes!\nContact: Studentlife@nlc.bc.ca to sign up your team -or- add your name to our list to join a team!
URL:https://www.nlc.bc.ca/event/welcome-fest-2023/
LOCATION:Northern Lights College Fort St. John campus\, 9820 – 120 Avenue\, Fort St. John\, British Columbia\, V1J 8C3\, Canada
ATTACH;FMTTYPE=image/jpeg:https://www.nlc.bc.ca/wp-content/uploads/Welcome-Fest-2023-Social-Media.jpg
END:VEVENT
END:VCALENDAR