BEGIN:VCALENDAR
VERSION:2.0
PRODID:-//Northern Lights College - ECPv6.15.17.1//NONSGML v1.0//EN
CALSCALE:GREGORIAN
METHOD:PUBLISH
X-WR-CALNAME:Northern Lights College
X-ORIGINAL-URL:https://www.nlc.bc.ca
X-WR-CALDESC:Events for Northern Lights College
REFRESH-INTERVAL;VALUE=DURATION:PT1H
X-Robots-Tag:noindex
X-PUBLISHED-TTL:PT1H
BEGIN:VTIMEZONE
TZID:America/Vancouver
BEGIN:DAYLIGHT
TZOFFSETFROM:-0800
TZOFFSETTO:-0700
TZNAME:PDT
DTSTART:20220313T100000
END:DAYLIGHT
BEGIN:STANDARD
TZOFFSETFROM:-0700
TZOFFSETTO:-0800
TZNAME:PST
DTSTART:20221106T090000
END:STANDARD
BEGIN:DAYLIGHT
TZOFFSETFROM:-0800
TZOFFSETTO:-0700
TZNAME:PDT
DTSTART:20230312T100000
END:DAYLIGHT
BEGIN:STANDARD
TZOFFSETFROM:-0700
TZOFFSETTO:-0800
TZNAME:PST
DTSTART:20231105T090000
END:STANDARD
BEGIN:DAYLIGHT
TZOFFSETFROM:-0800
TZOFFSETTO:-0700
TZNAME:PDT
DTSTART:20240310T100000
END:DAYLIGHT
BEGIN:STANDARD
TZOFFSETFROM:-0700
TZOFFSETTO:-0800
TZNAME:PST
DTSTART:20241103T090000
END:STANDARD
END:VTIMEZONE
BEGIN:VEVENT
DTSTART;TZID=America/Vancouver:20230927T110000
DTEND;TZID=America/Vancouver:20230927T120000
DTSTAMP:20260419T141052
CREATED:20230915T165248Z
LAST-MODIFIED:20230921T164754Z
UID:10001278-1695812400-1695816000@www.nlc.bc.ca
SUMMARY:Webinar — All my Reciprocal Relations
DESCRIPTION:Truth and Reconciliation Week event: \nWebinar with Mark Solomon\n11am–12pm \nAll My Reciprocal Relations \nWebinar information
URL:https://www.nlc.bc.ca/event/webinar-all-my-reciprocal-relations/
LOCATION:Fort St. John Campus\, 9820 - 120th Ave\, Fort St. John\, British Columbia\, V1J 8C3\, Canada
CATEGORIES:College Events
ATTACH;FMTTYPE=image/jpeg:https://www.nlc.bc.ca/wp-content/uploads/truth_and_Reconciliation-scaled.jpg
END:VEVENT
BEGIN:VEVENT
DTSTART;TZID=America/Vancouver:20230927T120000
DTEND;TZID=America/Vancouver:20230927T130000
DTSTAMP:20260419T141052
CREATED:20230918T213919Z
LAST-MODIFIED:20230918T213919Z
UID:10001284-1695816000-1695819600@www.nlc.bc.ca
SUMMARY:Western Wear Day
DESCRIPTION:It’s Western Wear Day! \nCome dressed in your finest Western outfit\, play some games\, and win some prizes! \nFort St. John Cafeteria & Dawson Creek Cafeteria\n12-1pm
URL:https://www.nlc.bc.ca/event/western-wear-day/
LOCATION:Fort St. John Campus\, 9820 - 120th Ave\, Fort St. John\, British Columbia\, V1J 8C3\, Canada
END:VEVENT
BEGIN:VEVENT
DTSTART;TZID=America/Vancouver:20230927T180000
DTEND;TZID=America/Vancouver:20230927T200000
DTSTAMP:20260419T141052
CREATED:20230915T170144Z
LAST-MODIFIED:20230915T170543Z
UID:10001279-1695837600-1695844800@www.nlc.bc.ca
SUMMARY:Picking Up the Pieces: The Making of the Witness Blanket
DESCRIPTION:Truth and Reconciliation awareness film \nPicking Up the Pieces: The Making of the Witness Blanket \n6-8pm \nFSJ Campus Atrium.
URL:https://www.nlc.bc.ca/event/picking-up-the-pieces-the-making-of-the-witness-blanket/
LOCATION:Fort St. John Campus\, 9820 - 120th Ave\, Fort St. John\, British Columbia\, V1J 8C3\, Canada
CATEGORIES:College Events
ATTACH;FMTTYPE=image/jpeg:https://www.nlc.bc.ca/wp-content/uploads/truth_and_Reconciliation-scaled.jpg
END:VEVENT
END:VCALENDAR