BEGIN:VCALENDAR
VERSION:2.0
PRODID:-//Northern Lights College - ECPv6.15.17.1//NONSGML v1.0//EN
CALSCALE:GREGORIAN
METHOD:PUBLISH
X-WR-CALNAME:Northern Lights College
X-ORIGINAL-URL:https://www.nlc.bc.ca
X-WR-CALDESC:Events for Northern Lights College
REFRESH-INTERVAL;VALUE=DURATION:PT1H
X-Robots-Tag:noindex
X-PUBLISHED-TTL:PT1H
BEGIN:VTIMEZONE
TZID:America/Vancouver
BEGIN:DAYLIGHT
TZOFFSETFROM:-0800
TZOFFSETTO:-0700
TZNAME:PDT
DTSTART:20220313T100000
END:DAYLIGHT
BEGIN:STANDARD
TZOFFSETFROM:-0700
TZOFFSETTO:-0800
TZNAME:PST
DTSTART:20221106T090000
END:STANDARD
BEGIN:DAYLIGHT
TZOFFSETFROM:-0800
TZOFFSETTO:-0700
TZNAME:PDT
DTSTART:20230312T100000
END:DAYLIGHT
BEGIN:STANDARD
TZOFFSETFROM:-0700
TZOFFSETTO:-0800
TZNAME:PST
DTSTART:20231105T090000
END:STANDARD
BEGIN:DAYLIGHT
TZOFFSETFROM:-0800
TZOFFSETTO:-0700
TZNAME:PDT
DTSTART:20240310T100000
END:DAYLIGHT
BEGIN:STANDARD
TZOFFSETFROM:-0700
TZOFFSETTO:-0800
TZNAME:PST
DTSTART:20241103T090000
END:STANDARD
END:VTIMEZONE
BEGIN:VEVENT
DTSTART;TZID=America/Vancouver:20231026T140000
DTEND;TZID=America/Vancouver:20231026T190000
DTSTAMP:20260419T124337
CREATED:20230821T203303Z
LAST-MODIFIED:20231004T183546Z
UID:10001260-1698328800-1698346800@www.nlc.bc.ca
SUMMARY:Chetwynd Open House
DESCRIPTION:
URL:https://www.nlc.bc.ca/event/chetwynd-campus-open-house/
LOCATION:Chetwynd Campus\, 5132 50 Street\, Chetwynd\, British Columbia\, V0C 1J0\, Canada
CATEGORIES:College Events
END:VEVENT
BEGIN:VEVENT
DTSTART;TZID=America/Vancouver:20231026T150000
DTEND;TZID=America/Vancouver:20231026T163000
DTSTAMP:20260419T124337
CREATED:20230925T183730Z
LAST-MODIFIED:20231004T183558Z
UID:10001286-1698332400-1698337800@www.nlc.bc.ca
SUMMARY:Pumpkin Carving Contest — Dawson Creek
DESCRIPTION:Students — we’re having a pumpkin carving contest!  \nParticipate as an individual\, or in a team\, and carve your best seasonal art! \nPrizes will be awarded for the scariest\, most creative and funniest pumpkins — there will also be a prize for best overall pumpkin.\nFirst come\, first served — there are only 25 pumpkins!\nCome out to the DC Campus Cafeteria \nTools will be provided but participants are welcome to bring their own. \nBonus! The professional cooking students will be carving a 100lb pumpkin for display\, as well as their own pumpkins\, to add to the fun! \nA big thank you to Dawson C0-0p for the pumpkin donation!
URL:https://www.nlc.bc.ca/event/pumpkin-carving-contest/
LOCATION:Dawson Creek Campus\, 11401 8th St\, Dawson Creek\, British Columbia\, V1G 4G2\, Canada
CATEGORIES:College Events
ATTACH;FMTTYPE=image/jpeg:https://www.nlc.bc.ca/wp-content/uploads/pumpkin_carving.jpg
END:VEVENT
END:VCALENDAR