BEGIN:VCALENDAR
VERSION:2.0
PRODID:-//Northern Lights College - ECPv6.15.17.1//NONSGML v1.0//EN
CALSCALE:GREGORIAN
METHOD:PUBLISH
X-WR-CALNAME:Northern Lights College
X-ORIGINAL-URL:https://www.nlc.bc.ca
X-WR-CALDESC:Events for Northern Lights College
REFRESH-INTERVAL;VALUE=DURATION:PT1H
X-Robots-Tag:noindex
X-PUBLISHED-TTL:PT1H
BEGIN:VTIMEZONE
TZID:America/Vancouver
BEGIN:DAYLIGHT
TZOFFSETFROM:-0800
TZOFFSETTO:-0700
TZNAME:PDT
DTSTART:20220313T100000
END:DAYLIGHT
BEGIN:STANDARD
TZOFFSETFROM:-0700
TZOFFSETTO:-0800
TZNAME:PST
DTSTART:20221106T090000
END:STANDARD
BEGIN:DAYLIGHT
TZOFFSETFROM:-0800
TZOFFSETTO:-0700
TZNAME:PDT
DTSTART:20230312T100000
END:DAYLIGHT
BEGIN:STANDARD
TZOFFSETFROM:-0700
TZOFFSETTO:-0800
TZNAME:PST
DTSTART:20231105T090000
END:STANDARD
BEGIN:DAYLIGHT
TZOFFSETFROM:-0800
TZOFFSETTO:-0700
TZNAME:PDT
DTSTART:20240310T100000
END:DAYLIGHT
BEGIN:STANDARD
TZOFFSETFROM:-0700
TZOFFSETTO:-0800
TZNAME:PST
DTSTART:20241103T090000
END:STANDARD
END:VTIMEZONE
BEGIN:VTIMEZONE
TZID:America/Dawson_Creek
BEGIN:STANDARD
TZOFFSETFROM:-0700
TZOFFSETTO:-0700
TZNAME:MST
DTSTART:20220101T000000
END:STANDARD
END:VTIMEZONE
BEGIN:VEVENT
DTSTART;VALUE=DATE:20231120
DTEND;VALUE=DATE:20231121
DTSTAMP:20260419T111717
CREATED:20231117T202825Z
LAST-MODIFIED:20231117T202825Z
UID:10001290-1700438400-1700524799@www.nlc.bc.ca
SUMMARY:Elder in Residence Dawson Creek
DESCRIPTION:Day One \nLocation: Indigenous Gathering space \n12:00 – 12:30 PM – Opening prayer from Malcolm\, welcome and introductions\, Elder protocol \n12:30 – 1:30 PM – Welcome Feast for Malcolm \n2:00 – 3:00 PM – Sharing Circle & Talking Stick Teachings
URL:https://www.nlc.bc.ca/event/elder-in-residence-dawson-creek/
LOCATION:Dawson Creek Campus\, 11401 8th St\, Dawson Creek\, British Columbia\, V1G 4G2\, Canada
ATTACH;FMTTYPE=image/jpeg:https://www.nlc.bc.ca/wp-content/uploads/Malcom-Supernault-Social.jpg
END:VEVENT
BEGIN:VEVENT
DTSTART;VALUE=DATE:20231120
DTEND;VALUE=DATE:20231121
DTSTAMP:20260419T111717
CREATED:20231117T210510Z
LAST-MODIFIED:20231117T210510Z
UID:10001298-1700438400-1700524799@www.nlc.bc.ca
SUMMARY:Elder in Residence Fort St. John
DESCRIPTION:Day one \nLocation: Indigenous Gathering Space \n12–12:30pm – Opening prayer from Gerry\, welcome and introductions\, Doig River Drummers \n12:30–1:30pm – Welcome Feast for Gerry \n2–3pm –  Story Telling with Gerry Attachie
URL:https://www.nlc.bc.ca/event/elder-in-residence-fort-st-john/
LOCATION:Fort St. John Campus\, 9820 - 120th Ave\, Fort St. John\, British Columbia\, V1J 8C3\, Canada
ATTACH;FMTTYPE=image/jpeg:https://www.nlc.bc.ca/wp-content/uploads/Gerry-Attachie-Social.jpg
END:VEVENT
BEGIN:VEVENT
DTSTART;TZID=America/Dawson_Creek:20231120T140000
DTEND;TZID=America/Dawson_Creek:20231210T150000
DTSTAMP:20260419T111717
CREATED:20231120T202928Z
LAST-MODIFIED:20231120T202928Z
UID:10001312-1700488800-1702220400@www.nlc.bc.ca
SUMMARY:Annual Christmas Silent Auction
DESCRIPTION:The time for holiday cheer is here!\n\n\n\nOur Annual Christmas Auction kicks off on Monday\, November 20\, at 2:00pm!\n\n\n\nEvery year during the holiday season\, we adopt local families in need. We host this silent auction where all proceeds are distributed between the adopted families and local food banks. All the items in the auction have been donated by NLC staff\, faculty\, and students.\n\n\n\nGet your Christmas shopping done while giving the gift of a beautiful holiday season to those in need.\n\n\n\nMore items will be added throughout the auction\, so be sure to check out the list by clicking here!
URL:https://www.nlc.bc.ca/event/annual-christmas-silent-auction/
END:VEVENT
END:VCALENDAR