BEGIN:VCALENDAR
VERSION:2.0
PRODID:-//Northern Lights College - ECPv6.15.17.1//NONSGML v1.0//EN
CALSCALE:GREGORIAN
METHOD:PUBLISH
X-ORIGINAL-URL:https://www.nlc.bc.ca
X-WR-CALDESC:Events for Northern Lights College
REFRESH-INTERVAL;VALUE=DURATION:PT1H
X-Robots-Tag:noindex
X-PUBLISHED-TTL:PT1H
BEGIN:VTIMEZONE
TZID:America/Vancouver
BEGIN:DAYLIGHT
TZOFFSETFROM:-0800
TZOFFSETTO:-0700
TZNAME:PDT
DTSTART:20230312T100000
END:DAYLIGHT
BEGIN:STANDARD
TZOFFSETFROM:-0700
TZOFFSETTO:-0800
TZNAME:PST
DTSTART:20231105T090000
END:STANDARD
BEGIN:DAYLIGHT
TZOFFSETFROM:-0800
TZOFFSETTO:-0700
TZNAME:PDT
DTSTART:20240310T100000
END:DAYLIGHT
BEGIN:STANDARD
TZOFFSETFROM:-0700
TZOFFSETTO:-0800
TZNAME:PST
DTSTART:20241103T090000
END:STANDARD
BEGIN:DAYLIGHT
TZOFFSETFROM:-0800
TZOFFSETTO:-0700
TZNAME:PDT
DTSTART:20250309T100000
END:DAYLIGHT
BEGIN:STANDARD
TZOFFSETFROM:-0700
TZOFFSETTO:-0800
TZNAME:PST
DTSTART:20251102T090000
END:STANDARD
END:VTIMEZONE
BEGIN:VEVENT
DTSTART;TZID=America/Vancouver:20240102T084500
DTEND;TZID=America/Vancouver:20240102T120000
DTSTAMP:20260418T080329
CREATED:20231221T181406Z
LAST-MODIFIED:20231221T181406Z
UID:10001316-1704185100-1704196800@www.nlc.bc.ca
SUMMARY:New Student Orientation
DESCRIPTION:Dawson Creek\nProgram Specific Orientation 8:45-9:45am in Health Science Building Lecture Hall (Room 116) \n General Orientation 10am-12pm- starting in Health Science Building Lecture Hall (Room 116) \nFort St John\nProgram Specific Orientation 8:45-9:45am in the Atrium \nGeneral Orientation 10-12pm in the Atrium
URL:https://www.nlc.bc.ca/event/new-student-orientation-3/
LOCATION:Dawson Creek Campus\, 11401 8th St\, Dawson Creek\, British Columbia\, V1G 4G2\, Canada
END:VEVENT
BEGIN:VEVENT
DTSTART;TZID=America/Vancouver:20240102T084500
DTEND;TZID=America/Vancouver:20240102T120000
DTSTAMP:20260418T080329
CREATED:20231221T193224Z
LAST-MODIFIED:20231221T193224Z
UID:10001317-1704185100-1704196800@www.nlc.bc.ca
SUMMARY:UNAS/MGMT/SSWD classes canceled during New Student Orientation
DESCRIPTION:From 8:45 am – 1:15 pm there will be NO UNAS/MGMT/SSWD/ classes. \n  \nNote: CCP\, Trades\, Vocational Programs will all run as usual. \n  \nAll classes will resume as regularly scheduled at 1:15 pm.  \n 
URL:https://www.nlc.bc.ca/event/unas-mgmt-sswd-classes-canceled-during-new-student-orientation/
LOCATION:Dawson Creek Campus\, 11401 8th St\, Dawson Creek\, British Columbia\, V1G 4G2\, Canada
END:VEVENT
BEGIN:VEVENT
DTSTART;TZID=America/Vancouver:20240102T133000
DTEND;TZID=America/Vancouver:20240102T143000
DTSTAMP:20260418T080329
CREATED:20231221T195122Z
LAST-MODIFIED:20231221T195122Z
UID:10001321-1704202200-1704205800@www.nlc.bc.ca
SUMMARY:Workshop: Intro to D2L and Teams
DESCRIPTION:D2L is NLC’s online learning platform. \nLearn how to access your course materials\, assignments\, and discussions\, and monitor your grades!
URL:https://www.nlc.bc.ca/event/workshop-intro-to-d2l-and-teams/
LOCATION:Dawson Creek Campus\, 11401 8th St\, Dawson Creek\, British Columbia\, V1G 4G2\, Canada
CATEGORIES:College Events
ORGANIZER;CN="Learning Support Services":MAILTO:learningsupport@nlc.bc.ca
END:VEVENT
BEGIN:VEVENT
DTSTART;TZID=America/Vancouver:20240102T133000
DTEND;TZID=America/Vancouver:20240102T143000
DTSTAMP:20260418T080329
CREATED:20231221T195611Z
LAST-MODIFIED:20231221T195611Z
UID:10001323-1704202200-1704205800@www.nlc.bc.ca
SUMMARY:Workshop: Intro to D2L and Teams
DESCRIPTION:D2L is NLC’s online learning platform. \nLearn how to access your course materials\, assignments\, and discussions and monitor your grades!
URL:https://www.nlc.bc.ca/event/workshop-intro-to-d2l-and-teams-3/
LOCATION:Fort St. John Campus\, 9820 - 120th Ave\, Fort St. John\, British Columbia\, V1J 8C3\, Canada
CATEGORIES:College Events
ORGANIZER;CN="Learning Support Services":MAILTO:learningsupport@nlc.bc.ca
END:VEVENT
END:VCALENDAR