BEGIN:VCALENDAR
VERSION:2.0
PRODID:-//Northern Lights College - ECPv6.15.17.1//NONSGML v1.0//EN
CALSCALE:GREGORIAN
METHOD:PUBLISH
X-ORIGINAL-URL:https://www.nlc.bc.ca
X-WR-CALDESC:Events for Northern Lights College
REFRESH-INTERVAL;VALUE=DURATION:PT1H
X-Robots-Tag:noindex
X-PUBLISHED-TTL:PT1H
BEGIN:VTIMEZONE
TZID:America/Vancouver
BEGIN:DAYLIGHT
TZOFFSETFROM:-0800
TZOFFSETTO:-0700
TZNAME:PDT
DTSTART:20230312T100000
END:DAYLIGHT
BEGIN:STANDARD
TZOFFSETFROM:-0700
TZOFFSETTO:-0800
TZNAME:PST
DTSTART:20231105T090000
END:STANDARD
BEGIN:DAYLIGHT
TZOFFSETFROM:-0800
TZOFFSETTO:-0700
TZNAME:PDT
DTSTART:20240310T100000
END:DAYLIGHT
BEGIN:STANDARD
TZOFFSETFROM:-0700
TZOFFSETTO:-0800
TZNAME:PST
DTSTART:20241103T090000
END:STANDARD
BEGIN:DAYLIGHT
TZOFFSETFROM:-0800
TZOFFSETTO:-0700
TZNAME:PDT
DTSTART:20250309T100000
END:DAYLIGHT
BEGIN:STANDARD
TZOFFSETFROM:-0700
TZOFFSETTO:-0800
TZNAME:PST
DTSTART:20251102T090000
END:STANDARD
END:VTIMEZONE
BEGIN:VEVENT
DTSTART;TZID=America/Vancouver:20240122T110000
DTEND;TZID=America/Vancouver:20240122T130000
DTSTAMP:20260418T175505
CREATED:20240116T193232Z
LAST-MODIFIED:20240116T193232Z
UID:10001333-1705921200-1705928400@www.nlc.bc.ca
SUMMARY:Mental Wellness Day
DESCRIPTION:Beat the winter  blues at our Mental Wellness Day for all staff and students. \n\nFun activities\nGames\nCoffee\nSnacks\nPrizes
URL:https://www.nlc.bc.ca/event/mental-wellness-day/
LOCATION:Fort St. John Campus\, 9820 - 120th Ave\, Fort St. John\, British Columbia\, V1J 8C3\, Canada
ORGANIZER;CN="Learning Support Services":MAILTO:learningsupport@nlc.bc.ca
END:VEVENT
BEGIN:VEVENT
DTSTART;TZID=America/Vancouver:20240122T120000
DTEND;TZID=America/Vancouver:20240122T133000
DTSTAMP:20260418T175505
CREATED:20240122T150233Z
LAST-MODIFIED:20240122T161306Z
UID:10001335-1705924800-1705930200@www.nlc.bc.ca
SUMMARY:Welcome Feast - Della Owens\, Elder in Residence Dawson Creek
DESCRIPTION:Come down to the Indigenous Gathering space at noon\, and meet our Elder in Residence — Della Owens at her Welcome Feast.\nLater she will hold story telling\, from 2–3pm. These events are free to attend. \n  \nShe will be in Residence at the DC Campus January 22–25\, then January 29–February 1\, 2024! \nThis will be Della’s first residency here at NLC; we are grateful and honoured to have her share teachings with us!
URL:https://www.nlc.bc.ca/event/welcome-feast/
LOCATION:Northern Lights College Dawson Creek\, 11401 - 8th Street\, Dawson Creek\, BC\, V1G 4G2\, Canada
ATTACH;FMTTYPE=image/jpeg:https://www.nlc.bc.ca/wp-content/uploads/elder_della_owens-scaled.jpg
END:VEVENT
BEGIN:VEVENT
DTSTART;TZID=America/Vancouver:20240122T120000
DTEND;TZID=America/Vancouver:20240122T133000
DTSTAMP:20260418T175505
CREATED:20240122T152856Z
LAST-MODIFIED:20240122T161716Z
UID:10001338-1705924800-1705930200@www.nlc.bc.ca
SUMMARY:Welcome Feast  — Clarence Apsassin\, Elder in Residence Fort. St. John
DESCRIPTION:Elder Clarence Apsassin from Blueberry River First Nation will be in Residence at the FSJ campus January 22–25\, and January 29–February 1\, 2024. \nCome on down to the Indigenous Gathering Space at noon and join us for his Welcome Feast\, followed by story telling at 2pm. \nThese events are open to staff\, students\, and the community and are free to attend. \nWe are grateful and honoured to have Clarence share his teachings with us. \n 
URL:https://www.nlc.bc.ca/event/welcome-feast-clarence-apsassin-elder-in-residence/
LOCATION:Fort St. John Campus\, 9820 - 120th Ave\, Fort St. John\, British Columbia\, V1J 8C3\, Canada
CATEGORIES:College Events
ATTACH;FMTTYPE=image/jpeg:https://www.nlc.bc.ca/wp-content/uploads/clarence_apsassin-scaled.jpg
END:VEVENT
BEGIN:VEVENT
DTSTART;TZID=America/Vancouver:20240122T140000
DTEND;TZID=America/Vancouver:20240122T150000
DTSTAMP:20260418T175505
CREATED:20240122T160518Z
LAST-MODIFIED:20240122T161847Z
UID:10001341-1705932000-1705935600@www.nlc.bc.ca
SUMMARY:Storytelling with Elder Clarence Apsassin
DESCRIPTION:Staff\, students\, and the community are welcome to join us for this storytelling session with Elder Clarence Apsassin from Blueberry River First Nation.
URL:https://www.nlc.bc.ca/event/storytelling-with-elder-clarence-apsassin/
LOCATION:Fort St. John Campus\, 9820 - 120th Ave\, Fort St. John\, British Columbia\, V1J 8C3\, Canada
ATTACH;FMTTYPE=image/jpeg:https://www.nlc.bc.ca/wp-content/uploads/clarence_apsassin-scaled.jpg
END:VEVENT
BEGIN:VEVENT
DTSTART;TZID=America/Vancouver:20240122T140000
DTEND;TZID=America/Vancouver:20240122T150000
DTSTAMP:20260418T175505
CREATED:20240122T161125Z
LAST-MODIFIED:20240122T161919Z
UID:10001342-1705932000-1705935600@www.nlc.bc.ca
SUMMARY:Storytelling with Elder Della Owens
DESCRIPTION:Staff\, students\, and the community are welcome to join us in the Indigenous Gathering Space for storytelling with Elder Della Owens. \nElder Della Owens is joining us from Saulteau Nation and will be in residence at the DC Campus from Jan 22-25 and then again Jan 29- Feb 1. \nThis is Della’s first residency here at NLC and we are grateful and honoured to have her share her teachings with us.
URL:https://www.nlc.bc.ca/event/storytelling-with-elder-della-owens/
LOCATION:Dawson Creek Campus\, 11401 8th St\, Dawson Creek\, British Columbia\, V1G 4G2\, Canada
ATTACH;FMTTYPE=image/jpeg:https://www.nlc.bc.ca/wp-content/uploads/elder_della_owens-scaled.jpg
END:VEVENT
END:VCALENDAR