BEGIN:VCALENDAR
VERSION:2.0
PRODID:-//Northern Lights College - ECPv6.15.17.1//NONSGML v1.0//EN
CALSCALE:GREGORIAN
METHOD:PUBLISH
X-ORIGINAL-URL:https://www.nlc.bc.ca
X-WR-CALDESC:Events for Northern Lights College
REFRESH-INTERVAL;VALUE=DURATION:PT1H
X-Robots-Tag:noindex
X-PUBLISHED-TTL:PT1H
BEGIN:VTIMEZONE
TZID:America/Vancouver
BEGIN:DAYLIGHT
TZOFFSETFROM:-0800
TZOFFSETTO:-0700
TZNAME:PDT
DTSTART:20230312T100000
END:DAYLIGHT
BEGIN:STANDARD
TZOFFSETFROM:-0700
TZOFFSETTO:-0800
TZNAME:PST
DTSTART:20231105T090000
END:STANDARD
BEGIN:DAYLIGHT
TZOFFSETFROM:-0800
TZOFFSETTO:-0700
TZNAME:PDT
DTSTART:20240310T100000
END:DAYLIGHT
BEGIN:STANDARD
TZOFFSETFROM:-0700
TZOFFSETTO:-0800
TZNAME:PST
DTSTART:20241103T090000
END:STANDARD
BEGIN:DAYLIGHT
TZOFFSETFROM:-0800
TZOFFSETTO:-0700
TZNAME:PDT
DTSTART:20250309T100000
END:DAYLIGHT
BEGIN:STANDARD
TZOFFSETFROM:-0700
TZOFFSETTO:-0800
TZNAME:PST
DTSTART:20251102T090000
END:STANDARD
END:VTIMEZONE
BEGIN:VEVENT
DTSTART;TZID=America/Vancouver:20240131T120000
DTEND;TZID=America/Vancouver:20240131T130000
DTSTAMP:20260419T064528
CREATED:20240122T153514Z
LAST-MODIFIED:20240131T154525Z
UID:10001339-1706702400-1706706000@www.nlc.bc.ca
SUMMARY:CANCELLED — Astum! Teachings with Soup and Bannock
DESCRIPTION:This event has been cancelled. Our apologies. \nFSJ Campus Indigenous Gathering Space will have Astum! Teachings with Soup and Bannock with Clarence Apsassin.
URL:https://www.nlc.bc.ca/event/astum-teachings-with-soup-and-bannock-5/
LOCATION:Northern Lights College Fort St. John campus\, 9820 – 120 Avenue\, Fort St. John\, British Columbia\, V1J 8C3\, Canada
ATTACH;FMTTYPE=image/png:https://www.nlc.bc.ca/wp-content/uploads/Clarence_Apsassin_Astum.png
END:VEVENT
END:VCALENDAR