BEGIN:VCALENDAR
VERSION:2.0
PRODID:-//Northern Lights College - ECPv6.15.17.1//NONSGML v1.0//EN
CALSCALE:GREGORIAN
METHOD:PUBLISH
X-ORIGINAL-URL:https://www.nlc.bc.ca
X-WR-CALDESC:Events for Northern Lights College
REFRESH-INTERVAL;VALUE=DURATION:PT1H
X-Robots-Tag:noindex
X-PUBLISHED-TTL:PT1H
BEGIN:VTIMEZONE
TZID:America/Vancouver
BEGIN:DAYLIGHT
TZOFFSETFROM:-0800
TZOFFSETTO:-0700
TZNAME:PDT
DTSTART:20230312T100000
END:DAYLIGHT
BEGIN:STANDARD
TZOFFSETFROM:-0700
TZOFFSETTO:-0800
TZNAME:PST
DTSTART:20231105T090000
END:STANDARD
BEGIN:DAYLIGHT
TZOFFSETFROM:-0800
TZOFFSETTO:-0700
TZNAME:PDT
DTSTART:20240310T100000
END:DAYLIGHT
BEGIN:STANDARD
TZOFFSETFROM:-0700
TZOFFSETTO:-0800
TZNAME:PST
DTSTART:20241103T090000
END:STANDARD
BEGIN:DAYLIGHT
TZOFFSETFROM:-0800
TZOFFSETTO:-0700
TZNAME:PDT
DTSTART:20250309T100000
END:DAYLIGHT
BEGIN:STANDARD
TZOFFSETFROM:-0700
TZOFFSETTO:-0800
TZNAME:PST
DTSTART:20251102T090000
END:STANDARD
END:VTIMEZONE
BEGIN:VEVENT
DTSTART;TZID=America/Vancouver:20240202T183000
DTEND;TZID=America/Vancouver:20240202T203000
DTSTAMP:20260419T064528
CREATED:20240126T195853Z
LAST-MODIFIED:20240126T195853Z
UID:10001344-1706898600-1706905800@www.nlc.bc.ca
SUMMARY:Rotary Club Winter Social
DESCRIPTION:All current NLC students and staff are welcome to attend the Rotary Club of Dawson Creek Winter Social. \nSnacks will be provided and there will be a cash bar. \nFor more information on the Rotary Club of Dawson Creek go to www.dcrotary.ca.
URL:https://www.nlc.bc.ca/event/rotary-club-winter-social/
LOCATION:Dawson Creek Campus\, 11401 8th St\, Dawson Creek\, British Columbia\, V1G 4G2\, Canada
END:VEVENT
BEGIN:VEVENT
DTSTART;TZID=America/Vancouver:20240202T190000
DTEND;TZID=America/Vancouver:20240202T210000
DTSTAMP:20260419T064528
CREATED:20240123T193338Z
LAST-MODIFIED:20240123T193338Z
UID:10001343-1706900400-1706907600@www.nlc.bc.ca
SUMMARY:Knowledge Unleashed: AN NLC Symposium
DESCRIPTION:
URL:https://www.nlc.bc.ca/event/knowledge-unleashed-an-nlc-symposium-2/
LOCATION:Fort St. John Campus\, 9820 - 120th Ave\, Fort St. John\, British Columbia\, V1J 8C3\, Canada
END:VEVENT
END:VCALENDAR