BEGIN:VCALENDAR
VERSION:2.0
PRODID:-//Northern Lights College - ECPv6.15.17.1//NONSGML v1.0//EN
CALSCALE:GREGORIAN
METHOD:PUBLISH
X-WR-CALNAME:Northern Lights College
X-ORIGINAL-URL:https://www.nlc.bc.ca
X-WR-CALDESC:Events for Northern Lights College
REFRESH-INTERVAL;VALUE=DURATION:PT1H
X-Robots-Tag:noindex
X-PUBLISHED-TTL:PT1H
BEGIN:VTIMEZONE
TZID:America/Vancouver
BEGIN:DAYLIGHT
TZOFFSETFROM:-0800
TZOFFSETTO:-0700
TZNAME:PDT
DTSTART:20230312T100000
END:DAYLIGHT
BEGIN:STANDARD
TZOFFSETFROM:-0700
TZOFFSETTO:-0800
TZNAME:PST
DTSTART:20231105T090000
END:STANDARD
BEGIN:DAYLIGHT
TZOFFSETFROM:-0800
TZOFFSETTO:-0700
TZNAME:PDT
DTSTART:20240310T100000
END:DAYLIGHT
BEGIN:STANDARD
TZOFFSETFROM:-0700
TZOFFSETTO:-0800
TZNAME:PST
DTSTART:20241103T090000
END:STANDARD
BEGIN:DAYLIGHT
TZOFFSETFROM:-0800
TZOFFSETTO:-0700
TZNAME:PDT
DTSTART:20250309T100000
END:DAYLIGHT
BEGIN:STANDARD
TZOFFSETFROM:-0700
TZOFFSETTO:-0800
TZNAME:PST
DTSTART:20251102T090000
END:STANDARD
END:VTIMEZONE
BEGIN:VEVENT
DTSTART;TZID=America/Vancouver:20240307T140000
DTEND;TZID=America/Vancouver:20240307T150000
DTSTAMP:20260418T211138
CREATED:20240226T162920Z
LAST-MODIFIED:20240226T162920Z
UID:10001361-1709820000-1709823600@www.nlc.bc.ca
SUMMARY:Planning Your Course Registration - Online
DESCRIPTION:Learn how to plan your education with our Program Advisors \nIn this one hour Presentation you will learns: \n\nHow to navigate the registration process\nHow to select your courses\nAbout the program advisor services and when you should visit a program advisor\nOther FAQs about program advising and planning your education\n\nJoin the Teams Meeting Here \nTeams Meeting ID: 239 629 822 629 \nPasscode: a8ePYC \nhttps://teams.microsoft.com/l/meetup-join/19%3ameeting_YzgxZTc3OGMtMTExZC00NThmLTk0OGUtMzEwNjkyZjAwMDA0%40thread.v2/0?context=%7b%22Tid%22%3a%22bc442f33-a447-4f70-8d33-cd08cede5d6c%22%2c%22Oid%22%3a%220b63dfea-79c5-4f03-8168-6d46d88544e3%22%7d
URL:https://www.nlc.bc.ca/event/planning-your-course-registration-online/
LOCATION:Online\, Canada
ATTACH;FMTTYPE=image/jpeg:https://www.nlc.bc.ca/wp-content/uploads/Planning-Your-Course-Registation-e1708968538633.jpg
ORGANIZER;CN="Program Advising":MAILTO:advising@nlc.bc.ca
END:VEVENT
END:VCALENDAR