BEGIN:VCALENDAR
VERSION:2.0
PRODID:-//Northern Lights College - ECPv6.15.17.1//NONSGML v1.0//EN
CALSCALE:GREGORIAN
METHOD:PUBLISH
X-WR-CALNAME:Northern Lights College
X-ORIGINAL-URL:https://www.nlc.bc.ca
X-WR-CALDESC:Events for Northern Lights College
REFRESH-INTERVAL;VALUE=DURATION:PT1H
X-Robots-Tag:noindex
X-PUBLISHED-TTL:PT1H
BEGIN:VTIMEZONE
TZID:America/Vancouver
BEGIN:DAYLIGHT
TZOFFSETFROM:-0800
TZOFFSETTO:-0700
TZNAME:PDT
DTSTART:20230312T100000
END:DAYLIGHT
BEGIN:STANDARD
TZOFFSETFROM:-0700
TZOFFSETTO:-0800
TZNAME:PST
DTSTART:20231105T090000
END:STANDARD
BEGIN:DAYLIGHT
TZOFFSETFROM:-0800
TZOFFSETTO:-0700
TZNAME:PDT
DTSTART:20240310T100000
END:DAYLIGHT
BEGIN:STANDARD
TZOFFSETFROM:-0700
TZOFFSETTO:-0800
TZNAME:PST
DTSTART:20241103T090000
END:STANDARD
BEGIN:DAYLIGHT
TZOFFSETFROM:-0800
TZOFFSETTO:-0700
TZNAME:PDT
DTSTART:20250309T100000
END:DAYLIGHT
BEGIN:STANDARD
TZOFFSETFROM:-0700
TZOFFSETTO:-0800
TZNAME:PST
DTSTART:20251102T090000
END:STANDARD
END:VTIMEZONE
BEGIN:VEVENT
DTSTART;TZID=America/Vancouver:20240314T090000
DTEND;TZID=America/Vancouver:20240314T160000
DTSTAMP:20260418T211447
CREATED:20240305T213911Z
LAST-MODIFIED:20240305T213911Z
UID:10001449-1710406800-1710432000@www.nlc.bc.ca
SUMMARY:Reawakening our Language: A Gathering to Honour First Peoples Language Revitalization
DESCRIPTION:March 14–15\, 9am–4pm\nEverybody’s welcome to come join us in the Atrium of the Northern Lights College Campus in Fort St. John\, at 9820 120 Avenue \nRegister quickly\nFor any questions about registration\, email us at mcalvert@nlc.bc.ca\, or text 250-262-9621. \nFor more information on events\, see our flyer.
URL:https://www.nlc.bc.ca/event/reawakening-our-language-a-gathering-to-honour-first-peoples-language-revitalization/2024-03-14/
LOCATION:Fort St. John Campus\, 9820 - 120th Ave\, Fort St. John\, British Columbia\, V1J 8C3\, Canada
ATTACH;FMTTYPE=image/png:https://www.nlc.bc.ca/wp-content/uploads/reawakening-our-language.png
END:VEVENT
END:VCALENDAR