BEGIN:VCALENDAR
VERSION:2.0
PRODID:-//Northern Lights College - ECPv6.15.20//NONSGML v1.0//EN
CALSCALE:GREGORIAN
METHOD:PUBLISH
X-WR-CALNAME:Northern Lights College
X-ORIGINAL-URL:https://www.nlc.bc.ca
X-WR-CALDESC:Events for Northern Lights College
REFRESH-INTERVAL;VALUE=DURATION:PT1H
X-Robots-Tag:noindex
X-PUBLISHED-TTL:PT1H
BEGIN:VTIMEZONE
TZID:America/Vancouver
BEGIN:DAYLIGHT
TZOFFSETFROM:-0800
TZOFFSETTO:-0700
TZNAME:PDT
DTSTART:20240310T100000
END:DAYLIGHT
BEGIN:STANDARD
TZOFFSETFROM:-0700
TZOFFSETTO:-0800
TZNAME:PST
DTSTART:20241103T090000
END:STANDARD
BEGIN:DAYLIGHT
TZOFFSETFROM:-0800
TZOFFSETTO:-0700
TZNAME:PDT
DTSTART:20250309T100000
END:DAYLIGHT
BEGIN:STANDARD
TZOFFSETFROM:-0700
TZOFFSETTO:-0800
TZNAME:PST
DTSTART:20251102T090000
END:STANDARD
BEGIN:DAYLIGHT
TZOFFSETFROM:-0800
TZOFFSETTO:-0700
TZNAME:PDT
DTSTART:20260308T100000
END:DAYLIGHT
BEGIN:STANDARD
TZOFFSETFROM:-0700
TZOFFSETTO:-0800
TZNAME:PST
DTSTART:20261101T090000
END:STANDARD
END:VTIMEZONE
BEGIN:VTIMEZONE
TZID:America/Phoenix
BEGIN:STANDARD
TZOFFSETFROM:-0700
TZOFFSETTO:-0700
TZNAME:MST
DTSTART:20240101T000000
END:STANDARD
END:VTIMEZONE
BEGIN:VEVENT
DTSTART;VALUE=DATE:20250520
DTEND;VALUE=DATE:20250521
DTSTAMP:20260421T145735
CREATED:20240229T210149Z
LAST-MODIFIED:20240305T162030Z
UID:10001429-1747699200-1747785599@www.nlc.bc.ca
SUMMARY:End of Add/Drop Period Spring
DESCRIPTION:
URL:https://www.nlc.bc.ca/event/end-of-add-drop-period-spring-2/
CATEGORIES:Important Dates—Academic
END:VEVENT
BEGIN:VEVENT
DTSTART;TZID=America/Phoenix:20250520T120000
DTEND;TZID=America/Phoenix:20250520T130000
DTSTAMP:20260421T145735
CREATED:20250509T204450Z
LAST-MODIFIED:20250509T204736Z
UID:10002663-1747742400-1747746000@www.nlc.bc.ca
SUMMARY:Dawson Creek - Study Skills and Resilience
DESCRIPTION:Tools and Tips to maximize your learning potential
URL:https://www.nlc.bc.ca/event/study-skills-and-resilience/
LOCATION:Dawson Creek CCET\, 11401 8th street\, Dawson Creek\, BC\, V1G 4G2\, Canada
CATEGORIES:College Events
ORGANIZER;CN="Learning Support Services":MAILTO:learningsupport@nlc.bc.ca
END:VEVENT
END:VCALENDAR