BEGIN:VCALENDAR
VERSION:2.0
PRODID:-//Northern Lights College - ECPv6.15.20//NONSGML v1.0//EN
CALSCALE:GREGORIAN
METHOD:PUBLISH
X-WR-CALNAME:Northern Lights College
X-ORIGINAL-URL:https://www.nlc.bc.ca
X-WR-CALDESC:Events for Northern Lights College
REFRESH-INTERVAL;VALUE=DURATION:PT1H
X-Robots-Tag:noindex
X-PUBLISHED-TTL:PT1H
BEGIN:VTIMEZONE
TZID:America/Vancouver
BEGIN:DAYLIGHT
TZOFFSETFROM:-0800
TZOFFSETTO:-0700
TZNAME:PDT
DTSTART:20240310T100000
END:DAYLIGHT
BEGIN:STANDARD
TZOFFSETFROM:-0700
TZOFFSETTO:-0800
TZNAME:PST
DTSTART:20241103T090000
END:STANDARD
BEGIN:DAYLIGHT
TZOFFSETFROM:-0800
TZOFFSETTO:-0700
TZNAME:PDT
DTSTART:20250309T100000
END:DAYLIGHT
BEGIN:STANDARD
TZOFFSETFROM:-0700
TZOFFSETTO:-0800
TZNAME:PST
DTSTART:20251102T090000
END:STANDARD
BEGIN:DAYLIGHT
TZOFFSETFROM:-0800
TZOFFSETTO:-0700
TZNAME:PDT
DTSTART:20260308T100000
END:DAYLIGHT
BEGIN:STANDARD
TZOFFSETFROM:-0700
TZOFFSETTO:-0800
TZNAME:PST
DTSTART:20261101T090000
END:STANDARD
END:VTIMEZONE
BEGIN:VTIMEZONE
TZID:America/Phoenix
BEGIN:STANDARD
TZOFFSETFROM:-0700
TZOFFSETTO:-0700
TZNAME:MST
DTSTART:20240101T000000
END:STANDARD
END:VTIMEZONE
BEGIN:VEVENT
DTSTART;VALUE=DATE:20250602
DTEND;VALUE=DATE:20250603
DTSTAMP:20260421T133358
CREATED:20240229T210556Z
LAST-MODIFIED:20240305T162024Z
UID:10001431-1748822400-1748908799@www.nlc.bc.ca
SUMMARY:Last Day to withdraw Intersession
DESCRIPTION:
URL:https://www.nlc.bc.ca/event/last-day-to-withdraw-intersession-2/
CATEGORIES:Important Dates—Academic
END:VEVENT
BEGIN:VEVENT
DTSTART;TZID=America/Phoenix:20250602T093000
DTEND;TZID=America/Phoenix:20250602T103000
DTSTAMP:20260421T133358
CREATED:20250526T203215Z
LAST-MODIFIED:20250526T203238Z
UID:10002668-1748856600-1748860200@www.nlc.bc.ca
SUMMARY:Fort St. John Pride Flag Raising and Crosswalk Painting
DESCRIPTION:Monday June 2\, 9:30am \nShow your support at the flag raising\, then help paint the Pride crosswalk on campus!
URL:https://www.nlc.bc.ca/event/fort-st-john-pride-flag-raising-and-crosswalk-painting/
LOCATION:Fort St. John Campus\, 9820 - 120th Ave\, Fort St. John\, British Columbia\, V1J 8C3\, Canada
ATTACH;FMTTYPE=image/jpeg:https://www.nlc.bc.ca/wp-content/uploads/2025/05/dc-pride-25-e1748284327963.jpg
END:VEVENT
BEGIN:VEVENT
DTSTART;TZID=America/Phoenix:20250602T120000
DTEND;TZID=America/Phoenix:20250602T130000
DTSTAMP:20260421T133358
CREATED:20250526T183328Z
LAST-MODIFIED:20250526T203254Z
UID:10002666-1748865600-1748869200@www.nlc.bc.ca
SUMMARY:Dawson Creek Pride Flag Raising and Crosswalk Painting
DESCRIPTION:Join us as we raise the flag for Pride Month! \n12pm  •  June 2\, 2025 \nShow your support at the base of the flags in front of the Regional Administration building\, then help paint a Pride crosswalk on campus!
URL:https://www.nlc.bc.ca/event/pride-flag-raising-and-crosswalk-painting/
ATTACH;FMTTYPE=image/jpeg:https://www.nlc.bc.ca/wp-content/uploads/2025/05/dc-pride-25-e1748284327963.jpg
END:VEVENT
END:VCALENDAR