BEGIN:VCALENDAR
VERSION:2.0
PRODID:-//Northern Lights College - ECPv6.15.20//NONSGML v1.0//EN
CALSCALE:GREGORIAN
METHOD:PUBLISH
X-WR-CALNAME:Northern Lights College
X-ORIGINAL-URL:https://www.nlc.bc.ca
X-WR-CALDESC:Events for Northern Lights College
REFRESH-INTERVAL;VALUE=DURATION:PT1H
X-Robots-Tag:noindex
X-PUBLISHED-TTL:PT1H
BEGIN:VTIMEZONE
TZID:America/Phoenix
BEGIN:STANDARD
TZOFFSETFROM:-0700
TZOFFSETTO:-0700
TZNAME:MST
DTSTART:20240101T000000
END:STANDARD
END:VTIMEZONE
BEGIN:VEVENT
DTSTART;TZID=America/Phoenix:20250627T190000
DTEND;TZID=America/Phoenix:20250627T200000
DTSTAMP:20260421T133354
CREATED:20250613T205329Z
LAST-MODIFIED:20250613T205453Z
UID:10002669-1751050800-1751054400@www.nlc.bc.ca
SUMMARY:Knowledge Unleashed — Is there really a winner in a trade war?
DESCRIPTION:Join Issoufou Soumaila on June 27\, 2025\, at 7pm in the Fort St. John campus Atrium for his lecture: \nIs There Really a Winner in a Trade War?\nEconomists rarely agree on major economic issues\, but free trade is one of the few areas where there is broad consensus. Join Issoufou as he explores the recent trade wars initiated by the current U.S. administration and their implications for Canada.\nJoin in person or via teams at this link: https://tinyurl.com/yckb52f3\nDon’t forget\, light snacks and refreshments will be served! \nWe hope to see you there! 😊 \n 
URL:https://www.nlc.bc.ca/event/knowledge-unleashed-is-there-really-a-winner-in-a-trade-war/
LOCATION:Fort St John Atrium\, 9820 120th Ave\, Fort St. John\, BC\, V1J 8C3\, Canada
END:VEVENT
END:VCALENDAR