BEGIN:VCALENDAR
VERSION:2.0
PRODID:-//Northern Lights College - ECPv6.15.20//NONSGML v1.0//EN
CALSCALE:GREGORIAN
METHOD:PUBLISH
X-WR-CALNAME:Northern Lights College
X-ORIGINAL-URL:https://www.nlc.bc.ca
X-WR-CALDESC:Events for Northern Lights College
REFRESH-INTERVAL;VALUE=DURATION:PT1H
X-Robots-Tag:noindex
X-PUBLISHED-TTL:PT1H
BEGIN:VTIMEZONE
TZID:America/Phoenix
BEGIN:STANDARD
TZOFFSETFROM:-0700
TZOFFSETTO:-0700
TZNAME:MST
DTSTART:20240101T000000
END:STANDARD
END:VTIMEZONE
BEGIN:VEVENT
DTSTART;TZID=America/Phoenix:20250902T080000
DTEND;TZID=America/Phoenix:20250916T120000
DTSTAMP:20260421T093531
CREATED:20250813T224811Z
LAST-MODIFIED:20250813T224811Z
UID:10002927-1756800000-1758024000@www.nlc.bc.ca
SUMMARY:Student Governance Nominations
DESCRIPTION:Open for all NLC Campuses \nNominations include: \n\nNLCSA Student Council\nEducation Council\nBoard of Governors\n\nNomination forms can be found at nlc.bc.ca/student-governance/ \nFor more information contact nlcsa@nlc.bc.ca \n \n 
URL:https://www.nlc.bc.ca/event/student-governance-nominations/
END:VEVENT
BEGIN:VEVENT
DTSTART;TZID=America/Phoenix:20250911T114500
DTEND;TZID=America/Phoenix:20250911T131000
DTSTAMP:20260421T093531
CREATED:20250826T214144Z
LAST-MODIFIED:20250826T214144Z
UID:10002935-1757591100-1757596200@www.nlc.bc.ca
SUMMARY:Anti-Plagiarism in Action DC & FSJ
DESCRIPTION:Uncover the secrets of maintaining academic integrity. \nLearn effective strategies to prevent plagiarism in your academic work. \nThursday September 4\, Fort St. John – Atrium \nTuesday September 9\, Dawson Creek  – CCET \nThursday September 11\, Dawson Creek  – CCET\, AND Fort St John  Atrium
URL:https://www.nlc.bc.ca/event/anti-plagiarism-in-action-dc-fsj/
LOCATION:Dawson Creek CCET\, 11401 8th street\, Dawson Creek\, BC\, V1G 4G2\, Canada
CATEGORIES:College Events
ATTACH;FMTTYPE=image/jpeg:https://www.nlc.bc.ca/wp-content/uploads/2025/08/Anti-Plagiarism_Email.jpg
ORGANIZER;CN="Learning Support Services":MAILTO:learningsupport@nlc.bc.ca
END:VEVENT
BEGIN:VEVENT
DTSTART;TZID=America/Phoenix:20250911T170000
DTEND;TZID=America/Phoenix:20250911T220000
DTSTAMP:20260421T093531
CREATED:20250410T165602Z
LAST-MODIFIED:20251203T170545Z
UID:10002413-1757610000-1757628000@www.nlc.bc.ca
SUMMARY:NLC Pub Night — Dawson Creek
DESCRIPTION:Join us at the George Dawson Inn at the GDI Lounge every Thursday night!\nFood and drink specials and karaoke! \nNo cover charge
URL:https://www.nlc.bc.ca/event/nlc-pub-night/2025-09-11/
LOCATION:George Dawson Inn Lounge\, 11705 8th St\, Dawson Creek\, BC\, V1G 4N9\, Canada
CATEGORIES:College Events
END:VEVENT
BEGIN:VEVENT
DTSTART;TZID=America/Phoenix:20250911T180000
DTEND;TZID=America/Phoenix:20250911T200000
DTSTAMP:20260421T093531
CREATED:20250829T183625Z
LAST-MODIFIED:20250829T190948Z
UID:10003019-1757613600-1757620800@www.nlc.bc.ca
SUMMARY:DC Campus Thursday Drop-in Sports — Volleyball
DESCRIPTION:Come out and play Volleyball!\n*Drop-in sports are free and open to current students and staff of NLC\nFrom September 3\, 2025 to January 4\, 2026.\nNo drop-in sports during NLC holiday closures\, statutory holidays or during exams. \nDon’t see your sport? Suggest a sport or get more information. Contact Amber at sportdiscoverypeace@engagesportnorth.com or 250-784-3926
URL:https://www.nlc.bc.ca/event/dc-campus-monday-drop-in-sports-volleyball/2025-09-11/
LOCATION:NLC Dawson Creek Campus Gym\, 11401 8 Street\, Dawson Creek\, BC\, V1G 4G2\, Canada
CATEGORIES:College Events,Sports
ATTACH;FMTTYPE=image/jpeg:https://www.nlc.bc.ca/wp-content/uploads/2025/08/DC_dropin_sports-fall25.jpg
END:VEVENT
BEGIN:VEVENT
DTSTART;TZID=America/Phoenix:20250911T200000
DTEND;TZID=America/Phoenix:20250911T220000
DTSTAMP:20260421T093531
CREATED:20250829T185140Z
LAST-MODIFIED:20250829T185140Z
UID:10003035-1757620800-1757628000@www.nlc.bc.ca
SUMMARY:DC Campus Thursday Drop-in Sports — Futsal
DESCRIPTION:Come out and play Futsal!\n*Drop-in sports are free and open to current students and staff of NLC\nFrom September 3\, 2025 to January 4\, 2026.\nNo drop-in sports during NLC holiday closures\, statutory holidays or during exams. \nDon’t see your sport? Suggest a sport or get more information. Contact Amber at sportdiscoverypeace@engagesportnorth.com or 250-784-3926
URL:https://www.nlc.bc.ca/event/dc-campus-thursday-drop-in-sports-futsal/2025-09-11/
LOCATION:NLC Dawson Creek Campus Gym\, 11401 8 Street\, Dawson Creek\, BC\, V1G 4G2\, Canada
CATEGORIES:College Events,Sports
ATTACH;FMTTYPE=image/jpeg:https://www.nlc.bc.ca/wp-content/uploads/2025/08/DC_dropin_sports-fall25.jpg
END:VEVENT
END:VCALENDAR