BEGIN:VCALENDAR
VERSION:2.0
PRODID:-//Northern Lights College - ECPv6.15.20//NONSGML v1.0//EN
CALSCALE:GREGORIAN
METHOD:PUBLISH
X-WR-CALNAME:Northern Lights College
X-ORIGINAL-URL:https://www.nlc.bc.ca
X-WR-CALDESC:Events for Northern Lights College
REFRESH-INTERVAL;VALUE=DURATION:PT1H
X-Robots-Tag:noindex
X-PUBLISHED-TTL:PT1H
BEGIN:VTIMEZONE
TZID:America/Phoenix
BEGIN:STANDARD
TZOFFSETFROM:-0700
TZOFFSETTO:-0700
TZNAME:MST
DTSTART:20240101T000000
END:STANDARD
END:VTIMEZONE
BEGIN:VEVENT
DTSTART;TZID=America/Phoenix:20250902T080000
DTEND;TZID=America/Phoenix:20250916T120000
DTSTAMP:20260421T093530
CREATED:20250813T224811Z
LAST-MODIFIED:20250813T224811Z
UID:10002927-1756800000-1758024000@www.nlc.bc.ca
SUMMARY:Student Governance Nominations
DESCRIPTION:Open for all NLC Campuses \nNominations include: \n\nNLCSA Student Council\nEducation Council\nBoard of Governors\n\nNomination forms can be found at nlc.bc.ca/student-governance/ \nFor more information contact nlcsa@nlc.bc.ca \n \n 
URL:https://www.nlc.bc.ca/event/student-governance-nominations/
END:VEVENT
BEGIN:VEVENT
DTSTART;TZID=America/Phoenix:20250915T103000
DTEND;TZID=America/Phoenix:20250915T123000
DTSTAMP:20260421T093530
CREATED:20250908T223501Z
LAST-MODIFIED:20250908T223501Z
UID:10003147-1757932200-1757939400@www.nlc.bc.ca
SUMMARY:Drop-in D2L Help
DESCRIPTION:
URL:https://www.nlc.bc.ca/event/drop-in-d2l-help/
LOCATION:Dawson Creek Campus Main Entry\, 11401 8 Street\, Dawson Creek\, British Columbia\, V1G 4G2\, Canada
CATEGORIES:College Events
ATTACH;FMTTYPE=image/png:https://www.nlc.bc.ca/wp-content/uploads/2025/09/Drop-In-D2L-help-1667-x-625-px.png
ORGANIZER;CN="Learning Support Services":MAILTO:learningsupport@nlc.bc.ca
END:VEVENT
BEGIN:VEVENT
DTSTART;TZID=America/Phoenix:20250915T131500
DTEND;TZID=America/Phoenix:20250915T144000
DTSTAMP:20260421T093530
CREATED:20250826T215331Z
LAST-MODIFIED:20250826T215331Z
UID:10002938-1757942100-1757947200@www.nlc.bc.ca
SUMMARY:Introduction to APA Citation Style - Online
DESCRIPTION:New to APA style or need a refresher? \nThis workshop will cover the basics of APA 7th edition\, including formatting\, in-text citations\, and reference lists. \nWhether you’re writing your first paper or polishing up your skills\, you’ll leave with practical tools to make citing and formatting easier. \nThursday Sept 4\, Dawson Creek CCET \nTuesday September 9\, Fort St John Atrium \nMonday\, September 15\, Online via Teams https://tinyurl.com/bd4646xa \n\nMeeting ID 260 010 047 430 7\nPasscode uD7RJ9C8
URL:https://www.nlc.bc.ca/event/introduction-to-apa-citation-style-online/
LOCATION:Online\, Canada
CATEGORIES:College Events
ATTACH;FMTTYPE=image/jpeg:https://www.nlc.bc.ca/wp-content/uploads/2025/08/Intro-to-APA_Email.jpg
END:VEVENT
BEGIN:VEVENT
DTSTART;TZID=America/Phoenix:20250915T180000
DTEND;TZID=America/Phoenix:20250915T200000
DTSTAMP:20260421T093530
CREATED:20250829T181758Z
LAST-MODIFIED:20250829T184612Z
UID:10002970-1757959200-1757966400@www.nlc.bc.ca
SUMMARY:DC Campus Monday Drop-in Sports — Badminton
DESCRIPTION:Come out and play Badminton!\n*Drop-in sports are free and open to current students and staff of NLC\nFrom September 3\, 2025 to January 4\, 2026.\nNo drop-in sports during NLC holiday closures\, statutory holidays or during exams. \nDon’t see your sport? Suggest a sport or get more information. Contact Amber at sportdiscoverypeace@engagesportnorth.com or 250-784-3926
URL:https://www.nlc.bc.ca/event/dc-campus-monday-drop-in-sports-badminton/2025-09-15/
LOCATION:NLC Dawson Creek Campus Gym\, 11401 8 Street\, Dawson Creek\, BC\, V1G 4G2\, Canada
CATEGORIES:College Events,Sports
ATTACH;FMTTYPE=image/jpeg:https://www.nlc.bc.ca/wp-content/uploads/2025/08/DC_dropin_sports-fall25.jpg
END:VEVENT
BEGIN:VEVENT
DTSTART;TZID=America/Phoenix:20250915T180000
DTEND;TZID=America/Phoenix:20250915T200000
DTSTAMP:20260421T093530
CREATED:20250902T175039Z
LAST-MODIFIED:20250902T175039Z
UID:10003098-1757959200-1757966400@www.nlc.bc.ca
SUMMARY:FSJ Drop-In Sports - Futsal
DESCRIPTION:What is futsal you ask? It’s a  fast-paced\, indoor variation of soccer played indoors. \nIt emphasizes quick passes\, skill\, and close ball control. \nJoin us Mondays from 6-8 pm at Bert Ambrose School to give it a try. \nFor current students and NLC staff only.
URL:https://www.nlc.bc.ca/event/fsj-drop-in-sports-futsal/2025-09-15/
LOCATION:Bert Ambrose School Gymnasium\, 9616 115 Ave\, Fort St John\, BC\, V1J 2Y1\, Canada
CATEGORIES:College Events,Sports
ORGANIZER;CN="Student Life":MAILTO:studentlife@nlc.bc.ca
END:VEVENT
BEGIN:VEVENT
DTSTART;TZID=America/Phoenix:20250915T200000
DTEND;TZID=America/Phoenix:20250915T220000
DTSTAMP:20260421T093530
CREATED:20250902T175433Z
LAST-MODIFIED:20250902T175433Z
UID:10003112-1757966400-1757973600@www.nlc.bc.ca
SUMMARY:FSJ Drop-In Sports - Basketball
DESCRIPTION:Mondays 8-10 pm at Bert Ambrose School. \nFor current NLC students and staff only.
URL:https://www.nlc.bc.ca/event/fsj-drop-in-sports-basketball/2025-09-15/
LOCATION:Bert Ambrose School Gymnasium\, 9616 115 Ave\, Fort St John\, BC\, V1J 2Y1\, Canada
CATEGORIES:College Events,Sports
ORGANIZER;CN="Student Life":MAILTO:studentlife@nlc.bc.ca
END:VEVENT
END:VCALENDAR