BEGIN:VCALENDAR
VERSION:2.0
PRODID:-//Northern Lights College - ECPv6.15.20//NONSGML v1.0//EN
CALSCALE:GREGORIAN
METHOD:PUBLISH
X-WR-CALNAME:Northern Lights College
X-ORIGINAL-URL:https://www.nlc.bc.ca
X-WR-CALDESC:Events for Northern Lights College
REFRESH-INTERVAL;VALUE=DURATION:PT1H
X-Robots-Tag:noindex
X-PUBLISHED-TTL:PT1H
BEGIN:VTIMEZONE
TZID:America/Phoenix
BEGIN:STANDARD
TZOFFSETFROM:-0700
TZOFFSETTO:-0700
TZNAME:MST
DTSTART:20240101T000000
END:STANDARD
END:VTIMEZONE
BEGIN:VEVENT
DTSTART;TZID=America/Phoenix:20250917T110000
DTEND;TZID=America/Phoenix:20250917T140000
DTSTAMP:20260421T093534
CREATED:20250710T214910Z
LAST-MODIFIED:20250710T214910Z
UID:10002921-1758106800-1758117600@www.nlc.bc.ca
SUMMARY:Community Fair Dawson Creek
DESCRIPTION:Students are invited to this FREE event to see what their community has to offer!\nLocal businesses\, services and community groups will be set up and ready to show students how great this community is!\nStudents — fill out “passports” to earn entries for prizes!
URL:https://www.nlc.bc.ca/event/community-fair-dawson-creek-2/
LOCATION:Dawson Creek Main Campus Foyer\, 11401 8 Street\, Dawson Creek\, British Columbia\, V1G 4G2\, Canada
CATEGORIES:College Events
END:VEVENT
BEGIN:VEVENT
DTSTART;TZID=America/Phoenix:20250917T180000
DTEND;TZID=America/Phoenix:20250917T200000
DTSTAMP:20260421T093534
CREATED:20250829T184358Z
LAST-MODIFIED:20250829T184453Z
UID:10003003-1758132000-1758139200@www.nlc.bc.ca
SUMMARY:DC Campus Wednesday Drop-in Sports — Basketball
DESCRIPTION:Come out and play Basketball!\n*Drop-in sports are free and open to current students and staff of NLC\nFrom September 3\, 2025 to January 4\, 2026.\nNo drop-in sports during NLC holiday closures\, statutory holidays or during exams. \nDon’t see your sport? Suggest a sport or get more information. Contact Amber at sportdiscoverypeace@engagesportnorth.com or 250-784-3926
URL:https://www.nlc.bc.ca/event/dc-campus-monday-drop-in-sports-basketball/2025-09-17/
LOCATION:NLC Dawson Creek Campus Gym\, 11401 8 Street\, Dawson Creek\, BC\, V1G 4G2\, Canada
CATEGORIES:College Events,Sports
ATTACH;FMTTYPE=image/jpeg:https://www.nlc.bc.ca/wp-content/uploads/2025/08/DC_dropin_sports-fall25.jpg
END:VEVENT
END:VCALENDAR