BEGIN:VCALENDAR
VERSION:2.0
PRODID:-//Northern Lights College - ECPv6.15.17.1//NONSGML v1.0//EN
CALSCALE:GREGORIAN
METHOD:PUBLISH
X-WR-CALNAME:Northern Lights College
X-ORIGINAL-URL:https://www.nlc.bc.ca
X-WR-CALDESC:Events for Northern Lights College
REFRESH-INTERVAL;VALUE=DURATION:PT1H
X-Robots-Tag:noindex
X-PUBLISHED-TTL:PT1H
BEGIN:VTIMEZONE
TZID:America/Vancouver
BEGIN:DAYLIGHT
TZOFFSETFROM:-0800
TZOFFSETTO:-0700
TZNAME:PDT
DTSTART:20230312T100000
END:DAYLIGHT
BEGIN:STANDARD
TZOFFSETFROM:-0700
TZOFFSETTO:-0800
TZNAME:PST
DTSTART:20231105T090000
END:STANDARD
BEGIN:DAYLIGHT
TZOFFSETFROM:-0800
TZOFFSETTO:-0700
TZNAME:PDT
DTSTART:20240310T100000
END:DAYLIGHT
BEGIN:STANDARD
TZOFFSETFROM:-0700
TZOFFSETTO:-0800
TZNAME:PST
DTSTART:20241103T090000
END:STANDARD
BEGIN:DAYLIGHT
TZOFFSETFROM:-0800
TZOFFSETTO:-0700
TZNAME:PDT
DTSTART:20250309T100000
END:DAYLIGHT
BEGIN:STANDARD
TZOFFSETFROM:-0700
TZOFFSETTO:-0800
TZNAME:PST
DTSTART:20251102T090000
END:STANDARD
END:VTIMEZONE
BEGIN:VEVENT
DTSTART;TZID=America/Vancouver:20240102T133000
DTEND;TZID=America/Vancouver:20240102T143000
DTSTAMP:20260419T094528
CREATED:20231221T195122Z
LAST-MODIFIED:20231221T195122Z
UID:10001321-1704202200-1704205800@www.nlc.bc.ca
SUMMARY:Workshop: Intro to D2L and Teams
DESCRIPTION:D2L is NLC’s online learning platform. \nLearn how to access your course materials\, assignments\, and discussions\, and monitor your grades!
URL:https://www.nlc.bc.ca/event/workshop-intro-to-d2l-and-teams/
LOCATION:Dawson Creek Campus\, 11401 8th St\, Dawson Creek\, British Columbia\, V1G 4G2\, Canada
CATEGORIES:College Events
ORGANIZER;CN="Learning Support Services":MAILTO:learningsupport@nlc.bc.ca
END:VEVENT
BEGIN:VEVENT
DTSTART;TZID=America/Vancouver:20240102T133000
DTEND;TZID=America/Vancouver:20240102T143000
DTSTAMP:20260419T094528
CREATED:20231221T195611Z
LAST-MODIFIED:20231221T195611Z
UID:10001323-1704202200-1704205800@www.nlc.bc.ca
SUMMARY:Workshop: Intro to D2L and Teams
DESCRIPTION:D2L is NLC’s online learning platform. \nLearn how to access your course materials\, assignments\, and discussions and monitor your grades!
URL:https://www.nlc.bc.ca/event/workshop-intro-to-d2l-and-teams-3/
LOCATION:Fort St. John Campus\, 9820 - 120th Ave\, Fort St. John\, British Columbia\, V1J 8C3\, Canada
CATEGORIES:College Events
ORGANIZER;CN="Learning Support Services":MAILTO:learningsupport@nlc.bc.ca
END:VEVENT
BEGIN:VEVENT
DTSTART;TZID=America/Vancouver:20240103T133000
DTEND;TZID=America/Vancouver:20240103T143000
DTSTAMP:20260419T094528
CREATED:20231221T200713Z
LAST-MODIFIED:20231221T200713Z
UID:10001325-1704288600-1704292200@www.nlc.bc.ca
SUMMARY:Workshop: Anti-Plagiarism in Action
DESCRIPTION:Uncover the secrets of maintaining academic integrity! \nJoin our Anti-Plagiarism in Action workshop and learn effective strategies to prevent plagiarism in your academic work. \n*Snacks will be provided
URL:https://www.nlc.bc.ca/event/workshop-anti-plagiarism-in-action/2024-01-03/
LOCATION:Dawson Creek Campus\, 11401 8th St\, Dawson Creek\, British Columbia\, V1G 4G2\, Canada
CATEGORIES:College Events
ORGANIZER;CN="Learning Support Services":MAILTO:learningsupport@nlc.bc.ca
END:VEVENT
BEGIN:VEVENT
DTSTART;TZID=America/Vancouver:20240103T150000
DTEND;TZID=America/Vancouver:20240103T160000
DTSTAMP:20260419T094528
CREATED:20231221T200936Z
LAST-MODIFIED:20231221T200936Z
UID:10001327-1704294000-1704297600@www.nlc.bc.ca
SUMMARY:Workshop: Anti-Plagiarism in Action
DESCRIPTION:Uncover the secrets of maintaining academic integrity! \nJoin our Anti-Plagiarism in Action workshop and learn effective strategies to prevent plagiarism in your academic work. \n*Free snacks will be provided
URL:https://www.nlc.bc.ca/event/workshop-anti-plagiarism-in-action-2/2024-01-03/
LOCATION:Fort St. John Campus\, 9820 - 120th Ave\, Fort St. John\, British Columbia\, V1J 8C3\, Canada
CATEGORIES:College Events
ORGANIZER;CN="Learning Support Services":MAILTO:learningsupport@nlc.bc.ca
END:VEVENT
BEGIN:VEVENT
DTSTART;TZID=America/Vancouver:20240108T173000
DTEND;TZID=America/Vancouver:20240108T183000
DTSTAMP:20260419T094528
CREATED:20231221T202306Z
LAST-MODIFIED:20231221T202306Z
UID:10001331-1704735000-1704738600@www.nlc.bc.ca
SUMMARY:Workshop: Navigating Online Courses
DESCRIPTION:Link coming soon. \nNavigate the virtual learning environment with ease. \nThis workshop offers you tools and tricks to help you achieve success in your online classes.
URL:https://www.nlc.bc.ca/event/workshop-navigating-online-courses/
LOCATION:Online\, Canada
CATEGORIES:College Events
ORGANIZER;CN="Learning Support Services":MAILTO:learningsupport@nlc.bc.ca
END:VEVENT
BEGIN:VEVENT
DTSTART;TZID=America/Vancouver:20240109T114500
DTEND;TZID=America/Vancouver:20240109T131500
DTSTAMP:20260419T094528
CREATED:20231221T201819Z
LAST-MODIFIED:20231221T201819Z
UID:10001330-1704800700-1704806100@www.nlc.bc.ca
SUMMARY:Workshop: Intro to APA Citation Style
DESCRIPTION:Unlock the key to proper citation and formatting in our Introduction to APA workshop. \nEnsure your assignments follow the APA style for a polished and professional presentation. \n*Free lunch provided!
URL:https://www.nlc.bc.ca/event/workshop-intro-to-apa-citation-style/
LOCATION:Fort St. John Campus\, 9820 - 120th Ave\, Fort St. John\, British Columbia\, V1J 8C3\, Canada
CATEGORIES:College Events
ORGANIZER;CN="Learning Support Services":MAILTO:learningsupport@nlc.bc.ca
END:VEVENT
BEGIN:VEVENT
DTSTART;TZID=America/Vancouver:20240110T101500
DTEND;TZID=America/Vancouver:20240110T114500
DTSTAMP:20260419T094528
CREATED:20231221T201251Z
LAST-MODIFIED:20240109T220422Z
UID:10001329-1704881700-1704887100@www.nlc.bc.ca
SUMMARY:*Now online* Workshop: Intro to APA Style
DESCRIPTION:Unlock the key to proper citation and formatting in our Introduction to APA workshop. \nEnsure your assignments follow the APA style for a polished and professional presentation. \nMicrosoft Teams meeting \nJoin on your computer\, mobile app or room device \nClick here to join the meeting \nMeeting ID: 252 465 103 54\nPasscode: 2p2HCu \nDownload Teams | Join on the web \nJoin with a video conferencing device \n783821700@t.plcm.vc \nVideo Conference ID: 119 837 825 0 \nAlternate VTC instructions \nOr call in (audio only) \n+1 437-703-5279\,\,694269096#   Canada\, Toronto \n(855) 688-6048\,\,694269096#   Canada (Toll-free) \nPhone Conference ID: 694 269 096# \nFind a local number | Reset PIN \nLearn More | Meeting options
URL:https://www.nlc.bc.ca/event/workshop-intro-to-apa-style/
LOCATION:Online\, Canada
CATEGORIES:College Events
ORGANIZER;CN="Learning Support Services":MAILTO:learningsupport@nlc.bc.ca
END:VEVENT
BEGIN:VEVENT
DTSTART;TZID=America/Vancouver:20240111T120000
DTEND;TZID=America/Vancouver:20240111T130000
DTSTAMP:20260419T094528
CREATED:20231221T195353Z
LAST-MODIFIED:20231221T195353Z
UID:10001322-1704974400-1704978000@www.nlc.bc.ca
SUMMARY:Workshop: Intro to D2L and Teams
DESCRIPTION:D2L is NLC’s online learning platform. \nLearn how to access your course materials\, assignments\, and discussions\, and monitor your grades! \n*Free lunch provided!
URL:https://www.nlc.bc.ca/event/workshop-intro-to-d2l-and-teams-2/
LOCATION:Dawson Creek Campus\, 11401 8th St\, Dawson Creek\, British Columbia\, V1G 4G2\, Canada
CATEGORIES:College Events
ORGANIZER;CN="Learning Support Services":MAILTO:learningsupport@nlc.bc.ca
END:VEVENT
BEGIN:VEVENT
DTSTART;TZID=America/Vancouver:20240111T120000
DTEND;TZID=America/Vancouver:20240111T130000
DTSTAMP:20260419T094528
CREATED:20231221T195821Z
LAST-MODIFIED:20231221T195821Z
UID:10001324-1704974400-1704978000@www.nlc.bc.ca
SUMMARY:Workshop: Intro to D2L and Teams
DESCRIPTION:D2L is NLC’s online learning platform. \nLearn how to access your course materials\, assignments\, and discussions and monitor your grades! \n*Free lunch provided!
URL:https://www.nlc.bc.ca/event/workshop-intro-to-d2l-and-teams-4/
LOCATION:Fort St. John Campus\, 9820 - 120th Ave\, Fort St. John\, British Columbia\, V1J 8C3\, Canada
CATEGORIES:College Events
ORGANIZER;CN="Learning Support Services":MAILTO:learningsupport@nlc.bc.ca
END:VEVENT
BEGIN:VEVENT
DTSTART;TZID=America/Vancouver:20240112T103000
DTEND;TZID=America/Vancouver:20240112T113000
DTSTAMP:20260419T094528
CREATED:20231221T200936Z
LAST-MODIFIED:20231221T200936Z
UID:10001328-1705055400-1705059000@www.nlc.bc.ca
SUMMARY:Workshop: Anti-Plagiarism in Action
DESCRIPTION:Uncover the secrets of maintaining academic integrity! \nJoin our Anti-Plagiarism in Action workshop and learn effective strategies to prevent plagiarism in your academic work. \n*Free snacks will be provided
URL:https://www.nlc.bc.ca/event/workshop-anti-plagiarism-in-action-2/2024-01-12/
LOCATION:Fort St. John Campus\, 9820 - 120th Ave\, Fort St. John\, British Columbia\, V1J 8C3\, Canada
CATEGORIES:College Events
ORGANIZER;CN="Learning Support Services":MAILTO:learningsupport@nlc.bc.ca
END:VEVENT
BEGIN:VEVENT
DTSTART;TZID=America/Vancouver:20240112T103000
DTEND;TZID=America/Vancouver:20240112T233000
DTSTAMP:20260419T094528
CREATED:20231221T200713Z
LAST-MODIFIED:20231221T200713Z
UID:10001326-1705055400-1705102200@www.nlc.bc.ca
SUMMARY:Workshop: Anti-Plagiarism in Action
DESCRIPTION:Uncover the secrets of maintaining academic integrity! \nJoin our Anti-Plagiarism in Action workshop and learn effective strategies to prevent plagiarism in your academic work. \n*Snacks will be provided
URL:https://www.nlc.bc.ca/event/workshop-anti-plagiarism-in-action/2024-01-12/
LOCATION:Dawson Creek Campus\, 11401 8th St\, Dawson Creek\, British Columbia\, V1G 4G2\, Canada
CATEGORIES:College Events
ORGANIZER;CN="Learning Support Services":MAILTO:learningsupport@nlc.bc.ca
END:VEVENT
BEGIN:VEVENT
DTSTART;TZID=America/Vancouver:20240122T120000
DTEND;TZID=America/Vancouver:20240122T133000
DTSTAMP:20260419T094528
CREATED:20240122T152856Z
LAST-MODIFIED:20240122T161716Z
UID:10001338-1705924800-1705930200@www.nlc.bc.ca
SUMMARY:Welcome Feast  — Clarence Apsassin\, Elder in Residence Fort. St. John
DESCRIPTION:Elder Clarence Apsassin from Blueberry River First Nation will be in Residence at the FSJ campus January 22–25\, and January 29–February 1\, 2024. \nCome on down to the Indigenous Gathering Space at noon and join us for his Welcome Feast\, followed by story telling at 2pm. \nThese events are open to staff\, students\, and the community and are free to attend. \nWe are grateful and honoured to have Clarence share his teachings with us. \n 
URL:https://www.nlc.bc.ca/event/welcome-feast-clarence-apsassin-elder-in-residence/
LOCATION:Fort St. John Campus\, 9820 - 120th Ave\, Fort St. John\, British Columbia\, V1J 8C3\, Canada
CATEGORIES:College Events
ATTACH;FMTTYPE=image/jpeg:https://www.nlc.bc.ca/wp-content/uploads/clarence_apsassin-scaled.jpg
END:VEVENT
BEGIN:VEVENT
DTSTART;TZID=America/Vancouver:20240124T120000
DTEND;TZID=America/Vancouver:20240124T120000
DTSTAMP:20260419T094528
CREATED:20240122T151430Z
LAST-MODIFIED:20240326T220036Z
UID:10001336-1706097600-1706097600@www.nlc.bc.ca
SUMMARY:Astum! Teachings with Soup and Bannock
DESCRIPTION:Dawson Creek Campus’ Indigenous Gathering Space with Della Owens\, Elder in Residence
URL:https://www.nlc.bc.ca/event/astum-teachings-with-soup-and-bannock-4/
CATEGORIES:College Events
ATTACH;FMTTYPE=image/png:https://www.nlc.bc.ca/wp-content/uploads/Della_Owens_Astum.png
END:VEVENT
BEGIN:VEVENT
DTSTART;TZID=America/Vancouver:20240125T113000
DTEND;TZID=America/Vancouver:20240125T130000
DTSTAMP:20260419T094528
CREATED:20240104T211200Z
LAST-MODIFIED:20240104T211200Z
UID:10001332-1706182200-1706187600@www.nlc.bc.ca
SUMMARY:Free chili and a bun for staff and students!
DESCRIPTION:Baby it’s cold outside! So why not warm up with free chili and a bun? \nSponsored by Student Life and DC Student Council and prepared by our Culinary students in partnership with the North Star Grill. \nEveryone must present their staff or student ID to get their chili. \n 
URL:https://www.nlc.bc.ca/event/free-chili-and-a-bun-for-staff-and-students/
LOCATION:Dawson Creek Campus\, 11401 8th St\, Dawson Creek\, British Columbia\, V1G 4G2\, Canada
CATEGORIES:College Events
ORGANIZER;CN="Student Life":MAILTO:studentlife@nlc.bc.ca
END:VEVENT
END:VCALENDAR