BEGIN:VCALENDAR
VERSION:2.0
PRODID:-//Northern Lights College - ECPv6.15.17.1//NONSGML v1.0//EN
CALSCALE:GREGORIAN
METHOD:PUBLISH
X-ORIGINAL-URL:https://www.nlc.bc.ca
X-WR-CALDESC:Events for Northern Lights College
REFRESH-INTERVAL;VALUE=DURATION:PT1H
X-Robots-Tag:noindex
X-PUBLISHED-TTL:PT1H
BEGIN:VTIMEZONE
TZID:America/Phoenix
BEGIN:STANDARD
TZOFFSETFROM:-0700
TZOFFSETTO:-0700
TZNAME:MST
DTSTART:20240101T000000
END:STANDARD
END:VTIMEZONE
BEGIN:VEVENT
DTSTART;TZID=America/Phoenix:20250402T160000
DTEND;TZID=America/Phoenix:20250402T180000
DTSTAMP:20260420T133301
CREATED:20250310T215250Z
LAST-MODIFIED:20250310T215250Z
UID:10002379-1743609600-1743616800@www.nlc.bc.ca
SUMMARY:Hit the Books!
DESCRIPTION:Wednesday\, April 2\n4–6pm \nCampus Libraries\, Dawson Creek and Fort St. John \nBring your study material\, invite your friends\, and join us for a social and study event.\nFree snacks and drinks. Tutors available.
URL:https://www.nlc.bc.ca/event/hit-the-books-3/
CATEGORIES:College Events
ATTACH;FMTTYPE=image/jpeg:https://www.nlc.bc.ca/wp-content/uploads/2025/03/Hit_the_books-scaled.jpg
END:VEVENT
BEGIN:VEVENT
DTSTART;TZID=America/Phoenix:20250410T170000
DTEND;TZID=America/Phoenix:20250410T220000
DTSTAMP:20260420T133301
CREATED:20250410T165602Z
LAST-MODIFIED:20251203T170545Z
UID:10002391-1744304400-1744322400@www.nlc.bc.ca
SUMMARY:NLC Pub Night — Dawson Creek
DESCRIPTION:Join us at the George Dawson Inn at the GDI Lounge every Thursday night!\nFood and drink specials and karaoke! \nNo cover charge
URL:https://www.nlc.bc.ca/event/nlc-pub-night/2025-04-10/
LOCATION:George Dawson Inn Lounge\, 11705 8th St\, Dawson Creek\, BC\, V1G 4N9\, Canada
CATEGORIES:College Events
END:VEVENT
BEGIN:VEVENT
DTSTART;TZID=America/Phoenix:20250417T170000
DTEND;TZID=America/Phoenix:20250417T220000
DTSTAMP:20260420T133301
CREATED:20250410T165602Z
LAST-MODIFIED:20251203T170545Z
UID:10002392-1744909200-1744927200@www.nlc.bc.ca
SUMMARY:NLC Pub Night — Dawson Creek
DESCRIPTION:Join us at the George Dawson Inn at the GDI Lounge every Thursday night!\nFood and drink specials and karaoke! \nNo cover charge
URL:https://www.nlc.bc.ca/event/nlc-pub-night/2025-04-17/
LOCATION:George Dawson Inn Lounge\, 11705 8th St\, Dawson Creek\, BC\, V1G 4N9\, Canada
CATEGORIES:College Events
END:VEVENT
BEGIN:VEVENT
DTSTART;TZID=America/Phoenix:20250423T170000
DTEND;TZID=America/Phoenix:20250423T210000
DTSTAMP:20260420T133301
CREATED:20250409T230930Z
LAST-MODIFIED:20250409T230930Z
UID:10002389-1745427600-1745442000@www.nlc.bc.ca
SUMMARY:Canadian College Rodeo Finals Rodeo Team send off
DESCRIPTION:Fort St. John Students!\nGrab your hat and boots\, and hop on the bus to send our Rodeo Team off to finals!\nThere will be food and fun\, and good vibes for the team.\n(You’ll get a tour of the DC Campus too!) \nThe bus will leave Fort St. John at 3pm and return at 10pm.
URL:https://www.nlc.bc.ca/event/canadian-college-rodeo-finals-rodeo-team-send-off/
LOCATION:Dawson Creek Campus Trades Training Centre\, 11401 8 Street\, Dawson Creek\, British Columbia\, V1G 4G2\, Canada
CATEGORIES:College Events,Rodeo
ATTACH;FMTTYPE=image/jpeg:https://www.nlc.bc.ca/wp-content/uploads/2025/04/Rodeo_Bus_Trip_FSJ_Calendar_2025.jpg
END:VEVENT
BEGIN:VEVENT
DTSTART;TZID=America/Phoenix:20250424T110000
DTEND;TZID=America/Phoenix:20250424T120000
DTSTAMP:20260420T133301
CREATED:20250416T185244Z
LAST-MODIFIED:20250422T232236Z
UID:10002654-1745492400-1745496000@www.nlc.bc.ca
SUMMARY:Budgeting for College Students
DESCRIPTION:Struggling to make your money last?  \nJoin NLC’s Financial Aid Officer Harsimar Kaur for  a hands-on workshop where you’ll learn how to: \n\n build a simple budget\, \nmanage your spending\, \nand feel more in control of your finances.\n\nThe workshop will be held in Tumbler Ridge (Room 111)\, and will be video conferenced for: \n\nDawson Creek (Room 115)\nFort St. John (Room 1806)\nFort Nelson (Room 131)\n\n 
URL:https://www.nlc.bc.ca/event/budgeting-for-college-students/
LOCATION:Tumbler Ridge Campus\, 180 Southgate St\,\, Tumbler Ridge\, BC\, V0C 0B3\, Canada
CATEGORIES:College Events,Webinar
ATTACH;FMTTYPE=image/jpeg:https://www.nlc.bc.ca/wp-content/uploads/2025/04/Budgeting-for-College-Students_Calendar-1.jpg
ORGANIZER;CN="Learning Support Services":MAILTO:learningsupport@nlc.bc.ca
END:VEVENT
BEGIN:VEVENT
DTSTART;TZID=America/Phoenix:20250424T170000
DTEND;TZID=America/Phoenix:20250424T220000
DTSTAMP:20260420T133301
CREATED:20250410T165602Z
LAST-MODIFIED:20251203T170545Z
UID:10002393-1745514000-1745532000@www.nlc.bc.ca
SUMMARY:NLC Pub Night — Dawson Creek
DESCRIPTION:Join us at the George Dawson Inn at the GDI Lounge every Thursday night!\nFood and drink specials and karaoke! \nNo cover charge
URL:https://www.nlc.bc.ca/event/nlc-pub-night/2025-04-24/
LOCATION:George Dawson Inn Lounge\, 11705 8th St\, Dawson Creek\, BC\, V1G 4N9\, Canada
CATEGORIES:College Events
END:VEVENT
BEGIN:VEVENT
DTSTART;TZID=America/Phoenix:20250429T120000
DTEND;TZID=America/Phoenix:20250429T150000
DTSTAMP:20260420T133301
CREATED:20250412T000941Z
LAST-MODIFIED:20250412T000941Z
UID:10002653-1745928000-1745938800@www.nlc.bc.ca
SUMMARY:Fort St. John Student Council — Spring  Garage Sale
DESCRIPTION:NLC Spring Garage Sale \nApril 29 • 12pm to 3pm\nFSJ Campus Atrium \nIt’s time to declutter and celebrate the end of the semester!  \nSell your unused items\, find great deals\, and enjoy a fun\, festive atmosphere with your fellow students.\nExpect refreshments and live music. \nReserve Your Table for $10 (cash only) email: fsj-studentcouncil@students.nlc.bc.ca
URL:https://www.nlc.bc.ca/event/fort-st-john-student-council-spring-garage-sale/
LOCATION:Fort St. John Atrium\, Canada
CATEGORIES:College Events
END:VEVENT
BEGIN:VEVENT
DTSTART;TZID=America/Phoenix:20250430T120000
DTEND;TZID=America/Phoenix:20250430T123000
DTSTAMP:20260420T133301
CREATED:20250312T225723Z
LAST-MODIFIED:20250429T173049Z
UID:10002384-1746014400-1746016200@www.nlc.bc.ca
SUMMARY:Criminology — Webinar
DESCRIPTION:April 30\, 2025\n12pm \nRegister: https://nlc-bc-ca.zoom.us/webinar/register/WN_HV41NF36TaO72THyNr-CCA
URL:https://www.nlc.bc.ca/event/criminology-webinar/
CATEGORIES:College Events,Webinar
ATTACH;FMTTYPE=image/jpeg:https://www.nlc.bc.ca/wp-content/uploads/2025/03/criminology-e1741820451686.jpg
END:VEVENT
END:VCALENDAR