BEGIN:VCALENDAR
VERSION:2.0
PRODID:-//Northern Lights College - ECPv6.15.17.1//NONSGML v1.0//EN
CALSCALE:GREGORIAN
METHOD:PUBLISH
X-ORIGINAL-URL:https://www.nlc.bc.ca
X-WR-CALDESC:Events for Northern Lights College
REFRESH-INTERVAL;VALUE=DURATION:PT1H
X-Robots-Tag:noindex
X-PUBLISHED-TTL:PT1H
BEGIN:VTIMEZONE
TZID:America/Vancouver
BEGIN:DAYLIGHT
TZOFFSETFROM:-0800
TZOFFSETTO:-0700
TZNAME:PDT
DTSTART:20220313T100000
END:DAYLIGHT
BEGIN:STANDARD
TZOFFSETFROM:-0700
TZOFFSETTO:-0800
TZNAME:PST
DTSTART:20221106T090000
END:STANDARD
BEGIN:DAYLIGHT
TZOFFSETFROM:-0800
TZOFFSETTO:-0700
TZNAME:PDT
DTSTART:20230312T100000
END:DAYLIGHT
BEGIN:STANDARD
TZOFFSETFROM:-0700
TZOFFSETTO:-0800
TZNAME:PST
DTSTART:20231105T090000
END:STANDARD
BEGIN:DAYLIGHT
TZOFFSETFROM:-0800
TZOFFSETTO:-0700
TZNAME:PDT
DTSTART:20240310T100000
END:DAYLIGHT
BEGIN:STANDARD
TZOFFSETFROM:-0700
TZOFFSETTO:-0800
TZNAME:PST
DTSTART:20241103T090000
END:STANDARD
END:VTIMEZONE
BEGIN:VEVENT
DTSTART;TZID=America/Vancouver:20231104T100000
DTEND;TZID=America/Vancouver:20231104T140000
DTSTAMP:20260419T153800
CREATED:20230821T203354Z
LAST-MODIFIED:20231004T183538Z
UID:10001261-1699092000-1699106400@www.nlc.bc.ca
SUMMARY:Dawson Creek Open House
DESCRIPTION:
URL:https://www.nlc.bc.ca/event/dawson-creek-open-house/
LOCATION:Dawson Creek Campus\, 11401 8th St\, Dawson Creek\, British Columbia\, V1G 4G2\, Canada
CATEGORIES:College Events
END:VEVENT
BEGIN:VEVENT
DTSTART;TZID=America/Vancouver:20231104T100000
DTEND;TZID=America/Vancouver:20231104T140000
DTSTAMP:20260419T153800
CREATED:20230821T203432Z
LAST-MODIFIED:20231004T164300Z
UID:10001262-1699092000-1699106400@www.nlc.bc.ca
SUMMARY:Fort St. John Open House
DESCRIPTION:
URL:https://www.nlc.bc.ca/event/fort-st-john-open-house/
LOCATION:Northern Lights College Fort St. John campus\, 9820 – 120 Avenue\, Fort St. John\, British Columbia\, V1J 8C3\, Canada
CATEGORIES:College Events
END:VEVENT
END:VCALENDAR