BEGIN:VCALENDAR
VERSION:2.0
PRODID:-//Northern Lights College - ECPv6.15.20//NONSGML v1.0//EN
CALSCALE:GREGORIAN
METHOD:PUBLISH
X-WR-CALNAME:Northern Lights College
X-ORIGINAL-URL:https://www.nlc.bc.ca
X-WR-CALDESC:Events for Northern Lights College
REFRESH-INTERVAL;VALUE=DURATION:PT1H
X-Robots-Tag:noindex
X-PUBLISHED-TTL:PT1H
BEGIN:VTIMEZONE
TZID:America/Phoenix
BEGIN:STANDARD
TZOFFSETFROM:-0700
TZOFFSETTO:-0700
TZNAME:MST
DTSTART:20240101T000000
END:STANDARD
END:VTIMEZONE
BEGIN:VEVENT
DTSTART;TZID=America/Phoenix:20250521T120000
DTEND;TZID=America/Phoenix:20250521T130000
DTSTAMP:20260420T164941
CREATED:20250509T204552Z
LAST-MODIFIED:20250509T204817Z
UID:10002664-1747828800-1747832400@www.nlc.bc.ca
SUMMARY:FSJ - Study Skills and Resilience
DESCRIPTION:Tools and Tips to maximize your learning potential
URL:https://www.nlc.bc.ca/event/study-skills-and-resilience-2/
LOCATION:Fort St John Atrium\, 9820 120th Ave\, Fort St. John\, BC\, V1J 8C3\, Canada
CATEGORIES:College Events
ORGANIZER;CN="Learning Support Services":MAILTO:learningsupport@nlc.bc.ca
END:VEVENT
END:VCALENDAR