BEGIN:VCALENDAR
VERSION:2.0
PRODID:-//Northern Lights College - ECPv6.15.20//NONSGML v1.0//EN
CALSCALE:GREGORIAN
METHOD:PUBLISH
X-ORIGINAL-URL:https://www.nlc.bc.ca
X-WR-CALDESC:Events for Northern Lights College
REFRESH-INTERVAL;VALUE=DURATION:PT1H
X-Robots-Tag:noindex
X-PUBLISHED-TTL:PT1H
BEGIN:VTIMEZONE
TZID:America/Phoenix
BEGIN:STANDARD
TZOFFSETFROM:-0700
TZOFFSETTO:-0700
TZNAME:MST
DTSTART:20240101T000000
END:STANDARD
END:VTIMEZONE
BEGIN:VEVENT
DTSTART;TZID=America/Phoenix:20250529T140000
DTEND;TZID=America/Phoenix:20250529T140000
DTSTAMP:20260420T164459
CREATED:20250121T203443Z
LAST-MODIFIED:20250529T165650Z
UID:10002208-1748527200-1748527200@www.nlc.bc.ca
SUMMARY:Convocation Dawson Creek
DESCRIPTION:May 29\, 2pm — Dawson Creek Curling Club\nJoin us! Listen live here!
URL:https://www.nlc.bc.ca/event/convocation-dawson-creek/
CATEGORIES:College Events,Important Dates—Academic
END:VEVENT
BEGIN:VEVENT
DTSTART;TZID=America/Phoenix:20250529T170000
DTEND;TZID=America/Phoenix:20250529T220000
DTSTAMP:20260420T164459
CREATED:20250410T165602Z
LAST-MODIFIED:20251203T170545Z
UID:10002398-1748538000-1748556000@www.nlc.bc.ca
SUMMARY:NLC Pub Night — Dawson Creek
DESCRIPTION:Join us at the George Dawson Inn at the GDI Lounge every Thursday night!\nFood and drink specials and karaoke! \nNo cover charge
URL:https://www.nlc.bc.ca/event/nlc-pub-night/2025-05-29/
LOCATION:George Dawson Inn Lounge\, 11705 8th St\, Dawson Creek\, BC\, V1G 4N9\, Canada
CATEGORIES:College Events
END:VEVENT
END:VCALENDAR