BEGIN:VCALENDAR
VERSION:2.0
PRODID:-//Northern Lights College - ECPv6.15.20//NONSGML v1.0//EN
CALSCALE:GREGORIAN
METHOD:PUBLISH
X-WR-CALNAME:Northern Lights College
X-ORIGINAL-URL:https://www.nlc.bc.ca
X-WR-CALDESC:Events for Northern Lights College
REFRESH-INTERVAL;VALUE=DURATION:PT1H
X-Robots-Tag:noindex
X-PUBLISHED-TTL:PT1H
BEGIN:VTIMEZONE
TZID:America/Phoenix
BEGIN:STANDARD
TZOFFSETFROM:-0700
TZOFFSETTO:-0700
TZNAME:MST
DTSTART:20240101T000000
END:STANDARD
END:VTIMEZONE
BEGIN:VEVENT
DTSTART;TZID=America/Phoenix:20250618T140000
DTEND;TZID=America/Phoenix:20250618T140000
DTSTAMP:20260420T151010
CREATED:20250121T203618Z
LAST-MODIFIED:20250121T203618Z
UID:10002210-1750255200-1750255200@www.nlc.bc.ca
SUMMARY:Convocation Fort Nelson
DESCRIPTION:
URL:https://www.nlc.bc.ca/event/convocation-fort-nelson-2/
CATEGORIES:College Events,Important Dates—Academic
END:VEVENT
END:VCALENDAR