BEGIN:VCALENDAR
VERSION:2.0
PRODID:-//Northern Lights College - ECPv6.15.17.1//NONSGML v1.0//EN
CALSCALE:GREGORIAN
METHOD:PUBLISH
X-WR-CALNAME:Northern Lights College
X-ORIGINAL-URL:https://www.nlc.bc.ca
X-WR-CALDESC:Events for Northern Lights College
REFRESH-INTERVAL;VALUE=DURATION:PT1H
X-Robots-Tag:noindex
X-PUBLISHED-TTL:PT1H
BEGIN:VTIMEZONE
TZID:America/Phoenix
BEGIN:STANDARD
TZOFFSETFROM:-0700
TZOFFSETTO:-0700
TZNAME:MST
DTSTART:20240101T000000
END:STANDARD
END:VTIMEZONE
BEGIN:VEVENT
DTSTART;VALUE=DATE:20250927
DTEND;VALUE=DATE:20250929
DTSTAMP:20260420T083631
CREATED:20250728T191403Z
LAST-MODIFIED:20250926T185928Z
UID:10002925-1758931200-1759103999@www.nlc.bc.ca
SUMMARY:Northern Lights College 2025 Intercollegiate Rodeo
DESCRIPTION:Come on out\, watch the Rodeo action\, and support our team!\nSeptember 27–28\, 2025\nLakota Agriplex\, Dawson Creek\, BC \nWe really want you there\, but if you can’t make it\, you can still watch the action! \nLIVE coverage will be available on the Cowboy Channel app!\nAlso\, here are a few other links to watch on VIMEO: \nSaturday Sept 27 — 11am\nSlack Time Events: https://vimeo.com/event/5409208 \nSaturday Sept 27 — 6:30pm\nPerformance 1: https://vimeo.com/event/5407989 \n Sunday Sept 28 — 9am\nPerformance 2: https://vimeo.com/event/5407994 \nCheck out Canadian College Rodeo for the Order of Events  \nand Draws at https://www.canadiancollegerodeo.com/rodeo-draw-results
URL:https://www.nlc.bc.ca/event/northern-lights-college-2025-intercollegiate-rodeo/
LOCATION:Lakota Agriplex\, 300 Hwy 2\, Dawson Creek\, British Columbia\, V1G0A4\, Canada
CATEGORIES:College Events,Rodeo
ATTACH;FMTTYPE=image/jpeg:https://www.nlc.bc.ca/wp-content/uploads/2025/07/2025_Rodeo_event-scaled.jpg
END:VEVENT
BEGIN:VEVENT
DTSTART;TZID=America/Phoenix:20250928T180000
DTEND;TZID=America/Phoenix:20250928T210000
DTSTAMP:20260420T083631
CREATED:20250829T174153Z
LAST-MODIFIED:20251203T170721Z
UID:10002954-1759082400-1759093200@www.nlc.bc.ca
SUMMARY:DC Campus Sunday Drop-in Sports — Futsal
DESCRIPTION:Come out and play!\nHave you ever tried Futsal? Come out this Sunday!\n(indoor soccer) \n*Drop-in sports are free and open to current students and staff of NLC\nFrom September 3\, 2025 to January 4\, 2026.\nNo drop-in sports during NLC holiday closures\, statutory holidays or during exams. \nDon’t see your sport? Suggest a sport or get more information. Contact Amber at sportdiscoverypeace@engagesportnorth.com or 250-784-3926 \n 
URL:https://www.nlc.bc.ca/event/sunday-drop-in-sports-futsal/2025-09-28/
LOCATION:NLC Dawson Creek Campus Gym\, 11401 8 Street\, Dawson Creek\, BC\, V1G 4G2\, Canada
CATEGORIES:College Events,Sports
ATTACH;FMTTYPE=image/jpeg:https://www.nlc.bc.ca/wp-content/uploads/2025/08/DC_dropin_sports-fall25.jpg
END:VEVENT
END:VCALENDAR