BEGIN:VCALENDAR
VERSION:2.0
PRODID:-//Northern Lights College - ECPv6.15.17.1//NONSGML v1.0//EN
CALSCALE:GREGORIAN
METHOD:PUBLISH
X-ORIGINAL-URL:https://www.nlc.bc.ca
X-WR-CALDESC:Events for Northern Lights College
REFRESH-INTERVAL;VALUE=DURATION:PT1H
X-Robots-Tag:noindex
X-PUBLISHED-TTL:PT1H
BEGIN:VTIMEZONE
TZID:America/Phoenix
BEGIN:STANDARD
TZOFFSETFROM:-0700
TZOFFSETTO:-0700
TZNAME:MST
DTSTART:20240101T000000
END:STANDARD
END:VTIMEZONE
BEGIN:VEVENT
DTSTART;TZID=America/Phoenix:20251127T163000
DTEND;TZID=America/Phoenix:20251127T173000
DTSTAMP:20260420T045842
CREATED:20251014T165800Z
LAST-MODIFIED:20251014T203115Z
UID:10003473-1764261000-1764264600@www.nlc.bc.ca
SUMMARY:Northern Lights College Student Association (NLCSA) Annual General Meeting
DESCRIPTION:Join your fellow students at the Annual General Meeting of the Student’s Association (all campuses).\nWhen you register for classes at NLC and pay your student fees\, you become an active member of the Northern Lights College Student Association (NLCSA). As a member you are invited to attend the AGM. This year the AGM will be held via TEAMS starting at 4:30pm on Thursday\, November 27\, 2025 \nIf you would like to attend\, please email NLCSA@nlc.bc.ca with the title: Request to attend NLCSA AGM\, and you will be sent the meeting link.
URL:https://www.nlc.bc.ca/event/northern-lights-college-student-association-nlcsa-annual-general-meeting/
LOCATION:Online\, Canada
CATEGORIES:College Events,Student Association
ATTACH;FMTTYPE=image/png:https://www.nlc.bc.ca/wp-content/uploads/2025/10/NLCSA-event-graphic.png
END:VEVENT
BEGIN:VEVENT
DTSTART;TZID=America/Phoenix:20251127T170000
DTEND;TZID=America/Phoenix:20251127T220000
DTSTAMP:20260420T045842
CREATED:20250410T165602Z
LAST-MODIFIED:20251203T170545Z
UID:10002424-1764262800-1764280800@www.nlc.bc.ca
SUMMARY:NLC Pub Night — Dawson Creek
DESCRIPTION:Join us at the George Dawson Inn at the GDI Lounge every Thursday night!\nFood and drink specials and karaoke! \nNo cover charge
URL:https://www.nlc.bc.ca/event/nlc-pub-night/2025-11-27/
LOCATION:George Dawson Inn Lounge\, 11705 8th St\, Dawson Creek\, BC\, V1G 4N9\, Canada
CATEGORIES:College Events
END:VEVENT
BEGIN:VEVENT
DTSTART;TZID=America/Phoenix:20251127T180000
DTEND;TZID=America/Phoenix:20251127T200000
DTSTAMP:20260420T045842
CREATED:20250829T183625Z
LAST-MODIFIED:20250829T190948Z
UID:10003030-1764266400-1764273600@www.nlc.bc.ca
SUMMARY:DC Campus Thursday Drop-in Sports — Volleyball
DESCRIPTION:Come out and play Volleyball!\n*Drop-in sports are free and open to current students and staff of NLC\nFrom September 3\, 2025 to January 4\, 2026.\nNo drop-in sports during NLC holiday closures\, statutory holidays or during exams. \nDon’t see your sport? Suggest a sport or get more information. Contact Amber at sportdiscoverypeace@engagesportnorth.com or 250-784-3926
URL:https://www.nlc.bc.ca/event/dc-campus-monday-drop-in-sports-volleyball/2025-11-27/
LOCATION:NLC Dawson Creek Campus Gym\, 11401 8 Street\, Dawson Creek\, BC\, V1G 4G2\, Canada
CATEGORIES:College Events,Sports
ATTACH;FMTTYPE=image/jpeg:https://www.nlc.bc.ca/wp-content/uploads/2025/08/DC_dropin_sports-fall25.jpg
END:VEVENT
BEGIN:VEVENT
DTSTART;TZID=America/Phoenix:20251127T200000
DTEND;TZID=America/Phoenix:20251127T220000
DTSTAMP:20260420T045842
CREATED:20250829T185140Z
LAST-MODIFIED:20250829T185140Z
UID:10003046-1764273600-1764280800@www.nlc.bc.ca
SUMMARY:DC Campus Thursday Drop-in Sports — Futsal
DESCRIPTION:Come out and play Futsal!\n*Drop-in sports are free and open to current students and staff of NLC\nFrom September 3\, 2025 to January 4\, 2026.\nNo drop-in sports during NLC holiday closures\, statutory holidays or during exams. \nDon’t see your sport? Suggest a sport or get more information. Contact Amber at sportdiscoverypeace@engagesportnorth.com or 250-784-3926
URL:https://www.nlc.bc.ca/event/dc-campus-thursday-drop-in-sports-futsal/2025-11-27/
LOCATION:NLC Dawson Creek Campus Gym\, 11401 8 Street\, Dawson Creek\, BC\, V1G 4G2\, Canada
CATEGORIES:College Events,Sports
ATTACH;FMTTYPE=image/jpeg:https://www.nlc.bc.ca/wp-content/uploads/2025/08/DC_dropin_sports-fall25.jpg
END:VEVENT
END:VCALENDAR