BEGIN:VCALENDAR
VERSION:2.0
PRODID:-//Northern Lights College - ECPv6.15.17.1//NONSGML v1.0//EN
CALSCALE:GREGORIAN
METHOD:PUBLISH
X-WR-CALNAME:Northern Lights College
X-ORIGINAL-URL:https://www.nlc.bc.ca
X-WR-CALDESC:Events for Northern Lights College
REFRESH-INTERVAL;VALUE=DURATION:PT1H
X-Robots-Tag:noindex
X-PUBLISHED-TTL:PT1H
BEGIN:VTIMEZONE
TZID:America/Phoenix
BEGIN:STANDARD
TZOFFSETFROM:-0700
TZOFFSETTO:-0700
TZNAME:MST
DTSTART:20250101T000000
END:STANDARD
END:VTIMEZONE
BEGIN:VEVENT
DTSTART;TZID=America/Phoenix:20260106T101500
DTEND;TZID=America/Phoenix:20260106T111500
DTSTAMP:20260420T105305
CREATED:20251224T163127Z
LAST-MODIFIED:20251224T165931Z
UID:10003520-1767694500-1767698100@www.nlc.bc.ca
SUMMARY:Student Success Workshop — Introduction to D2L
DESCRIPTION:D2L is NLC’s online learning platform. Learn how to access your course materials\, assignments\, discussions\, and how to monitor your grades! \nTuesday January 6\, 2026\n10:15–11:15am\nFort St. John Campus Atrium \nRefreshments provided
URL:https://www.nlc.bc.ca/event/student-success-workshop-introduction-to-d2l-and-teams-2/
LOCATION:Fort St. John Atrium\, Canada
CATEGORIES:College Events
ATTACH;FMTTYPE=image/png:https://www.nlc.bc.ca/wp-content/uploads/2025/12/Student_Success_d2l-1.png
END:VEVENT
BEGIN:VEVENT
DTSTART;TZID=America/Phoenix:20260106T120000
DTEND;TZID=America/Phoenix:20260106T130000
DTSTAMP:20260420T105305
CREATED:20251224T162649Z
LAST-MODIFIED:20251224T165440Z
UID:10003519-1767700800-1767704400@www.nlc.bc.ca
SUMMARY:Student Success Workshop — Introduction to D2L
DESCRIPTION:D2L is NLC’s online learning platform. Learn how to access your course materials\, assignments\, discussions\, and how to monitor your grades! \nTuesday January 6\, 2026\n12 noon–1pm\nDawson Creek Campus\, CCET \nRefreshments provided
URL:https://www.nlc.bc.ca/event/student-success-workshop-introduction-to-d2l-and-teams/
LOCATION:Dawson Creek campus — CCET (Energy House)\, 11401 8 Street\, Dawson Creek\, British Columbia\, V1G 4G2\, Canada
CATEGORIES:College Events
ATTACH;FMTTYPE=image/png:https://www.nlc.bc.ca/wp-content/uploads/2025/12/Student_Success_d2l-1.png
END:VEVENT
END:VCALENDAR