BEGIN:VCALENDAR
VERSION:2.0
PRODID:-//Northern Lights College - ECPv6.15.17.1//NONSGML v1.0//EN
CALSCALE:GREGORIAN
METHOD:PUBLISH
X-WR-CALNAME:Northern Lights College
X-ORIGINAL-URL:https://www.nlc.bc.ca
X-WR-CALDESC:Events for Northern Lights College
REFRESH-INTERVAL;VALUE=DURATION:PT1H
X-Robots-Tag:noindex
X-PUBLISHED-TTL:PT1H
BEGIN:VTIMEZONE
TZID:America/Phoenix
BEGIN:STANDARD
TZOFFSETFROM:-0700
TZOFFSETTO:-0700
TZNAME:MST
DTSTART:20250101T000000
END:STANDARD
END:VTIMEZONE
BEGIN:VEVENT
DTSTART;TZID=America/Phoenix:20260113T090000
DTEND;TZID=America/Phoenix:20260113T100000
DTSTAMP:20260420T100644
CREATED:20251223T180218Z
LAST-MODIFIED:20251223T180235Z
UID:10003516-1768294800-1768298400@www.nlc.bc.ca
SUMMARY:Astra Awards Workshop — Virtual\, Fort Nelson
DESCRIPTION:Learn about Astra\, the NLC Foundation’s virtual award application platform\, which was created to streamline the application process.\nWe will help you learn how to sort search and apply in this drop-in workshop. \nTuesday\, January 13\, 2026\nFort Nelson\, Virtual — link to come\n9am–10pm \nDon’t forget the application deadline is January 25\, 2026!
URL:https://www.nlc.bc.ca/event/astra-awards-workshop-virtual-fort-nelson/
LOCATION:Online\, Canada
CATEGORIES:College Events,Webinar
ATTACH;FMTTYPE=image/png:https://www.nlc.bc.ca/wp-content/uploads/2025/12/Astra_awards_calendar26-e1766512442901.png
END:VEVENT
BEGIN:VEVENT
DTSTART;TZID=America/Phoenix:20260113T110000
DTEND;TZID=America/Phoenix:20260113T130000
DTSTAMP:20260420T100644
CREATED:20251223T180607Z
LAST-MODIFIED:20251223T180607Z
UID:10003517-1768302000-1768309200@www.nlc.bc.ca
SUMMARY:Astra Awards Workshop — Dawson Creek
DESCRIPTION:Learn about Astra\, the NLC Foundation’s virtual award application platform\, which was created to streamline the application process.\nWe will help you learn how to sort search and apply in this drop-in workshop. \nTuesday\, January 13\, 2026\nDawson Creek Campus Main Foyer\n11am–1pm \nDon’t forget the application deadline is January 25\, 2026!
URL:https://www.nlc.bc.ca/event/astra-awards-workshop-dawson-creek/
LOCATION:Dawson Creek Main Campus Foyer\, 11401 8 Street\, Dawson Creek\, British Columbia\, V1G 4G2\, Canada
CATEGORIES:College Events
ATTACH;FMTTYPE=image/png:https://www.nlc.bc.ca/wp-content/uploads/2025/12/Astra_awards_calendar26-e1766512442901.png
END:VEVENT
BEGIN:VEVENT
DTSTART;TZID=America/Phoenix:20260113T114500
DTEND;TZID=America/Phoenix:20260113T131000
DTSTAMP:20260420T100644
CREATED:20251224T173857Z
LAST-MODIFIED:20251224T174405Z
UID:10003524-1768304700-1768309800@www.nlc.bc.ca
SUMMARY:Student Success Workshop — Introduction to APA Citation Style
DESCRIPTION:New to APA style or need a refresher?\nThis workshop will cover the basics of APA 7th edition\, including formatting\, in-text citations\, and reference lists.\nWhether you’re writing your first paper or polishing up your skills\, you’ll leave with practical tools to make citing and formatting easier. \n11:45am–1:10pm\nTeams online
URL:https://www.nlc.bc.ca/event/student-success-workshop-introduction-to-apa-citation-style/
LOCATION:Online\, MS Teams
CATEGORIES:College Events
ATTACH;FMTTYPE=image/png:https://www.nlc.bc.ca/wp-content/uploads/2025/12/Student_Success_APA.png
END:VEVENT
END:VCALENDAR