BEGIN:VCALENDAR
VERSION:2.0
PRODID:-//Northern Lights College - ECPv6.15.17.1//NONSGML v1.0//EN
CALSCALE:GREGORIAN
METHOD:PUBLISH
X-WR-CALNAME:Northern Lights College
X-ORIGINAL-URL:https://www.nlc.bc.ca
X-WR-CALDESC:Events for Northern Lights College
REFRESH-INTERVAL;VALUE=DURATION:PT1H
X-Robots-Tag:noindex
X-PUBLISHED-TTL:PT1H
BEGIN:VTIMEZONE
TZID:America/Phoenix
BEGIN:STANDARD
TZOFFSETFROM:-0700
TZOFFSETTO:-0700
TZNAME:MST
DTSTART:20250101T000000
END:STANDARD
END:VTIMEZONE
BEGIN:VEVENT
DTSTART;TZID=America/Phoenix:20260114T110000
DTEND;TZID=America/Phoenix:20260114T120000
DTSTAMP:20260419T210836
CREATED:20251222T225852Z
LAST-MODIFIED:20251222T230407Z
UID:10003513-1768388400-1768392000@www.nlc.bc.ca
SUMMARY:Academic Integrity Consultation
DESCRIPTION:Help Shape the Future of Academic Integrity at NLC!\nWe’re updating our Academic Integrity Policy and Procedures in order to improve five key practices: Access\, Approach\, Responsibility\, Clarity\, and Support.\nYou are invited to attend a student consultation session to provide your thoughts and feedback. You can choose which session you would like to attend:\nWednesday\, January 14\, 2026\nOnline via Teams\, 11am–12pm\nJoin at: https://tinyurl.com/mw5mcd97
URL:https://www.nlc.bc.ca/event/academic-integrity-consultation-2/
LOCATION:Online\, Canada
CATEGORIES:College Events,Webinar
ATTACH;FMTTYPE=image/jpeg:https://www.nlc.bc.ca/wp-content/uploads/2025/12/Academic_Integrity_Consult_event2.jpg
END:VEVENT
BEGIN:VEVENT
DTSTART;TZID=America/Phoenix:20260114T110000
DTEND;TZID=America/Phoenix:20260114T130000
DTSTAMP:20260419T210836
CREATED:20251223T181047Z
LAST-MODIFIED:20251223T181108Z
UID:10003518-1768388400-1768395600@www.nlc.bc.ca
SUMMARY:Astra Awards Workshop — Chetwynd
DESCRIPTION:Learn about Astra\, the NLC Foundation’s virtual award application platform\, which was created to streamline the application process.\nWe will help you learn how to sort search and apply in this drop-in workshop. \nTuesday\, January 13\, 2026\nChetwynd Main Foyer\n11am–1pm \nDon’t forget the application deadline is January 25\, 2026!
URL:https://www.nlc.bc.ca/event/astra-awards-workshop-chetwynd/
LOCATION:Chetwynd Campus Main Lobby\, 5132 50th St SW\, \, BC V0C 1J0\, Chetwynd\, British Columbia\, V0C 1J0\, Canada
CATEGORIES:College Events
ATTACH;FMTTYPE=image/png:https://www.nlc.bc.ca/wp-content/uploads/2025/12/Astra_awards_calendar26-e1766512442901.png
END:VEVENT
END:VCALENDAR