BEGIN:VCALENDAR
VERSION:2.0
PRODID:-//Northern Lights College - ECPv6.15.17.1//NONSGML v1.0//EN
CALSCALE:GREGORIAN
METHOD:PUBLISH
X-WR-CALNAME:Northern Lights College
X-ORIGINAL-URL:https://www.nlc.bc.ca
X-WR-CALDESC:Events for Northern Lights College
REFRESH-INTERVAL;VALUE=DURATION:PT1H
X-Robots-Tag:noindex
X-PUBLISHED-TTL:PT1H
BEGIN:VTIMEZONE
TZID:America/Phoenix
BEGIN:STANDARD
TZOFFSETFROM:-0700
TZOFFSETTO:-0700
TZNAME:MST
DTSTART:20250101T000000
END:STANDARD
END:VTIMEZONE
BEGIN:VEVENT
DTSTART;TZID=America/Phoenix:20260115T131500
DTEND;TZID=America/Phoenix:20260115T143000
DTSTAMP:20260420T100641
CREATED:20251224T175144Z
LAST-MODIFIED:20251224T175144Z
UID:10003526-1768482900-1768487400@www.nlc.bc.ca
SUMMARY:Student Success Workshop — Introduction to APA Citation Style\, Dawson Creek
DESCRIPTION:New to APA style or need a refresher?\nThis workshop will cover the basics of APA 7th edition\, including formatting\, in-text citations\, and reference lists.\nWhether you’re writing your first paper or polishing up your skills\, you’ll leave with practical tools to make citing and formatting easier. \nJanuary 14\, 11:45am–1:10pm\nDawson Creek Campus\, CCET (Energy House) \nRefreshments provided
URL:https://www.nlc.bc.ca/event/student-success-workshop-introduction-to-apa-citation-style-dawson-creek/
LOCATION:Dawson Creek campus — CCET (Energy House)\, 11401 8 Street\, Dawson Creek\, British Columbia\, V1G 4G2\, Canada
CATEGORIES:College Events
ATTACH;FMTTYPE=image/png:https://www.nlc.bc.ca/wp-content/uploads/2025/12/Student_Success_APA.png
END:VEVENT
BEGIN:VEVENT
DTSTART;TZID=America/Phoenix:20260115T170000
DTEND;TZID=America/Phoenix:20260115T220000
DTSTAMP:20260420T100641
CREATED:20250410T165602Z
LAST-MODIFIED:20251203T170545Z
UID:10002431-1768496400-1768514400@www.nlc.bc.ca
SUMMARY:NLC Pub Night — Dawson Creek
DESCRIPTION:Join us at the George Dawson Inn at the GDI Lounge every Thursday night!\nFood and drink specials and karaoke! \nNo cover charge
URL:https://www.nlc.bc.ca/event/nlc-pub-night/2026-01-15/
LOCATION:George Dawson Inn Lounge\, 11705 8th St\, Dawson Creek\, BC\, V1G 4N9\, Canada
CATEGORIES:College Events
END:VEVENT
END:VCALENDAR