BEGIN:VCALENDAR
VERSION:2.0
PRODID:-//Northern Lights College - ECPv6.15.17.1//NONSGML v1.0//EN
CALSCALE:GREGORIAN
METHOD:PUBLISH
X-WR-CALNAME:Northern Lights College
X-ORIGINAL-URL:https://www.nlc.bc.ca
X-WR-CALDESC:Events for Northern Lights College
REFRESH-INTERVAL;VALUE=DURATION:PT1H
X-Robots-Tag:noindex
X-PUBLISHED-TTL:PT1H
BEGIN:VTIMEZONE
TZID:America/Phoenix
BEGIN:STANDARD
TZOFFSETFROM:-0700
TZOFFSETTO:-0700
TZNAME:MST
DTSTART:20250101T000000
END:STANDARD
END:VTIMEZONE
BEGIN:VEVENT
DTSTART;TZID=America/Phoenix:20260120T120000
DTEND;TZID=America/Phoenix:20260120T130000
DTSTAMP:20260420T100625
CREATED:20251224T175604Z
LAST-MODIFIED:20251224T175928Z
UID:10003527-1768910400-1768914000@www.nlc.bc.ca
SUMMARY:Student Success Workshop — Anti-Plagiarism in Action\, Dawson Creek
DESCRIPTION:Uncover the secrets of maintaining academic integrity\, and learn effective strategies to prevent plagiarism in your academic work. \nJanuary 20\, 2026\n12 Noon–1pm\nDawson Creek Campus — CCET (Energy House) \nRefreshments provided
URL:https://www.nlc.bc.ca/event/student-success-workshop-anti-plagiarism-in-action-dawson-creek-2/
LOCATION:Dawson Creek campus — CCET (Energy House)\, 11401 8 Street\, Dawson Creek\, British Columbia\, V1G 4G2\, Canada
CATEGORIES:College Events
END:VEVENT
BEGIN:VEVENT
DTSTART;TZID=America/Phoenix:20260120T120000
DTEND;TZID=America/Phoenix:20260120T130000
DTSTAMP:20260420T100625
CREATED:20251224T175848Z
LAST-MODIFIED:20251224T175848Z
UID:10003528-1768910400-1768914000@www.nlc.bc.ca
SUMMARY:Student Success Workshop — Anti-Plagiarism in Action\, Fort St. John
DESCRIPTION:Uncover the secrets of maintaining academic integrity\, and learn effective strategies to prevent plagiarism in your academic work. \nJanuary 20\, 2026\n12 Noon–1pm\nFort St. John Campus\, Room 1509 \nRefreshments provided
URL:https://www.nlc.bc.ca/event/student-success-workshop-anti-plagiarism-in-action-fort-st-john-2/
LOCATION:FSJ Campus room 1701\, 9820-120th Ave\, Fort St. John\, BC\, V1J 8C3\, Canada
CATEGORIES:College Events
END:VEVENT
END:VCALENDAR