BEGIN:VCALENDAR
VERSION:2.0
PRODID:-//Northern Lights College - ECPv6.15.17.1//NONSGML v1.0//EN
CALSCALE:GREGORIAN
METHOD:PUBLISH
X-ORIGINAL-URL:https://www.nlc.bc.ca
X-WR-CALDESC:Events for Northern Lights College
REFRESH-INTERVAL;VALUE=DURATION:PT1H
X-Robots-Tag:noindex
X-PUBLISHED-TTL:PT1H
BEGIN:VTIMEZONE
TZID:America/Phoenix
BEGIN:STANDARD
TZOFFSETFROM:-0700
TZOFFSETTO:-0700
TZNAME:MST
DTSTART:20250101T000000
END:STANDARD
END:VTIMEZONE
BEGIN:VEVENT
DTSTART;TZID=America/Phoenix:20260428T120000
DTEND;TZID=America/Phoenix:20260428T130000
DTSTAMP:20260420T001552
CREATED:20260114T174848Z
LAST-MODIFIED:20260114T174949Z
UID:10003548-1777377600-1777381200@www.nlc.bc.ca
SUMMARY:Drop-In Yoga — Fort St. John
DESCRIPTION:12–1pm\nAtrium\, Fort St. John Campus \nNo charge \nFor more information contact Learning support learningsupport@nlc.bc.ca
URL:https://www.nlc.bc.ca/event/drop-in-yoga-fort-st-john-4/2026-04-28/
LOCATION:Fort St. John Atrium\, Canada
CATEGORIES:College Events
ATTACH;FMTTYPE=image/png:https://www.nlc.bc.ca/wp-content/uploads/2025/09/Yogaf.png
END:VEVENT
END:VCALENDAR