BEGIN:VCALENDAR
VERSION:2.0
PRODID:-//Northern Lights College - ECPv6.15.17.1//NONSGML v1.0//EN
CALSCALE:GREGORIAN
METHOD:PUBLISH
X-WR-CALNAME:Northern Lights College
X-ORIGINAL-URL:https://www.nlc.bc.ca
X-WR-CALDESC:Events for Northern Lights College
REFRESH-INTERVAL;VALUE=DURATION:PT1H
X-Robots-Tag:noindex
X-PUBLISHED-TTL:PT1H
BEGIN:VTIMEZONE
TZID:America/Vancouver
BEGIN:DAYLIGHT
TZOFFSETFROM:-0800
TZOFFSETTO:-0700
TZNAME:PDT
DTSTART:20220313T100000
END:DAYLIGHT
BEGIN:STANDARD
TZOFFSETFROM:-0700
TZOFFSETTO:-0800
TZNAME:PST
DTSTART:20221106T090000
END:STANDARD
BEGIN:DAYLIGHT
TZOFFSETFROM:-0800
TZOFFSETTO:-0700
TZNAME:PDT
DTSTART:20230312T100000
END:DAYLIGHT
BEGIN:STANDARD
TZOFFSETFROM:-0700
TZOFFSETTO:-0800
TZNAME:PST
DTSTART:20231105T090000
END:STANDARD
BEGIN:DAYLIGHT
TZOFFSETFROM:-0800
TZOFFSETTO:-0700
TZNAME:PDT
DTSTART:20240310T100000
END:DAYLIGHT
BEGIN:STANDARD
TZOFFSETFROM:-0700
TZOFFSETTO:-0800
TZNAME:PST
DTSTART:20241103T090000
END:STANDARD
BEGIN:DAYLIGHT
TZOFFSETFROM:-0800
TZOFFSETTO:-0700
TZNAME:PDT
DTSTART:20250309T100000
END:DAYLIGHT
BEGIN:STANDARD
TZOFFSETFROM:-0700
TZOFFSETTO:-0800
TZNAME:PST
DTSTART:20251102T090000
END:STANDARD
END:VTIMEZONE
BEGIN:VTIMEZONE
TZID:America/Phoenix
BEGIN:STANDARD
TZOFFSETFROM:-0700
TZOFFSETTO:-0700
TZNAME:MST
DTSTART:20220101T000000
END:STANDARD
END:VTIMEZONE
BEGIN:VEVENT
DTSTART;TZID=America/Vancouver:20231104T100000
DTEND;TZID=America/Vancouver:20231104T140000
DTSTAMP:20260420T003915
CREATED:20230821T203354Z
LAST-MODIFIED:20231004T183538Z
UID:10001261-1699092000-1699106400@www.nlc.bc.ca
SUMMARY:Dawson Creek Open House
DESCRIPTION:
URL:https://www.nlc.bc.ca/event/dawson-creek-open-house/
LOCATION:Dawson Creek Campus\, 11401 8th St\, Dawson Creek\, British Columbia\, V1G 4G2\, Canada
CATEGORIES:College Events
END:VEVENT
BEGIN:VEVENT
DTSTART;TZID=America/Vancouver:20231104T100000
DTEND;TZID=America/Vancouver:20231104T140000
DTSTAMP:20260420T003915
CREATED:20230821T203432Z
LAST-MODIFIED:20231004T164300Z
UID:10001262-1699092000-1699106400@www.nlc.bc.ca
SUMMARY:Fort St. John Open House
DESCRIPTION:
URL:https://www.nlc.bc.ca/event/fort-st-john-open-house/
LOCATION:Northern Lights College Fort St. John campus\, 9820 – 120 Avenue\, Fort St. John\, British Columbia\, V1J 8C3\, Canada
CATEGORIES:College Events
END:VEVENT
BEGIN:VEVENT
DTSTART;VALUE=DATE:20231122
DTEND;VALUE=DATE:20231123
DTSTAMP:20260420T003915
CREATED:20231117T203148Z
LAST-MODIFIED:20231117T203635Z
UID:10001292-1700611200-1700697599@www.nlc.bc.ca
SUMMARY:Elder in Residence Dawson Creek
DESCRIPTION:Day Three \nLocation: Indigenous Gathering Space \n10:30 AM – 11:30 AM – Teachings: Malcolm’s Residential School Story \n12:00 PM – 1:00 PM – Astum! Teachings with Soup and Bannock – Indigenous Education: The Bear Has Awakened
URL:https://www.nlc.bc.ca/event/elder-in-residence-dawson-creek-3/
LOCATION:British Columbia
CATEGORIES:College Events
ATTACH;FMTTYPE=image/jpeg:https://www.nlc.bc.ca/wp-content/uploads/Malcom-Supernault-Social.jpg
END:VEVENT
BEGIN:VEVENT
DTSTART;TZID=America/Phoenix:20231125T100000
DTEND;TZID=America/Phoenix:20231125T113000
DTSTAMP:20260420T003915
CREATED:20230706T025033Z
LAST-MODIFIED:20231004T164316Z
UID:10001250-1700906400-1700911800@www.nlc.bc.ca
SUMMARY:NLCSA AGM
DESCRIPTION:Attention all NLC Students!\nSave the date for the NLCSA AGM! Saturday\, November 25\, 2023. Time: 10-11:30am\nWould you like to attend the NLC Students Associations Annual General Meeting?\nUse this link to register!
URL:https://www.nlc.bc.ca/event/nlcsa-agm/
LOCATION:Online\, Canada
CATEGORIES:College Events,Student Association
ATTACH;FMTTYPE=image/jpeg:https://www.nlc.bc.ca/wp-content/uploads/NLCSA-logo.jpg
END:VEVENT
BEGIN:VEVENT
DTSTART;TZID=America/Vancouver:20240102T133000
DTEND;TZID=America/Vancouver:20240102T143000
DTSTAMP:20260420T003915
CREATED:20231221T195122Z
LAST-MODIFIED:20231221T195122Z
UID:10001321-1704202200-1704205800@www.nlc.bc.ca
SUMMARY:Workshop: Intro to D2L and Teams
DESCRIPTION:D2L is NLC’s online learning platform. \nLearn how to access your course materials\, assignments\, and discussions\, and monitor your grades!
URL:https://www.nlc.bc.ca/event/workshop-intro-to-d2l-and-teams/
LOCATION:Dawson Creek Campus\, 11401 8th St\, Dawson Creek\, British Columbia\, V1G 4G2\, Canada
CATEGORIES:College Events
ORGANIZER;CN="Learning Support Services":MAILTO:learningsupport@nlc.bc.ca
END:VEVENT
BEGIN:VEVENT
DTSTART;TZID=America/Vancouver:20240102T133000
DTEND;TZID=America/Vancouver:20240102T143000
DTSTAMP:20260420T003915
CREATED:20231221T195611Z
LAST-MODIFIED:20231221T195611Z
UID:10001323-1704202200-1704205800@www.nlc.bc.ca
SUMMARY:Workshop: Intro to D2L and Teams
DESCRIPTION:D2L is NLC’s online learning platform. \nLearn how to access your course materials\, assignments\, and discussions and monitor your grades!
URL:https://www.nlc.bc.ca/event/workshop-intro-to-d2l-and-teams-3/
LOCATION:Fort St. John Campus\, 9820 - 120th Ave\, Fort St. John\, British Columbia\, V1J 8C3\, Canada
CATEGORIES:College Events
ORGANIZER;CN="Learning Support Services":MAILTO:learningsupport@nlc.bc.ca
END:VEVENT
BEGIN:VEVENT
DTSTART;TZID=America/Vancouver:20240103T133000
DTEND;TZID=America/Vancouver:20240103T143000
DTSTAMP:20260420T003915
CREATED:20231221T200713Z
LAST-MODIFIED:20231221T200713Z
UID:10001325-1704288600-1704292200@www.nlc.bc.ca
SUMMARY:Workshop: Anti-Plagiarism in Action
DESCRIPTION:Uncover the secrets of maintaining academic integrity! \nJoin our Anti-Plagiarism in Action workshop and learn effective strategies to prevent plagiarism in your academic work. \n*Snacks will be provided
URL:https://www.nlc.bc.ca/event/workshop-anti-plagiarism-in-action/2024-01-03/
LOCATION:Dawson Creek Campus\, 11401 8th St\, Dawson Creek\, British Columbia\, V1G 4G2\, Canada
CATEGORIES:College Events
ORGANIZER;CN="Learning Support Services":MAILTO:learningsupport@nlc.bc.ca
END:VEVENT
BEGIN:VEVENT
DTSTART;TZID=America/Vancouver:20240103T150000
DTEND;TZID=America/Vancouver:20240103T160000
DTSTAMP:20260420T003915
CREATED:20231221T200936Z
LAST-MODIFIED:20231221T200936Z
UID:10001327-1704294000-1704297600@www.nlc.bc.ca
SUMMARY:Workshop: Anti-Plagiarism in Action
DESCRIPTION:Uncover the secrets of maintaining academic integrity! \nJoin our Anti-Plagiarism in Action workshop and learn effective strategies to prevent plagiarism in your academic work. \n*Free snacks will be provided
URL:https://www.nlc.bc.ca/event/workshop-anti-plagiarism-in-action-2/2024-01-03/
LOCATION:Fort St. John Campus\, 9820 - 120th Ave\, Fort St. John\, British Columbia\, V1J 8C3\, Canada
CATEGORIES:College Events
ORGANIZER;CN="Learning Support Services":MAILTO:learningsupport@nlc.bc.ca
END:VEVENT
BEGIN:VEVENT
DTSTART;TZID=America/Vancouver:20240108T173000
DTEND;TZID=America/Vancouver:20240108T183000
DTSTAMP:20260420T003915
CREATED:20231221T202306Z
LAST-MODIFIED:20231221T202306Z
UID:10001331-1704735000-1704738600@www.nlc.bc.ca
SUMMARY:Workshop: Navigating Online Courses
DESCRIPTION:Link coming soon. \nNavigate the virtual learning environment with ease. \nThis workshop offers you tools and tricks to help you achieve success in your online classes.
URL:https://www.nlc.bc.ca/event/workshop-navigating-online-courses/
LOCATION:Online\, Canada
CATEGORIES:College Events
ORGANIZER;CN="Learning Support Services":MAILTO:learningsupport@nlc.bc.ca
END:VEVENT
BEGIN:VEVENT
DTSTART;TZID=America/Vancouver:20240109T114500
DTEND;TZID=America/Vancouver:20240109T131500
DTSTAMP:20260420T003915
CREATED:20231221T201819Z
LAST-MODIFIED:20231221T201819Z
UID:10001330-1704800700-1704806100@www.nlc.bc.ca
SUMMARY:Workshop: Intro to APA Citation Style
DESCRIPTION:Unlock the key to proper citation and formatting in our Introduction to APA workshop. \nEnsure your assignments follow the APA style for a polished and professional presentation. \n*Free lunch provided!
URL:https://www.nlc.bc.ca/event/workshop-intro-to-apa-citation-style/
LOCATION:Fort St. John Campus\, 9820 - 120th Ave\, Fort St. John\, British Columbia\, V1J 8C3\, Canada
CATEGORIES:College Events
ORGANIZER;CN="Learning Support Services":MAILTO:learningsupport@nlc.bc.ca
END:VEVENT
BEGIN:VEVENT
DTSTART;TZID=America/Vancouver:20240110T101500
DTEND;TZID=America/Vancouver:20240110T114500
DTSTAMP:20260420T003915
CREATED:20231221T201251Z
LAST-MODIFIED:20240109T220422Z
UID:10001329-1704881700-1704887100@www.nlc.bc.ca
SUMMARY:*Now online* Workshop: Intro to APA Style
DESCRIPTION:Unlock the key to proper citation and formatting in our Introduction to APA workshop. \nEnsure your assignments follow the APA style for a polished and professional presentation. \nMicrosoft Teams meeting \nJoin on your computer\, mobile app or room device \nClick here to join the meeting \nMeeting ID: 252 465 103 54\nPasscode: 2p2HCu \nDownload Teams | Join on the web \nJoin with a video conferencing device \n783821700@t.plcm.vc \nVideo Conference ID: 119 837 825 0 \nAlternate VTC instructions \nOr call in (audio only) \n+1 437-703-5279\,\,694269096#   Canada\, Toronto \n(855) 688-6048\,\,694269096#   Canada (Toll-free) \nPhone Conference ID: 694 269 096# \nFind a local number | Reset PIN \nLearn More | Meeting options
URL:https://www.nlc.bc.ca/event/workshop-intro-to-apa-style/
LOCATION:Online\, Canada
CATEGORIES:College Events
ORGANIZER;CN="Learning Support Services":MAILTO:learningsupport@nlc.bc.ca
END:VEVENT
BEGIN:VEVENT
DTSTART;TZID=America/Vancouver:20240111T120000
DTEND;TZID=America/Vancouver:20240111T130000
DTSTAMP:20260420T003915
CREATED:20231221T195353Z
LAST-MODIFIED:20231221T195353Z
UID:10001322-1704974400-1704978000@www.nlc.bc.ca
SUMMARY:Workshop: Intro to D2L and Teams
DESCRIPTION:D2L is NLC’s online learning platform. \nLearn how to access your course materials\, assignments\, and discussions\, and monitor your grades! \n*Free lunch provided!
URL:https://www.nlc.bc.ca/event/workshop-intro-to-d2l-and-teams-2/
LOCATION:Dawson Creek Campus\, 11401 8th St\, Dawson Creek\, British Columbia\, V1G 4G2\, Canada
CATEGORIES:College Events
ORGANIZER;CN="Learning Support Services":MAILTO:learningsupport@nlc.bc.ca
END:VEVENT
BEGIN:VEVENT
DTSTART;TZID=America/Vancouver:20240111T120000
DTEND;TZID=America/Vancouver:20240111T130000
DTSTAMP:20260420T003915
CREATED:20231221T195821Z
LAST-MODIFIED:20231221T195821Z
UID:10001324-1704974400-1704978000@www.nlc.bc.ca
SUMMARY:Workshop: Intro to D2L and Teams
DESCRIPTION:D2L is NLC’s online learning platform. \nLearn how to access your course materials\, assignments\, and discussions and monitor your grades! \n*Free lunch provided!
URL:https://www.nlc.bc.ca/event/workshop-intro-to-d2l-and-teams-4/
LOCATION:Fort St. John Campus\, 9820 - 120th Ave\, Fort St. John\, British Columbia\, V1J 8C3\, Canada
CATEGORIES:College Events
ORGANIZER;CN="Learning Support Services":MAILTO:learningsupport@nlc.bc.ca
END:VEVENT
BEGIN:VEVENT
DTSTART;TZID=America/Vancouver:20240112T103000
DTEND;TZID=America/Vancouver:20240112T113000
DTSTAMP:20260420T003915
CREATED:20231221T200936Z
LAST-MODIFIED:20231221T200936Z
UID:10001328-1705055400-1705059000@www.nlc.bc.ca
SUMMARY:Workshop: Anti-Plagiarism in Action
DESCRIPTION:Uncover the secrets of maintaining academic integrity! \nJoin our Anti-Plagiarism in Action workshop and learn effective strategies to prevent plagiarism in your academic work. \n*Free snacks will be provided
URL:https://www.nlc.bc.ca/event/workshop-anti-plagiarism-in-action-2/2024-01-12/
LOCATION:Fort St. John Campus\, 9820 - 120th Ave\, Fort St. John\, British Columbia\, V1J 8C3\, Canada
CATEGORIES:College Events
ORGANIZER;CN="Learning Support Services":MAILTO:learningsupport@nlc.bc.ca
END:VEVENT
BEGIN:VEVENT
DTSTART;TZID=America/Vancouver:20240112T103000
DTEND;TZID=America/Vancouver:20240112T233000
DTSTAMP:20260420T003915
CREATED:20231221T200713Z
LAST-MODIFIED:20231221T200713Z
UID:10001326-1705055400-1705102200@www.nlc.bc.ca
SUMMARY:Workshop: Anti-Plagiarism in Action
DESCRIPTION:Uncover the secrets of maintaining academic integrity! \nJoin our Anti-Plagiarism in Action workshop and learn effective strategies to prevent plagiarism in your academic work. \n*Snacks will be provided
URL:https://www.nlc.bc.ca/event/workshop-anti-plagiarism-in-action/2024-01-12/
LOCATION:Dawson Creek Campus\, 11401 8th St\, Dawson Creek\, British Columbia\, V1G 4G2\, Canada
CATEGORIES:College Events
ORGANIZER;CN="Learning Support Services":MAILTO:learningsupport@nlc.bc.ca
END:VEVENT
BEGIN:VEVENT
DTSTART;TZID=America/Vancouver:20240122T120000
DTEND;TZID=America/Vancouver:20240122T133000
DTSTAMP:20260420T003915
CREATED:20240122T152856Z
LAST-MODIFIED:20240122T161716Z
UID:10001338-1705924800-1705930200@www.nlc.bc.ca
SUMMARY:Welcome Feast  — Clarence Apsassin\, Elder in Residence Fort. St. John
DESCRIPTION:Elder Clarence Apsassin from Blueberry River First Nation will be in Residence at the FSJ campus January 22–25\, and January 29–February 1\, 2024. \nCome on down to the Indigenous Gathering Space at noon and join us for his Welcome Feast\, followed by story telling at 2pm. \nThese events are open to staff\, students\, and the community and are free to attend. \nWe are grateful and honoured to have Clarence share his teachings with us. \n 
URL:https://www.nlc.bc.ca/event/welcome-feast-clarence-apsassin-elder-in-residence/
LOCATION:Fort St. John Campus\, 9820 - 120th Ave\, Fort St. John\, British Columbia\, V1J 8C3\, Canada
CATEGORIES:College Events
ATTACH;FMTTYPE=image/jpeg:https://www.nlc.bc.ca/wp-content/uploads/clarence_apsassin-scaled.jpg
END:VEVENT
BEGIN:VEVENT
DTSTART;TZID=America/Vancouver:20240124T120000
DTEND;TZID=America/Vancouver:20240124T120000
DTSTAMP:20260420T003915
CREATED:20240122T151430Z
LAST-MODIFIED:20240326T220036Z
UID:10001336-1706097600-1706097600@www.nlc.bc.ca
SUMMARY:Astum! Teachings with Soup and Bannock
DESCRIPTION:Dawson Creek Campus’ Indigenous Gathering Space with Della Owens\, Elder in Residence
URL:https://www.nlc.bc.ca/event/astum-teachings-with-soup-and-bannock-4/
LOCATION:British Columbia
CATEGORIES:College Events
ATTACH;FMTTYPE=image/png:https://www.nlc.bc.ca/wp-content/uploads/Della_Owens_Astum.png
END:VEVENT
BEGIN:VEVENT
DTSTART;TZID=America/Vancouver:20240125T113000
DTEND;TZID=America/Vancouver:20240125T130000
DTSTAMP:20260420T003915
CREATED:20240104T211200Z
LAST-MODIFIED:20240104T211200Z
UID:10001332-1706182200-1706187600@www.nlc.bc.ca
SUMMARY:Free chili and a bun for staff and students!
DESCRIPTION:Baby it’s cold outside! So why not warm up with free chili and a bun? \nSponsored by Student Life and DC Student Council and prepared by our Culinary students in partnership with the North Star Grill. \nEveryone must present their staff or student ID to get their chili. \n 
URL:https://www.nlc.bc.ca/event/free-chili-and-a-bun-for-staff-and-students/
LOCATION:Dawson Creek Campus\, 11401 8th St\, Dawson Creek\, British Columbia\, V1G 4G2\, Canada
CATEGORIES:College Events
ORGANIZER;CN="Student Life":MAILTO:studentlife@nlc.bc.ca
END:VEVENT
BEGIN:VEVENT
DTSTART;TZID=America/Vancouver:20240201T133000
DTEND;TZID=America/Vancouver:20240201T150000
DTSTAMP:20260420T003915
CREATED:20240122T154338Z
LAST-MODIFIED:20240131T154513Z
UID:10001340-1706794200-1706799600@www.nlc.bc.ca
SUMMARY:CANCELLED — Closing Ceremony and Feast for Clarence Apsassin
DESCRIPTION:This event has been cancelled. Our apologies. \nFort St. John Campus’ Indigenous Gathering Space — Join us for the closing ceremony and feast for Clarence Apsassin\, Elder in Residence \nOpen to current students\, staff\, faculty\, and community.
URL:https://www.nlc.bc.ca/event/closing-ceremony-and-feast-for-clarence-apsassin/
LOCATION:Northern Lights College Fort St. John campus\, 9820 – 120 Avenue\, Fort St. John\, British Columbia\, V1J 8C3\, Canada
CATEGORIES:College Events
ATTACH;FMTTYPE=image/jpeg:https://www.nlc.bc.ca/wp-content/uploads/clarence_apsassin-scaled.jpg
END:VEVENT
BEGIN:VEVENT
DTSTART;TZID=America/Phoenix:20240213T130000
DTEND;TZID=America/Phoenix:20240213T140000
DTSTAMP:20260420T003915
CREATED:20240207T215243Z
LAST-MODIFIED:20240207T222814Z
UID:10001356-1707829200-1707832800@www.nlc.bc.ca
SUMMARY:AI Literacy Webinar: The ethics of using ChatGPT and other AI tools
DESCRIPTION:Every Tuesday in February! \n1–2pm (Dawson Creek/Fort St. John time) \nResponsibility and Complicity: A look at some harms of Large Language Models (LLMs)\nwith Rebecca Sweetman\, Associate Director – Educational Technology\, Faculty of Arts and Science; Queens University \n  \nHosted by Geoffrey R. Weller Library\, UNBC \nCo-sponsored by: University of Northern British Columbia\, Northern Lights College\, Coast Mountain College\, Yukon University\, and the College of New Caledonia
URL:https://www.nlc.bc.ca/event/ai-literacy-webinar/
LOCATION:Online\, Canada
CATEGORIES:College Events
ATTACH;FMTTYPE=image/png:https://www.nlc.bc.ca/wp-content/uploads/AI_webinar.png
END:VEVENT
BEGIN:VEVENT
DTSTART;TZID=America/Vancouver:20240228T113000
DTEND;TZID=America/Vancouver:20240228T130000
DTSTAMP:20260420T003915
CREATED:20240220T152808Z
LAST-MODIFIED:20240220T211751Z
UID:10001359-1709119800-1709125200@www.nlc.bc.ca
SUMMARY:Pink Shirt Day DC
DESCRIPTION:Join us for Pink Shirt Day anti-bullying activities! \n\nCookie decorating\nKindness activities\nPhoto prop\n\nDon’t have a pink shirt? We’ve got you covered. Take a photo with our pink t-shirt prop provided by our carpentry students. \nFind us on the Dawson Creek Campus in the Cafeteria. \nLocation: Dawson Creek Campus Cafeteria and FSJ Atrium
URL:https://www.nlc.bc.ca/event/pink-shirt-day/
LOCATION:Dawson Creek Campus\, 11401 8th St\, Dawson Creek\, British Columbia\, V1G 4G2\, Canada
CATEGORIES:College Events
END:VEVENT
BEGIN:VEVENT
DTSTART;TZID=America/Vancouver:20240228T113000
DTEND;TZID=America/Vancouver:20240228T130000
DTSTAMP:20260420T003915
CREATED:20240220T153342Z
LAST-MODIFIED:20240220T211814Z
UID:10001360-1709119800-1709125200@www.nlc.bc.ca
SUMMARY:Pink Shirt Day FSJ
DESCRIPTION:Join us for Pink Shirt Day anti-bullying activities! \n\nCookie decorating\nKindness activities\nPhoto prop\n\nDon’t have a pink shirt? We’ve got you covered. Take a photo with our pink t-shirt prop provided by our carpentry students. \nFind us on the FSJ Campus in the Atrium. \nLocation: Dawson Creek Campus Cafeteria and FSJ Atrium
URL:https://www.nlc.bc.ca/event/pink-shirt-day-fsj/
LOCATION:Fort St. John Campus\, 9820 - 120th Ave\, Fort St. John\, British Columbia\, V1J 8C3\, Canada
CATEGORIES:College Events
END:VEVENT
BEGIN:VEVENT
DTSTART;VALUE=DATE:20240325
DTEND;VALUE=DATE:20240329
DTSTAMP:20260420T003915
CREATED:20240322T225618Z
LAST-MODIFIED:20240326T220143Z
UID:10001454-1711324800-1711670399@www.nlc.bc.ca
SUMMARY:Elder in Residence — Dean Dokkie — West Moberly First Nations
DESCRIPTION:The Indigenous Education team is excited to announce that Elder Dean Dokkie from West Moberly First Nations will be in residence at the Dawson Creek campus March 25–27\, 2024! This will be Dean’s first residency here at NLC — we are grateful and honoured to have him share with us! \nFind out more information about Dean and his scheduled teachings. \nThese events are open to current students\, staff\, faculty\, and community. These are amazing opportunities to take in valuable teachings gained from Dean’s education and experiences. We look forward to experiencing these teachings with you!
URL:https://www.nlc.bc.ca/event/elder-in-residence-march-2024/
LOCATION:British Columbia
CATEGORIES:College Events
END:VEVENT
BEGIN:VEVENT
DTSTART;VALUE=DATE:20240325
DTEND;VALUE=DATE:20240329
DTSTAMP:20260420T003915
CREATED:20240322T230803Z
LAST-MODIFIED:20240326T220231Z
UID:10001463-1711324800-1711670399@www.nlc.bc.ca
SUMMARY:Elder in Residence — Saulteaux Elder Ken Cameron
DESCRIPTION:The Indigenous Education team is excited to announce that Saulteaux Elder Ken Cameron from Saulteau First Nations will be in residence at the Dawson Creek campus March 25–27\, 2024! This will be Ken’s first residency here at NLC — we are grateful and honoured to have him share with us! \nFind out more information about Ken and his scheduled teachings. \nThese events are open to current students\, staff\, faculty\, and community. These are amazing opportunities to take in valuable teachings gained from Dean’s education and experiences. We look forward to experiencing these teachings with you!
URL:https://www.nlc.bc.ca/event/elder-in-residence-saulteaux-elder-ken-cameron/
LOCATION:British Columbia
CATEGORIES:College Events
END:VEVENT
BEGIN:VEVENT
DTSTART;TZID=America/Vancouver:20240326T120000
DTEND;TZID=America/Vancouver:20240326T130000
DTSTAMP:20260420T003915
CREATED:20240325T164849Z
LAST-MODIFIED:20240326T215848Z
UID:10001464-1711454400-1711458000@www.nlc.bc.ca
SUMMARY:Astum! Teachings with Soup and Bannock
DESCRIPTION:Come for soup and bannock and listen to Tahltan Elder Ta na’as\, David Rattray’s teachings about Indigenous Sweats. \nTuesday\, March 26\, in the Fort St. John campus’ Indigenous Gathering Space. This event is open to all.
URL:https://www.nlc.bc.ca/event/astum-teachings-with-soup-and-bannock-6/
LOCATION:NLC Fort St. John Gathering Space\, 9820 – 120th Ave \, BC V1J 8C3\, Fort St. John\, British Columbia\, V1J 8C3\, Canada
CATEGORIES:College Events
END:VEVENT
BEGIN:VEVENT
DTSTART;TZID=America/Vancouver:20240327T120000
DTEND;TZID=America/Vancouver:20240327T130000
DTSTAMP:20260420T003915
CREATED:20240325T175019Z
LAST-MODIFIED:20240326T220301Z
UID:10001465-1711540800-1711544400@www.nlc.bc.ca
SUMMARY:Astum! Teachings with Soup and Bannock
DESCRIPTION:Come for soup and bannock and listen to Saulteaux Elder Ken Cameron and Elder Dean Dokkie teach on the Prophecy of the Twin Sisters Mountains. \nWednesday\, March 27\, in the Dawson Creek campus’ Indigenous Gathering Space. This event is open to all.
URL:https://www.nlc.bc.ca/event/astum-teachings-with-soup-and-bannock-7/
LOCATION:Dawson Creek Campus Trades Training Centre\, 11401 8 Street\, Dawson Creek\, British Columbia\, V1G 4G2\, Canada
CATEGORIES:College Events
END:VEVENT
BEGIN:VEVENT
DTSTART;TZID=America/Vancouver:20240327T160000
DTEND;TZID=America/Vancouver:20240327T180000
DTSTAMP:20260420T003915
CREATED:20240322T221648Z
LAST-MODIFIED:20240322T223501Z
UID:10001462-1711555200-1711562400@www.nlc.bc.ca
SUMMARY:Hit the Books
DESCRIPTION:Cram for your exams with the help of the amazing library staff! \nThis is a great opportunity to meet with your friends\, grab some snacks\, and focus on your materials before your final exams.
URL:https://www.nlc.bc.ca/event/hit-the-books/
LOCATION:Dawson Creek Campus\, 11401 8th St\, Dawson Creek\, British Columbia\, V1G 4G2\, Canada
CATEGORIES:College Events
ORGANIZER;CN="Learning Support Services":MAILTO:learningsupport@nlc.bc.ca
END:VEVENT
BEGIN:VEVENT
DTSTART;TZID=America/Vancouver:20240403T160000
DTEND;TZID=America/Vancouver:20240403T180000
DTSTAMP:20260420T003915
CREATED:20240322T214326Z
LAST-MODIFIED:20240322T223431Z
UID:10001461-1712160000-1712167200@www.nlc.bc.ca
SUMMARY:Period Party
DESCRIPTION:Raise awareness about menstruation poverty\nBreak taboos around menstruation.\nParticipate in interactive activities\nEnjoy snacks and gifts!\n\nDawson Creek – 4-6pm in the Gathering Space \nFort St John Campus – 4-6pm in the Atrium
URL:https://www.nlc.bc.ca/event/period-party-2/
LOCATION:Fort St. John Campus\, 9820 - 120th Ave\, Fort St. John\, British Columbia\, V1J 8C3\, Canada
CATEGORIES:College Events
ORGANIZER;CN="Student Life":MAILTO:studentlife@nlc.bc.ca
END:VEVENT
BEGIN:VEVENT
DTSTART;TZID=America/Vancouver:20240405T190000
DTEND;TZID=America/Vancouver:20240405T210000
DTSTAMP:20260420T003915
CREATED:20240327T161126Z
LAST-MODIFIED:20240327T161126Z
UID:10001467-1712343600-1712350800@www.nlc.bc.ca
SUMMARY:Knowledge Unleashed: The Dynamics of Cancer
DESCRIPTION:Join us on April 5 for an information filled presentation by Godwin Ponuwei\, PhD. \nUnable to attend? Join us on Teams!
URL:https://www.nlc.bc.ca/event/knowledge-unleashed-the-dynamics-of-cancer/
LOCATION:Fort St. John Campus\, 9820 - 120th Ave\, Fort St. John\, British Columbia\, V1J 8C3\, Canada
CATEGORIES:College Events
END:VEVENT
BEGIN:VEVENT
DTSTART;TZID=America/Vancouver:20240417T170000
DTEND;TZID=America/Vancouver:20240417T210000
DTSTAMP:20260420T003915
CREATED:20240326T214207Z
LAST-MODIFIED:20240326T220536Z
UID:10001466-1713373200-1713387600@www.nlc.bc.ca
SUMMARY:Rodeo Team Send-off
DESCRIPTION:April 17\, 2024\n5–9pm\nTrades Training Centre\nArctic Corridor\nDawson Creek Campus \nLink to Rodeo Poster
URL:https://www.nlc.bc.ca/event/rodeo-team-send-off/
LOCATION:Dawson Creek Campus\, 11401 8th St\, Dawson Creek\, British Columbia\, V1G 4G2\, Canada
CATEGORIES:College Events,Sports
END:VEVENT
END:VCALENDAR