BEGIN:VCALENDAR
VERSION:2.0
PRODID:-//Northern Lights College - ECPv6.15.17.1//NONSGML v1.0//EN
CALSCALE:GREGORIAN
METHOD:PUBLISH
X-ORIGINAL-URL:https://www.nlc.bc.ca
X-WR-CALDESC:Events for Northern Lights College
REFRESH-INTERVAL;VALUE=DURATION:PT1H
X-Robots-Tag:noindex
X-PUBLISHED-TTL:PT1H
BEGIN:VTIMEZONE
TZID:America/Vancouver
BEGIN:DAYLIGHT
TZOFFSETFROM:-0800
TZOFFSETTO:-0700
TZNAME:PDT
DTSTART:20220313T100000
END:DAYLIGHT
BEGIN:STANDARD
TZOFFSETFROM:-0700
TZOFFSETTO:-0800
TZNAME:PST
DTSTART:20221106T090000
END:STANDARD
BEGIN:DAYLIGHT
TZOFFSETFROM:-0800
TZOFFSETTO:-0700
TZNAME:PDT
DTSTART:20230312T100000
END:DAYLIGHT
BEGIN:STANDARD
TZOFFSETFROM:-0700
TZOFFSETTO:-0800
TZNAME:PST
DTSTART:20231105T090000
END:STANDARD
BEGIN:DAYLIGHT
TZOFFSETFROM:-0800
TZOFFSETTO:-0700
TZNAME:PDT
DTSTART:20240310T100000
END:DAYLIGHT
BEGIN:STANDARD
TZOFFSETFROM:-0700
TZOFFSETTO:-0800
TZNAME:PST
DTSTART:20241103T090000
END:STANDARD
END:VTIMEZONE
BEGIN:VTIMEZONE
TZID:America/Dawson_Creek
BEGIN:STANDARD
TZOFFSETFROM:-0700
TZOFFSETTO:-0700
TZNAME:MST
DTSTART:20220101T000000
END:STANDARD
END:VTIMEZONE
BEGIN:VTIMEZONE
TZID:America/Phoenix
BEGIN:STANDARD
TZOFFSETFROM:-0700
TZOFFSETTO:-0700
TZNAME:MST
DTSTART:20220101T000000
END:STANDARD
END:VTIMEZONE
BEGIN:VEVENT
DTSTART;TZID=America/Vancouver:20230329T101500
DTEND;TZID=America/Vancouver:20230329T120000
DTSTAMP:20260420T093937
CREATED:20230221T190608Z
LAST-MODIFIED:20230221T191226Z
UID:10000866-1680084900-1680091200@www.nlc.bc.ca
SUMMARY:Fort St. John Student Council Meeting
DESCRIPTION:Fort St. John Student Council meets Wednesdays in Room 156 from 10:15am \nAll NLC students welcome.
URL:https://www.nlc.bc.ca/event/fort-st-john-student-council-meeting/2023-03-29/
LOCATION:BC
CATEGORIES:College Events,Student Council Meetings
END:VEVENT
BEGIN:VEVENT
DTSTART;TZID=America/Vancouver:20230330T150000
DTEND;TZID=America/Vancouver:20230330T160000
DTSTAMP:20260420T093937
CREATED:20230221T193031Z
LAST-MODIFIED:20230221T193050Z
UID:10000972-1680188400-1680192000@www.nlc.bc.ca
SUMMARY:Conversation Circles
DESCRIPTION:Conversation Circles \nEvery Thursday from February 9 to March 30 from 3–4pm \nFort St. John Campus Atrium \nConversation\, Coffee and snacks. \n << For information on topics click image at left
URL:https://www.nlc.bc.ca/event/conversation-circles/2023-03-30/
LOCATION:BC
CATEGORIES:College Events
END:VEVENT
BEGIN:VEVENT
DTSTART;TZID=America/Vancouver:20230330T173000
DTEND;TZID=America/Vancouver:20230330T193000
DTSTAMP:20260420T093937
CREATED:20230221T193311Z
LAST-MODIFIED:20230221T193323Z
UID:10000978-1680197400-1680204600@www.nlc.bc.ca
SUMMARY:Pub Night - DC
DESCRIPTION:Every Thursday\, 5:30-7:30 \nGeorge Dawson Inn Lounge\, Dawson Creek \nShow your student or staff ID and receive 15% off your food bill!
URL:https://www.nlc.bc.ca/event/pub-night-dc/2023-03-30/
LOCATION:George Dawson Inn Lounge\, 11705 8th St\, Dawson Creek\, BC\, V1G 4N9\, Canada
CATEGORIES:College Events
END:VEVENT
BEGIN:VEVENT
DTSTART;TZID=America/Vancouver:20230331T190000
DTEND;TZID=America/Vancouver:20230331T210000
DTSTAMP:20260420T093937
CREATED:20230221T193628Z
LAST-MODIFIED:20230221T193652Z
UID:10000987-1680289200-1680296400@www.nlc.bc.ca
SUMMARY:Intramurals - DC
DESCRIPTION:Intramurals \nFridays: 7–9pm \nDawson Creek Campus Gym \nContact Chanteil 250-401-8080\, cdrschiwiski@engagesportnorth.com for questions and more information.
URL:https://www.nlc.bc.ca/event/intramurals-dc/2023-03-31/
LOCATION:Dawson Creek Campus\, 11401 8th St\, Dawson Creek\, British Columbia\, V1G 4G2\, Canada
CATEGORIES:College Events,Sports
ORGANIZER;CN="Chantiel":MAILTO:cdrschiwiski@engagesportnorth.com
END:VEVENT
BEGIN:VEVENT
DTSTART;TZID=America/Vancouver:20230401T170000
DTEND;TZID=America/Vancouver:20230401T190000
DTSTAMP:20260420T093937
CREATED:20230221T194055Z
LAST-MODIFIED:20230221T194055Z
UID:10001005-1680368400-1680375600@www.nlc.bc.ca
SUMMARY:Cricket - FSJ
DESCRIPTION:Cricket \nSaturdays 5-7pm \nContact Chanteil 250-401-8080 cdrschiwiski@engagesportnorth.com for details.
URL:https://www.nlc.bc.ca/event/cricket-fsj/2023-04-01/
LOCATION:BC
CATEGORIES:College Events,Sports
END:VEVENT
BEGIN:VEVENT
DTSTART;TZID=America/Vancouver:20230404T114500
DTEND;TZID=America/Vancouver:20230404T124500
DTSTAMP:20260420T093937
CREATED:20230221T184416Z
LAST-MODIFIED:20230221T191248Z
UID:10000808-1680608700-1680612300@www.nlc.bc.ca
SUMMARY:Zumba for wellness
DESCRIPTION:Tuesdays\, January 17–April 4\, 2023 \nDawson Creek Gymnasium \nOpen to all students and staff \nContact Learning Support for more information.
URL:https://www.nlc.bc.ca/event/zumba-for-wellness/2023-04-04/
LOCATION:Dawson Creek Campus\, 11401 8th St\, Dawson Creek\, British Columbia\, V1G 4G2\, Canada
CATEGORIES:College Events,Sports
END:VEVENT
BEGIN:VEVENT
DTSTART;TZID=America/Vancouver:20230405T101500
DTEND;TZID=America/Vancouver:20230405T120000
DTSTAMP:20260420T093937
CREATED:20230221T190608Z
LAST-MODIFIED:20230221T191226Z
UID:10000867-1680689700-1680696000@www.nlc.bc.ca
SUMMARY:Fort St. John Student Council Meeting
DESCRIPTION:Fort St. John Student Council meets Wednesdays in Room 156 from 10:15am \nAll NLC students welcome.
URL:https://www.nlc.bc.ca/event/fort-st-john-student-council-meeting/2023-04-05/
LOCATION:BC
CATEGORIES:College Events,Student Council Meetings
END:VEVENT
BEGIN:VEVENT
DTSTART;TZID=America/Vancouver:20230406T173000
DTEND;TZID=America/Vancouver:20230406T193000
DTSTAMP:20260420T093937
CREATED:20230221T193311Z
LAST-MODIFIED:20230221T193323Z
UID:10000979-1680802200-1680809400@www.nlc.bc.ca
SUMMARY:Pub Night - DC
DESCRIPTION:Every Thursday\, 5:30-7:30 \nGeorge Dawson Inn Lounge\, Dawson Creek \nShow your student or staff ID and receive 15% off your food bill!
URL:https://www.nlc.bc.ca/event/pub-night-dc/2023-04-06/
LOCATION:George Dawson Inn Lounge\, 11705 8th St\, Dawson Creek\, BC\, V1G 4N9\, Canada
CATEGORIES:College Events
END:VEVENT
BEGIN:VEVENT
DTSTART;TZID=America/Vancouver:20230407T190000
DTEND;TZID=America/Vancouver:20230407T210000
DTSTAMP:20260420T093937
CREATED:20230221T193628Z
LAST-MODIFIED:20230221T193652Z
UID:10000988-1680894000-1680901200@www.nlc.bc.ca
SUMMARY:Intramurals - DC
DESCRIPTION:Intramurals \nFridays: 7–9pm \nDawson Creek Campus Gym \nContact Chanteil 250-401-8080\, cdrschiwiski@engagesportnorth.com for questions and more information.
URL:https://www.nlc.bc.ca/event/intramurals-dc/2023-04-07/
LOCATION:Dawson Creek Campus\, 11401 8th St\, Dawson Creek\, British Columbia\, V1G 4G2\, Canada
CATEGORIES:College Events,Sports
ORGANIZER;CN="Chantiel":MAILTO:cdrschiwiski@engagesportnorth.com
END:VEVENT
BEGIN:VEVENT
DTSTART;TZID=America/Vancouver:20230408T170000
DTEND;TZID=America/Vancouver:20230408T190000
DTSTAMP:20260420T093937
CREATED:20230221T194055Z
LAST-MODIFIED:20230221T194055Z
UID:10001006-1680973200-1680980400@www.nlc.bc.ca
SUMMARY:Cricket - FSJ
DESCRIPTION:Cricket \nSaturdays 5-7pm \nContact Chanteil 250-401-8080 cdrschiwiski@engagesportnorth.com for details.
URL:https://www.nlc.bc.ca/event/cricket-fsj/2023-04-08/
LOCATION:BC
CATEGORIES:College Events,Sports
END:VEVENT
BEGIN:VEVENT
DTSTART;TZID=America/Vancouver:20230413T173000
DTEND;TZID=America/Vancouver:20230413T193000
DTSTAMP:20260420T093937
CREATED:20230221T193311Z
LAST-MODIFIED:20230221T193323Z
UID:10000980-1681407000-1681414200@www.nlc.bc.ca
SUMMARY:Pub Night - DC
DESCRIPTION:Every Thursday\, 5:30-7:30 \nGeorge Dawson Inn Lounge\, Dawson Creek \nShow your student or staff ID and receive 15% off your food bill!
URL:https://www.nlc.bc.ca/event/pub-night-dc/2023-04-13/
LOCATION:George Dawson Inn Lounge\, 11705 8th St\, Dawson Creek\, BC\, V1G 4N9\, Canada
CATEGORIES:College Events
END:VEVENT
BEGIN:VEVENT
DTSTART;TZID=America/Vancouver:20230414T190000
DTEND;TZID=America/Vancouver:20230414T210000
DTSTAMP:20260420T093937
CREATED:20230221T193628Z
LAST-MODIFIED:20230221T193652Z
UID:10000989-1681498800-1681506000@www.nlc.bc.ca
SUMMARY:Intramurals - DC
DESCRIPTION:Intramurals \nFridays: 7–9pm \nDawson Creek Campus Gym \nContact Chanteil 250-401-8080\, cdrschiwiski@engagesportnorth.com for questions and more information.
URL:https://www.nlc.bc.ca/event/intramurals-dc/2023-04-14/
LOCATION:Dawson Creek Campus\, 11401 8th St\, Dawson Creek\, British Columbia\, V1G 4G2\, Canada
CATEGORIES:College Events,Sports
ORGANIZER;CN="Chantiel":MAILTO:cdrschiwiski@engagesportnorth.com
END:VEVENT
BEGIN:VEVENT
DTSTART;TZID=America/Vancouver:20230415T170000
DTEND;TZID=America/Vancouver:20230415T190000
DTSTAMP:20260420T093937
CREATED:20230221T194055Z
LAST-MODIFIED:20230221T194055Z
UID:10001007-1681578000-1681585200@www.nlc.bc.ca
SUMMARY:Cricket - FSJ
DESCRIPTION:Cricket \nSaturdays 5-7pm \nContact Chanteil 250-401-8080 cdrschiwiski@engagesportnorth.com for details.
URL:https://www.nlc.bc.ca/event/cricket-fsj/2023-04-15/
LOCATION:BC
CATEGORIES:College Events,Sports
END:VEVENT
BEGIN:VEVENT
DTSTART;TZID=America/Vancouver:20230420T173000
DTEND;TZID=America/Vancouver:20230420T193000
DTSTAMP:20260420T093937
CREATED:20230221T193311Z
LAST-MODIFIED:20230221T193323Z
UID:10000981-1682011800-1682019000@www.nlc.bc.ca
SUMMARY:Pub Night - DC
DESCRIPTION:Every Thursday\, 5:30-7:30 \nGeorge Dawson Inn Lounge\, Dawson Creek \nShow your student or staff ID and receive 15% off your food bill!
URL:https://www.nlc.bc.ca/event/pub-night-dc/2023-04-20/
LOCATION:George Dawson Inn Lounge\, 11705 8th St\, Dawson Creek\, BC\, V1G 4N9\, Canada
CATEGORIES:College Events
END:VEVENT
BEGIN:VEVENT
DTSTART;TZID=America/Dawson_Creek:20230621T110000
DTEND;TZID=America/Dawson_Creek:20230621T110000
DTSTAMP:20260420T093937
CREATED:20230614T184742Z
LAST-MODIFIED:20230615T171534Z
UID:10001200-1687345200-1687345200@www.nlc.bc.ca
SUMMARY:National Indigenous Peoples Day — Fort St. John
DESCRIPTION:Fort St. John! Join us as we celebrate Indigenous peoples and cultures!\nNorthern Light College Fort St. John campus — join us!\n3pm–6pm\, July 21\, 2023 \nBBQ\, drummers\, live music\, speakers\, and more!
URL:https://www.nlc.bc.ca/event/national-indigenous-peoples-day/
LOCATION:BC
CATEGORIES:College Events
ATTACH;FMTTYPE=image/jpeg:https://www.nlc.bc.ca/wp-content/uploads/National-Indigenous-FB-Event-Header-FSJ.jpg
END:VEVENT
BEGIN:VEVENT
DTSTART;TZID=America/Vancouver:20230623T083000
DTEND;TZID=America/Vancouver:20230623T170000
DTSTAMP:20260420T093937
CREATED:20230516T215717Z
LAST-MODIFIED:20230516T224100Z
UID:10001137-1687509000-1687539600@www.nlc.bc.ca
SUMMARY:Mind the Gap
DESCRIPTION:Mind the Gap: Preventing Failures in HVAC and Airtightness\nContractors\, Register Today! \n7.5 CPDs pre-approved by BC Housing \nThis one-day course will take a deeper dive into the BC Energy Step Code metrics for Part 9 buildings and how to achieve Step 3 and higher through design and building techniques to minimize extra cost. >> Learn more.
URL:https://www.nlc.bc.ca/event/mind-the-gap/
LOCATION:Dawson Creek Campus\, 11401 8th St\, Dawson Creek\, British Columbia\, V1G 4G2\, Canada
CATEGORIES:College Events
END:VEVENT
BEGIN:VEVENT
DTSTART;TZID=America/Vancouver:20230925T110000
DTEND;TZID=America/Vancouver:20230925T130000
DTSTAMP:20260420T093937
CREATED:20230915T161726Z
LAST-MODIFIED:20230915T170537Z
UID:10001275-1695639600-1695646800@www.nlc.bc.ca
SUMMARY:Indigenous Engagement Protocols: Building Meaningful Relationships
DESCRIPTION:As part of NLC’s Truth and Reconciliation Week\, our Indigenous Education Department is presenting this learning opportunity to staff and faculty in our Fort St. John campus’ Gathering Space.
URL:https://www.nlc.bc.ca/event/indigenous-engagement-protocols-building-meaningful-relationships/
LOCATION:Fort St. John Campus\, 9820 - 120th Ave\, Fort St. John\, British Columbia\, V1J 8C3\, Canada
CATEGORIES:College Events
ATTACH;FMTTYPE=image/jpeg:https://www.nlc.bc.ca/wp-content/uploads/truth_and_Reconciliation-scaled.jpg
END:VEVENT
BEGIN:VEVENT
DTSTART;TZID=America/Vancouver:20230925T130000
DTEND;TZID=America/Vancouver:20230925T170000
DTSTAMP:20260420T093937
CREATED:20230915T163513Z
LAST-MODIFIED:20230915T164631Z
UID:10001276-1695646800-1695661200@www.nlc.bc.ca
SUMMARY:Metis Beading workshop
DESCRIPTION:Truth and Reconciliation Week event:\nMetis Beading workshop with Haley Bassett in Fort St. John campus’ Gathering Space \n1pm–5pm \nPlease get here early to be involved — there is limited space and number of participants\n— students have priority (15 participants max — 10 reserved seats for Indigenous students).\nFree event
URL:https://www.nlc.bc.ca/event/metis-beading-workshop/
LOCATION:Fort St. John Campus\, 9820 - 120th Ave\, Fort St. John\, British Columbia\, V1J 8C3\, Canada
CATEGORIES:College Events
ATTACH;FMTTYPE=image/jpeg:https://www.nlc.bc.ca/wp-content/uploads/truth_and_Reconciliation-scaled.jpg
END:VEVENT
BEGIN:VEVENT
DTSTART;TZID=America/Vancouver:20230927T110000
DTEND;TZID=America/Vancouver:20230927T120000
DTSTAMP:20260420T093937
CREATED:20230915T165248Z
LAST-MODIFIED:20230921T164754Z
UID:10001278-1695812400-1695816000@www.nlc.bc.ca
SUMMARY:Webinar — All my Reciprocal Relations
DESCRIPTION:Truth and Reconciliation Week event: \nWebinar with Mark Solomon\n11am–12pm \nAll My Reciprocal Relations \nWebinar information
URL:https://www.nlc.bc.ca/event/webinar-all-my-reciprocal-relations/
LOCATION:Fort St. John Campus\, 9820 - 120th Ave\, Fort St. John\, British Columbia\, V1J 8C3\, Canada
CATEGORIES:College Events
ATTACH;FMTTYPE=image/jpeg:https://www.nlc.bc.ca/wp-content/uploads/truth_and_Reconciliation-scaled.jpg
END:VEVENT
BEGIN:VEVENT
DTSTART;TZID=America/Vancouver:20230927T180000
DTEND;TZID=America/Vancouver:20230927T200000
DTSTAMP:20260420T093937
CREATED:20230915T170144Z
LAST-MODIFIED:20230915T170543Z
UID:10001279-1695837600-1695844800@www.nlc.bc.ca
SUMMARY:Picking Up the Pieces: The Making of the Witness Blanket
DESCRIPTION:Truth and Reconciliation awareness film \nPicking Up the Pieces: The Making of the Witness Blanket \n6-8pm \nFSJ Campus Atrium.
URL:https://www.nlc.bc.ca/event/picking-up-the-pieces-the-making-of-the-witness-blanket/
LOCATION:Fort St. John Campus\, 9820 - 120th Ave\, Fort St. John\, British Columbia\, V1J 8C3\, Canada
CATEGORIES:College Events
ATTACH;FMTTYPE=image/jpeg:https://www.nlc.bc.ca/wp-content/uploads/truth_and_Reconciliation-scaled.jpg
END:VEVENT
BEGIN:VEVENT
DTSTART;TZID=America/Vancouver:20230928T140000
DTEND;TZID=America/Vancouver:20230928T170000
DTSTAMP:20260420T093937
CREATED:20230921T180238Z
LAST-MODIFIED:20230921T184247Z
UID:10001285-1695909600-1695920400@www.nlc.bc.ca
SUMMARY:Nathan Scott — Teaching Circle
DESCRIPTION:Knowledge-keeper Nathan Scott\, will host a teachings circle on various cultural aspects such as medicines\, drumming\, and songs. This free event will be open to students\, staff\, and faculty. \nSeptember 28\, 2–5pm at the Chetwynd campus’ Indigenous Gathering Space
URL:https://www.nlc.bc.ca/event/nathan-scott-teaching-circle/
LOCATION:Chetwynd Campus\, 5132 50 Street\, Chetwynd\, British Columbia\, V0C 1J0\, Canada
CATEGORIES:College Events
ATTACH;FMTTYPE=image/jpeg:https://www.nlc.bc.ca/wp-content/uploads/truth_and_Reconciliation-scaled.jpg
END:VEVENT
BEGIN:VEVENT
DTSTART;TZID=America/Vancouver:20230928T180000
DTEND;TZID=America/Vancouver:20230928T200000
DTSTAMP:20260420T093937
CREATED:20230915T172511Z
LAST-MODIFIED:20230915T172728Z
UID:10001281-1695924000-1695931200@www.nlc.bc.ca
SUMMARY:Picking Up the Pieces: The Making of the Witness Blanket
DESCRIPTION:Truth and Reconciliation awareness film \nPicking Up the Pieces: The Making of the Witness Blanket \n6-8pm \nDC Campus Room 116 (Health Sciences Building)
URL:https://www.nlc.bc.ca/event/picking-up-the-pieces-the-making-of-the-witness-blanket-2/
LOCATION:Dawson Creek Campus\, 11401 8th St\, Dawson Creek\, British Columbia\, V1G 4G2\, Canada
CATEGORIES:College Events
ATTACH;FMTTYPE=image/jpeg:https://www.nlc.bc.ca/wp-content/uploads/truth_and_Reconciliation-scaled.jpg
END:VEVENT
BEGIN:VEVENT
DTSTART;TZID=America/Vancouver:20230929T090000
DTEND;TZID=America/Vancouver:20230929T120000
DTSTAMP:20260420T093937
CREATED:20230915T173006Z
LAST-MODIFIED:20230915T173801Z
UID:10001282-1695978000-1695988800@www.nlc.bc.ca
SUMMARY:Indigenous Engagement Protocols: Building Meaningful Relationships
DESCRIPTION:As part of NLC’s Truth and Reconciliation Week\, our Indigenous Education Department is presenting this learning opportunity to staff and faculty in our Dawson Creek campus’ Gathering Space.
URL:https://www.nlc.bc.ca/event/indigenous-engagement-protocols-building-meaningful-relationships-2/
LOCATION:Dawson Creek Campus\, 11401 8th St\, Dawson Creek\, British Columbia\, V1G 4G2\, Canada
CATEGORIES:College Events
ATTACH;FMTTYPE=image/jpeg:https://www.nlc.bc.ca/wp-content/uploads/truth_and_Reconciliation-scaled.jpg
END:VEVENT
BEGIN:VEVENT
DTSTART;TZID=America/Vancouver:20230929T130000
DTEND;TZID=America/Vancouver:20230929T160000
DTSTAMP:20260420T093937
CREATED:20230915T175536Z
LAST-MODIFIED:20230915T180237Z
UID:10001283-1695992400-1696003200@www.nlc.bc.ca
SUMMARY:Driftpile Cree Nation Drummers & Dancers
DESCRIPTION:As part of NLC’s Truth and Reconciliation Week\, our Indigenous Education Department is hosting the Driftpile Cree Nation\, AB\, Drummers & Dancers with local DC dancers on Dawson Creek Campus Centre lobby. \nThere will be teachings about the songs\, dance and drumming\, tea dance and snacks. \nThis event is free
URL:https://www.nlc.bc.ca/event/driftpile-cree-nation-drummers-dancers/
LOCATION:Dawson Creek Campus\, 11401 8th St\, Dawson Creek\, British Columbia\, V1G 4G2\, Canada
CATEGORIES:College Events
ATTACH;FMTTYPE=image/jpeg:https://www.nlc.bc.ca/wp-content/uploads/truth_and_Reconciliation-scaled.jpg
END:VEVENT
BEGIN:VEVENT
DTSTART;TZID=America/Vancouver:20231004T080000
DTEND;TZID=America/Vancouver:20231004T170000
DTSTAMP:20260420T093937
CREATED:20230815T163309Z
LAST-MODIFIED:20231004T182821Z
UID:10001257-1696406400-1696438800@www.nlc.bc.ca
SUMMARY:NLCSA General Election
DESCRIPTION:It’s Election Day! \nCheck your student email for your voting ballot and cast your vote! \n 
URL:https://www.nlc.bc.ca/event/nlcsa-general-election/
LOCATION:Online\, Canada
CATEGORIES:College Events,Student Association
END:VEVENT
BEGIN:VEVENT
DTSTART;TZID=America/Vancouver:20231011T110000
DTEND;TZID=America/Vancouver:20231011T140000
DTSTAMP:20260420T093937
CREATED:20230706T025816Z
LAST-MODIFIED:20231004T171302Z
UID:10001252-1697022000-1697032800@www.nlc.bc.ca
SUMMARY:Community Fair - DC campus
DESCRIPTION:Northern Lights College is hosting their annual COMMUNITY FAIR for new and returning students to discover what their town has to offer them! This will take place in the foyer and CCET on the Dawson Creek campus.
URL:https://www.nlc.bc.ca/event/community-fair-dc-campus/
LOCATION:Dawson Creek Campus\, 11401 8th St\, Dawson Creek\, British Columbia\, V1G 4G2\, Canada
CATEGORIES:College Events
END:VEVENT
BEGIN:VEVENT
DTSTART;TZID=America/Vancouver:20231012T110000
DTEND;TZID=America/Vancouver:20231012T140000
DTSTAMP:20260420T093937
CREATED:20230706T025644Z
LAST-MODIFIED:20231004T171253Z
UID:10001251-1697108400-1697119200@www.nlc.bc.ca
SUMMARY:Community Fair - FSJ campus
DESCRIPTION:Northern Lights College is hosting their annual COMMUNITY FAIR for new and returning students to discover what their town has to offer them! This event will take place in the Atrium on the FSJ campus.
URL:https://www.nlc.bc.ca/event/community-fair-fsj-campus/
LOCATION:Northern Lights College Fort St. John campus\, 9820 – 120 Avenue\, Fort St. John\, British Columbia\, V1J 8C3\, Canada
CATEGORIES:College Events
END:VEVENT
BEGIN:VEVENT
DTSTART;TZID=America/Phoenix:20231017T120000
DTEND;TZID=America/Phoenix:20231017T130000
DTSTAMP:20260420T093937
CREATED:20231004T162418Z
LAST-MODIFIED:20231004T203035Z
UID:10001287-1697544000-1697547600@www.nlc.bc.ca
SUMMARY:The Uncaged Mind — Book Reading
DESCRIPTION:Katie Potratz\, a local hypnotherapist\, has written an Amazon bestselling book\, The Uncaged Mind. In it\, she tells stories of her work with people in pain — both physical and emotional — and helping them become their best confident selves. \nCome out at lunch time to the Atrium\, meet Katie\, listen to her read\, and get your book signed!
URL:https://www.nlc.bc.ca/event/the-uncaged-mind-book-signing/
LOCATION:Fort St. John Campus\, 9820 - 120th Ave\, Fort St. John\, British Columbia\, V1J 8C3\, Canada
CATEGORIES:College Events
ATTACH;FMTTYPE=image/jpeg:https://www.nlc.bc.ca/wp-content/uploads/Katie_Potratz_reading.jpg
END:VEVENT
BEGIN:VEVENT
DTSTART;TZID=America/Phoenix:20231018T120000
DTEND;TZID=America/Phoenix:20231018T130000
DTSTAMP:20260420T093938
CREATED:20231004T162551Z
LAST-MODIFIED:20231004T202342Z
UID:10001288-1697630400-1697634000@www.nlc.bc.ca
SUMMARY:The Uncaged Mind — Book Reading
DESCRIPTION:Katie Potratz\, a local hypnotherapist\, has written an Amazon bestselling book\, The Uncaged Mind. In it\, she tells stories of her work with people in pain — both physical and emotional — and helping them become their best confident selves. \nCome out at lunch time to the multi-purpose room in CCET\, meet Katie\, listen to her read from the book\, and get your book signed!
URL:https://www.nlc.bc.ca/event/the-uncaged-mind-book-signing-2/
LOCATION:Dawson Creek Campus\, 11401 8th St\, Dawson Creek\, British Columbia\, V1G 4G2\, Canada
CATEGORIES:College Events
ATTACH;FMTTYPE=image/jpeg:https://www.nlc.bc.ca/wp-content/uploads/Katie_Potratz_reading.jpg
END:VEVENT
BEGIN:VEVENT
DTSTART;TZID=America/Vancouver:20231019T140000
DTEND;TZID=America/Vancouver:20231019T190000
DTSTAMP:20260420T093938
CREATED:20230821T203220Z
LAST-MODIFIED:20231004T171326Z
UID:10001259-1697724000-1697742000@www.nlc.bc.ca
SUMMARY:Fort Nelson Open House
DESCRIPTION:
URL:https://www.nlc.bc.ca/event/fort-nelson-open-house/
LOCATION:Fort Nelson Campus\, 5201 Simpson Trail\, Fort Nelson\, BC\, Canada
CATEGORIES:College Events
END:VEVENT
END:VCALENDAR