BEGIN:VCALENDAR
VERSION:2.0
PRODID:-//Northern Lights College - ECPv6.15.17.1//NONSGML v1.0//EN
CALSCALE:GREGORIAN
METHOD:PUBLISH
X-ORIGINAL-URL:https://www.nlc.bc.ca
X-WR-CALDESC:Events for Northern Lights College
REFRESH-INTERVAL;VALUE=DURATION:PT1H
X-Robots-Tag:noindex
X-PUBLISHED-TTL:PT1H
BEGIN:VTIMEZONE
TZID:America/Vancouver
BEGIN:DAYLIGHT
TZOFFSETFROM:-0800
TZOFFSETTO:-0700
TZNAME:PDT
DTSTART:20230312T100000
END:DAYLIGHT
BEGIN:STANDARD
TZOFFSETFROM:-0700
TZOFFSETTO:-0800
TZNAME:PST
DTSTART:20231105T090000
END:STANDARD
BEGIN:DAYLIGHT
TZOFFSETFROM:-0800
TZOFFSETTO:-0700
TZNAME:PDT
DTSTART:20240310T100000
END:DAYLIGHT
BEGIN:STANDARD
TZOFFSETFROM:-0700
TZOFFSETTO:-0800
TZNAME:PST
DTSTART:20241103T090000
END:STANDARD
BEGIN:DAYLIGHT
TZOFFSETFROM:-0800
TZOFFSETTO:-0700
TZNAME:PDT
DTSTART:20250309T100000
END:DAYLIGHT
BEGIN:STANDARD
TZOFFSETFROM:-0700
TZOFFSETTO:-0800
TZNAME:PST
DTSTART:20251102T090000
END:STANDARD
END:VTIMEZONE
BEGIN:VTIMEZONE
TZID:America/Phoenix
BEGIN:STANDARD
TZOFFSETFROM:-0700
TZOFFSETTO:-0700
TZNAME:MST
DTSTART:20230101T000000
END:STANDARD
END:VTIMEZONE
BEGIN:VEVENT
DTSTART;TZID=America/Vancouver:20240423T150000
DTEND;TZID=America/Vancouver:20240423T180000
DTSTAMP:20260419T215702
CREATED:20240306T212542Z
LAST-MODIFIED:20240326T220409Z
UID:10001451-1713884400-1713895200@www.nlc.bc.ca
SUMMARY:Dawson Creek Open House
DESCRIPTION:Apply to NLC during the open house to have your application fees waived! \nSee our facilities and learn about our programs. Prizes\, snacks\, and fun! \nFor more information about this event\, contact info@nlc.bc.ca or Coline Casey at 250-219-3198.
URL:https://www.nlc.bc.ca/event/dawson-creek-open-house-2/
LOCATION:BC
CATEGORIES:College Events
END:VEVENT
BEGIN:VEVENT
DTSTART;TZID=America/Vancouver:20240424T150000
DTEND;TZID=America/Vancouver:20240424T180000
DTSTAMP:20260419T215702
CREATED:20240306T220110Z
LAST-MODIFIED:20240326T220432Z
UID:10001452-1713970800-1713981600@www.nlc.bc.ca
SUMMARY:Fort St. John Open House
DESCRIPTION:Apply to NLC  during the open house to have your application fees waived! \nSee our facilities and learn about our programs. Prizes\, snacks\, and fun! \nFor more information about this event\, contact: info@nlc.bc.ca\, Coline Casey at 250-219-3198\, or Karen Mason-Bennett at 250-787-6240.
URL:https://www.nlc.bc.ca/event/fort-st-john-open-house-2/
LOCATION:BC
CATEGORIES:College Events
END:VEVENT
BEGIN:VEVENT
DTSTART;TZID=America/Vancouver:20240612T120000
DTEND;TZID=America/Vancouver:20240612T130000
DTSTAMP:20260419T215702
CREATED:20240322T191610Z
LAST-MODIFIED:20240527T182149Z
UID:10001455-1718193600-1718197200@www.nlc.bc.ca
SUMMARY:Fall 2024 Semester Registration Workshop
DESCRIPTION:Join the meeting at https://msteams.link/UOQF from 12-1pm.
URL:https://www.nlc.bc.ca/event/fall-2024-semester-registration-workshop/
LOCATION:Online\, Canada
CATEGORIES:College Events
ORGANIZER;CN="Program Advising":MAILTO:advising@nlc.bc.ca
END:VEVENT
BEGIN:VEVENT
DTSTART;TZID=America/Vancouver:20240710T140000
DTEND;TZID=America/Vancouver:20240710T150000
DTSTAMP:20260419T215702
CREATED:20240527T213518Z
LAST-MODIFIED:20240527T213518Z
UID:10001481-1720620000-1720623600@www.nlc.bc.ca
SUMMARY:Planning your course registration
DESCRIPTION:Join us online at https://msteams.link/6H12
URL:https://www.nlc.bc.ca/event/planning-your-course-registration/
LOCATION:Online\, Canada
CATEGORIES:College Events
END:VEVENT
BEGIN:VEVENT
DTSTART;TZID=America/Phoenix:20240710T160000
DTEND;TZID=America/Phoenix:20240710T170000
DTSTAMP:20260419T215702
CREATED:20240626T230505Z
LAST-MODIFIED:20240702T174810Z
UID:10001482-1720627200-1720630800@www.nlc.bc.ca
SUMMARY:Land and Water Resources Webinar
DESCRIPTION:The Land and Water Resources (LWR) Diploma program\, run on the Fort St. John campus\, prepares students to effectively conserve and repair disturbed land and riparian zones\, as well as monitor water quality and quantity. \nThis free Zoom webinar will be a good chance to learn about the program and decide if it’s right for you! \nRegistration: https://nlc-bc-ca.zoom.us/webinar/register/WN_STFJLx6kRPqVWW-d3HI1_A
URL:https://www.nlc.bc.ca/event/land-and-water-webinar/
LOCATION:BC
CATEGORIES:College Events,Webinar
ATTACH;FMTTYPE=image/png:https://www.nlc.bc.ca/wp-content/uploads/2024/06/Land-and-Water.png
END:VEVENT
BEGIN:VEVENT
DTSTART;TZID=America/Phoenix:20240716T160000
DTEND;TZID=America/Phoenix:20240716T170000
DTSTAMP:20260419T215702
CREATED:20240626T223123Z
LAST-MODIFIED:20240626T231044Z
UID:10001483-1721145600-1721149200@www.nlc.bc.ca
SUMMARY:Criminology Webinar
DESCRIPTION:In Criminology\, students learn about law\, psychology and the politics and sociological aspects of crime and the law. \nThis free Zoom webinar will be a good chance to learn about the program and decide if it’s right for you! \nRegistration: https://nlc-bc-ca.zoom.us/webinar/register/WN_oFSVa–iQJqxLEN9EXzIrw
URL:https://www.nlc.bc.ca/event/criminology-infosession/
LOCATION:BC
CATEGORIES:College Events,Webinar
ATTACH;FMTTYPE=image/jpeg:https://www.nlc.bc.ca/wp-content/uploads/2024/06/criminology_event.jpg
END:VEVENT
BEGIN:VEVENT
DTSTART;TZID=America/Phoenix:20240718T160000
DTEND;TZID=America/Phoenix:20240718T170000
DTSTAMP:20260419T215702
CREATED:20240626T224218Z
LAST-MODIFIED:20240626T232354Z
UID:10001484-1721318400-1721322000@www.nlc.bc.ca
SUMMARY:Business Management Webinar
DESCRIPTION:Business Management is an invaluable program for a person wanting to make their career in business. \nThis free Zoom webinar will be a good chance to learn about the program and decide if it’s right for you! \nRegistration: https://nlc-bc-ca.zoom.us/webinar/register/WN_HaHb-HV4Sz6WNiKAizyZiw
URL:https://www.nlc.bc.ca/event/business-management-webinar/
LOCATION:BC
CATEGORIES:College Events,Webinar
ATTACH;FMTTYPE=image/jpeg:https://www.nlc.bc.ca/wp-content/uploads/2024/06/business_event.jpg
END:VEVENT
BEGIN:VEVENT
DTSTART;TZID=America/Phoenix:20240723T160000
DTEND;TZID=America/Phoenix:20240723T170000
DTSTAMP:20260419T215702
CREATED:20240626T224955Z
LAST-MODIFIED:20240626T224955Z
UID:10001485-1721750400-1721754000@www.nlc.bc.ca
SUMMARY:Social Services Worker Webinar
DESCRIPTION:Are you interested in a career in Social Service? This webinar can answer any questions you have before you take it! \nRegistration link: https://nlc-bc-ca.zoom.us/webinar/register/WN_0Pioe1W1Tfu8omF4_a0LJA \nThis webinar is free of charge.
URL:https://www.nlc.bc.ca/event/social-services-worker-webinar/
LOCATION:BC
CATEGORIES:College Events,Webinar
ATTACH;FMTTYPE=image/jpeg:https://www.nlc.bc.ca/wp-content/uploads/2024/06/social_service_webinar.jpg
END:VEVENT
BEGIN:VEVENT
DTSTART;TZID=America/Phoenix:20240725T160000
DTEND;TZID=America/Phoenix:20240725T170000
DTSTAMP:20260419T215702
CREATED:20240626T225750Z
LAST-MODIFIED:20240626T232532Z
UID:10001486-1721923200-1721926800@www.nlc.bc.ca
SUMMARY:General Arts and Sciences Webinar
DESCRIPTION:Starting your University journey at NLC is a practical think to do.\nLearning how to be a good post-secondary student before you are away from home\, can be money saving and easier on your mental health. \nRegistration link: https://nlc-bc-ca.zoom.us/webinar/register/WN_04y3cUzrQuu0rb23kFHL8Q \nThis webinar is free of charge.
URL:https://www.nlc.bc.ca/event/general-arts-and-sciences-webinar/
LOCATION:BC
CATEGORIES:College Events,Webinar
END:VEVENT
BEGIN:VEVENT
DTSTART;TZID=America/Phoenix:20240905T160000
DTEND;TZID=America/Phoenix:20240905T190000
DTSTAMP:20260419T215702
CREATED:20240828T222814Z
LAST-MODIFIED:20240828T222814Z
UID:10001506-1725552000-1725562800@www.nlc.bc.ca
SUMMARY:Welcome Fest!
DESCRIPTION:We want to welcome you to Northern Lights College!\nJoin us for \n\nFree Food and Drinks\nMusic\nA Photo Booth\nGames\nA team challenge event with prizes!\n\nRegister a team of 2-4 in advance until 3pm on September 3 by emailing studentlife@nlc.bc.ca\, or register at Welcome Fest from 4-5pm.
URL:https://www.nlc.bc.ca/event/welcome-fest-2/
LOCATION:Fort St. John Campus\, 9820 - 120th Ave\, Fort St. John\, British Columbia\, V1J 8C3\, Canada
CATEGORIES:College Events
ATTACH;FMTTYPE=image/jpeg:https://www.nlc.bc.ca/wp-content/uploads/2024/08/Welcome-Fest-2024_Calender-Banner.jpg
ORGANIZER;CN="Student Life":MAILTO:studentlife@nlc.bc.ca
END:VEVENT
BEGIN:VEVENT
DTSTART;TZID=America/Phoenix:20240911T110000
DTEND;TZID=America/Phoenix:20240911T140000
DTSTAMP:20260419T215702
CREATED:20240828T223030Z
LAST-MODIFIED:20240828T230304Z
UID:10001507-1726052400-1726063200@www.nlc.bc.ca
SUMMARY:Community Fair DC
DESCRIPTION:Students are invited to this FREE event to see what their community has to offer! Local businesses\, services and community groups will be set up in the Main Foyer ready to show students how great this community is! Students can fill out “passports” to earn entries to win prizes. \n 
URL:https://www.nlc.bc.ca/event/community-fair/
LOCATION:Dawson Creek Campus\, 11401 8th St\, Dawson Creek\, British Columbia\, V1G 4G2\, Canada
CATEGORIES:College Events
ORGANIZER;CN="Student Life":MAILTO:studentlife@nlc.bc.ca
END:VEVENT
BEGIN:VEVENT
DTSTART;TZID=America/Phoenix:20240912T110000
DTEND;TZID=America/Phoenix:20240912T140000
DTSTAMP:20260419T215702
CREATED:20240828T230259Z
LAST-MODIFIED:20240828T230442Z
UID:10001510-1726138800-1726149600@www.nlc.bc.ca
SUMMARY:Community Fair FSJ
DESCRIPTION:Students are invited to this FREE event to see what their community has to offer! Local businesses\, services and community groups will be set up in the Main Foyer ready to show students how great this community is! Students can fill out “passports” to earn entries to win prizes.
URL:https://www.nlc.bc.ca/event/community-fair-fsj/
LOCATION:Fort St John Atrium\, 9820 120th Ave\, Fort St. John\, BC\, V1J 8C3\, Canada
CATEGORIES:College Events
ORGANIZER;CN="Student Life":MAILTO:studentlife@nlc.bc.ca
END:VEVENT
BEGIN:VEVENT
DTSTART;TZID=America/Phoenix:20240917T110000
DTEND;TZID=America/Phoenix:20240917T130000
DTSTAMP:20260419T215702
CREATED:20240912T225715Z
LAST-MODIFIED:20240912T225724Z
UID:10001519-1726570800-1726578000@www.nlc.bc.ca
SUMMARY:#Webelieveyou Day
DESCRIPTION:
URL:https://www.nlc.bc.ca/event/webelieveyouday/
LOCATION:Dawson Creek Campus\, 11401 8th St\, Dawson Creek\, British Columbia\, V1G 4G2\, Canada
CATEGORIES:College Events
ORGANIZER;CN="Learning Support Services":MAILTO:learningsupport@nlc.bc.ca
END:VEVENT
BEGIN:VEVENT
DTSTART;TZID=America/Phoenix:20240925T160000
DTEND;TZID=America/Phoenix:20240925T170000
DTSTAMP:20260419T215702
CREATED:20240911T212951Z
LAST-MODIFIED:20240911T212951Z
UID:10001518-1727280000-1727283600@www.nlc.bc.ca
SUMMARY:Devant Immigration Q & A: Ways to extend your status if your PGWP is expiring
DESCRIPTION:Join us for an insightful Immigration Q&A with Elizabeth Long\, renowned Canadian immigration lawyer and Barrister\, Solicitor\, and Partner at Long Mangalji LLP. Elizabeth will discuss your options to extend your status if your PGWP is expiring. \nRegister here https://us06web.zoom.us/webinar/register/5317229735415/WN_yNIdF6TmTsmeveah3kIrBg
URL:https://www.nlc.bc.ca/event/devant-immigration-q-a-ways-to-extend-your-status-if-your-pgwp-is-expiring/
LOCATION:Online\, Canada
CATEGORIES:College Events,Webinar
ATTACH;FMTTYPE=image/png:https://www.nlc.bc.ca/wp-content/uploads/2024/09/Immigration-QA.png
ORGANIZER;CN="International Education":MAILTO:info@international.nlc.bc.ca
END:VEVENT
BEGIN:VEVENT
DTSTART;TZID=America/Phoenix:20240927T190000
DTEND;TZID=America/Phoenix:20240927T210000
DTSTAMP:20260419T215702
CREATED:20240925T175729Z
LAST-MODIFIED:20240925T180146Z
UID:10001593-1727463600-1727470800@www.nlc.bc.ca
SUMMARY:Knowledge Unleashed\, Kilroy Was Here: World War II Culture
DESCRIPTION:It’s the first Knowledge Unleashed of the 2024-25 term!\nJoin Hugh Gordon in the Fort St. John Campus Atrium as he explores culture during the Second World War. \nWhat was life like during the Second World War?\nCome explore the sights\, sounds\, food\, and other cultural artifacts of the greatest war in human history. \nJoin in person or via teams at this link: https://bit.ly/4edNUNe
URL:https://www.nlc.bc.ca/event/knowledge-unleashed-kilroy-was-here-world-war-ii-culture/
LOCATION:Fort St John Atrium\, 9820 120th Ave\, Fort St. John\, BC\, V1J 8C3\, Canada
CATEGORIES:College Events
ATTACH;FMTTYPE=image/jpeg:https://www.nlc.bc.ca/wp-content/uploads/2024/09/Kilroy_was_here.jpg
END:VEVENT
BEGIN:VEVENT
DTSTART;TZID=America/Phoenix:20240928T093000
DTEND;TZID=America/Phoenix:20240928T161500
DTSTAMP:20260419T215702
CREATED:20240925T183256Z
LAST-MODIFIED:20240925T183256Z
UID:10001595-1727515800-1727540100@www.nlc.bc.ca
SUMMARY:FSJ Rodeo Bus Trip for Students!
DESCRIPTION:Reserve your ticket and a seat on the bus at the same time! Students\, staff\, and families are welcome.\nRodeo tickets are $10\, and the bus ride is free! \nTickets can be purchased at the Student Success Hub. \nFor more information\, email studentlife@nlc.bc.ca \nThe bus will leave Fort St John campus on September 28 at 9:30am and return at 4:15pm.
URL:https://www.nlc.bc.ca/event/fsj-rodeo-bus-trip-for-students/
LOCATION:Fort St. John Campus\, 9820 - 120th Ave\, Fort St. John\, British Columbia\, V1J 8C3\, Canada
CATEGORIES:College Events
ATTACH;FMTTYPE=application/pdf:https://www.nlc.bc.ca/wp-content/uploads/2024/09/Rodeo-Bus-Trip-2024-fsj-event-calendar.pdf
ORGANIZER;CN="Student Life":MAILTO:studentlife@nlc.bc.ca
END:VEVENT
BEGIN:VEVENT
DTSTART;TZID=America/Phoenix:20240928T103000
DTEND;TZID=America/Phoenix:20240928T151500
DTSTAMP:20260419T215702
CREATED:20240925T183056Z
LAST-MODIFIED:20240925T183056Z
UID:10001594-1727519400-1727536500@www.nlc.bc.ca
SUMMARY:DC Rodeo Bus Trip for students!
DESCRIPTION:Reserve your ticket and a seat on the bus at the same time! Students\, staff\, and families are welcome.\nRodeo tickets are $10\, and the bus ride is free! \nTickets can be purchased at the Student Success Hub. \nFor more information\, email studentlife@nlc.bc.ca \nThe bus will leave Dawson Creek campus on September 28 at 10:30am and return at 3:15pm.
URL:https://www.nlc.bc.ca/event/dc-rodeo-bus-trip-for-students/
LOCATION:Dawson Creek Campus\, 11401 8th St\, Dawson Creek\, British Columbia\, V1G 4G2\, Canada
CATEGORIES:College Events
ATTACH;FMTTYPE=application/pdf:https://www.nlc.bc.ca/wp-content/uploads/2024/09/Rodeo-Bus-Trip-2024-dc-event-calendar.pdf
ORGANIZER;CN="Student Life":MAILTO:studentlife@nlc.bc.ca
END:VEVENT
BEGIN:VEVENT
DTSTART;TZID=America/Phoenix:20241002T160000
DTEND;TZID=America/Phoenix:20241002T170000
DTSTAMP:20260419T215702
CREATED:20240920T225918Z
LAST-MODIFIED:20240920T230421Z
UID:10001587-1727884800-1727888400@www.nlc.bc.ca
SUMMARY:Devant: Ask a Recruiter
DESCRIPTION:Connecting you with active Canadian recruiters! These professionals have years of experience hiring jobseekers in Canada – and they’re available live to answer your job search questions\, as well as share insight into their specific industries. \nRegister for this webinar here https://us06web.zoom.us/webinar/register/9417252405944/WN_HL-NnJb9QDyf7bwEc
URL:https://www.nlc.bc.ca/event/devant-ask-a-recruiter/
LOCATION:Online\, Canada
CATEGORIES:College Events,Webinar
ATTACH;FMTTYPE=image/png:https://www.nlc.bc.ca/wp-content/uploads/2024/09/Employer-Insights.png
ORGANIZER;CN="International Education":MAILTO:info@international.nlc.bc.ca
END:VEVENT
BEGIN:VEVENT
DTSTART;TZID=America/Phoenix:20241009T160000
DTEND;TZID=America/Phoenix:20241009T170000
DTSTAMP:20260419T215702
CREATED:20240920T230127Z
LAST-MODIFIED:20240920T230458Z
UID:10001588-1728489600-1728493200@www.nlc.bc.ca
SUMMARY:Devant: Live Resume Clinic
DESCRIPTION:Writing an attractive and compelling resume is tough.\n\nDo you struggle to know which information\, skills and keywords to include?\nWondering how to tailor your resume to your chosen industry?\nUnsure what layout or format is appropriate for the Canadian job market?\nWorried that your resume won’t pass through the “Applicant Tracking System (ATS)”?\n\n Join us live for an interactive resume clinic!\nOur career coaches\, Tiffany and Katerina\, will be sharing their best tips to instantly improve your resume\, as well as reviewing up to 5 resumes submitted by workshop attendees.\n\nYou’ll leave the session with an actionable plan to IMPROVE and better TAILOR your resume – So that you can confidently hit that ‘send’ button and boost your chances for an interview callback. Let’s do this!\n\nRegister here https://us06web.zoom.us/webinar/register/2617252403384/WN_Ptl1d8ERRSCxPx8FCLQrOg
URL:https://www.nlc.bc.ca/event/devant-live-resume-clinic/
LOCATION:Online\, Canada
CATEGORIES:College Events,Webinar
ATTACH;FMTTYPE=image/png:https://www.nlc.bc.ca/wp-content/uploads/2024/09/Premium-Workshop.png
ORGANIZER;CN="International Education":MAILTO:info@international.nlc.bc.ca
END:VEVENT
BEGIN:VEVENT
DTSTART;TZID=America/Phoenix:20241016T160000
DTEND;TZID=America/Phoenix:20241016T170000
DTSTAMP:20260419T215702
CREATED:20240920T230359Z
LAST-MODIFIED:20240920T230359Z
UID:10001589-1729094400-1729098000@www.nlc.bc.ca
SUMMARY:Devant: Canada-Wide Labour Market Information
DESCRIPTION:Gain a competitive edge in the Canadian job market!\nJoin us for an informative webinar where we delve into comprehensive labour market data spanning all job sectors across Canada. Topics include:\n\n– Changes in sector demands\, emerging opportunities\, and potential challenges.\n– Top in-demand occupations based on National Occupational Classification (NOC).\n– Current trends in education and emerging skills.\n– And much more.\n\nRegister here https://form.jotform.com/242344465548058v 
URL:https://www.nlc.bc.ca/event/devant-canada-wide-labour-market-information/
LOCATION:Online\, Canada
CATEGORIES:College Events,Webinar
ATTACH;FMTTYPE=image/png:https://www.nlc.bc.ca/wp-content/uploads/2024/09/LMI-Event.png
ORGANIZER;CN="International Education":MAILTO:info@international.nlc.bc.ca
END:VEVENT
BEGIN:VEVENT
DTSTART;TZID=America/Phoenix:20241023T160000
DTEND;TZID=America/Phoenix:20241023T170000
DTSTAMP:20260419T215702
CREATED:20240920T230651Z
LAST-MODIFIED:20240920T230651Z
UID:10001590-1729699200-1729702800@www.nlc.bc.ca
SUMMARY:Devant: Immigration Q+A - Ways to extend your status if your PGWP is expiring
DESCRIPTION:Join us for an insightful Immigration Q&A to learn ways to extend your status if your Post Graduate Work Permit (PGWP) is expiring.\nHosted by Elizabeth Long\, renowned Canadian immigration lawyer and Barrister\, Solicitor\, and Partner at Long Mangalji LLP.\n\nRegister here https://us06web.zoom.us/webinar/register/2017252846186/WN_yUm4ez2WTVuKrOkz12xRBA
URL:https://www.nlc.bc.ca/event/devant-immigration-qa-ways-to-extend-your-status-if-your-pgwp-is-expiring/
LOCATION:Online\, Canada
CATEGORIES:College Events,Webinar
ATTACH;FMTTYPE=image/png:https://www.nlc.bc.ca/wp-content/uploads/2024/09/Immigration-QA-1.png
ORGANIZER;CN="International Education":MAILTO:info@international.nlc.bc.ca
END:VEVENT
BEGIN:VEVENT
DTSTART;TZID=America/Phoenix:20241025T070000
DTEND;TZID=America/Phoenix:20241025T210000
DTSTAMP:20260419T215702
CREATED:20241015T174704Z
LAST-MODIFIED:20241015T185058Z
UID:10001597-1729839600-1729890000@www.nlc.bc.ca
SUMMARY:Knowledge Unleashed — The Many Faces of Anxiety
DESCRIPTION:Join Patti McDougall on October 25\, 2024\, at 7pm in room 116 at the Dawson Creek campus as she explores The Many Faces of Anxiety. \nWhen we feel anxious\, it tends to trigger our stress response which can look very differently for everyone. Are you or people you know wired to fight\, flight\, freeze or fawn? Do their stress responses trigger your own?\nThrough telling the stories of people around us\, such as a sister with high anxiety or children who’ve struggled\, we can all learn the different ways anxiety presents itself and learn to look at it through a lens of empathy rather than judgement. \nJoin in person or via teams at this link: https://bit.ly/3zRv1Bf \nDon’t forget\, light snacks and refreshments will be served! \nThis is a free event.
URL:https://www.nlc.bc.ca/event/knowledge-unleashed-the-many-faces-of-anxiety/
LOCATION:Room 116\, Dawson Creek campus\, 11401 8 street\, Dawson Creek\, British Columbia\, V1G4E8\, Canada
CATEGORIES:College Events,Webinar
END:VEVENT
BEGIN:VEVENT
DTSTART;VALUE=DATE:20241106
DTEND;VALUE=DATE:20241107
DTSTAMP:20260419T215702
CREATED:20240322T203804Z
LAST-MODIFIED:20240917T190342Z
UID:10001458-1730851200-1730937599@www.nlc.bc.ca
SUMMARY:Winter Semester Registration Workshop
DESCRIPTION:Students in University Arts and Sciences\, Business\, and Social Worker programs are invited to learn more about the registration process. \nCheck back for the location and time of this event.
URL:https://www.nlc.bc.ca/event/winter-semester-registration-workshop/
LOCATION:Fort St. John Campus\, 9820 - 120th Ave\, Fort St. John\, British Columbia\, V1J 8C3\, Canada
CATEGORIES:College Events
ORGANIZER;CN="Program Advising":MAILTO:advising@nlc.bc.ca
END:VEVENT
BEGIN:VEVENT
DTSTART;TZID=America/Phoenix:20241106T160000
DTEND;TZID=America/Phoenix:20241106T180000
DTSTAMP:20260419T215702
CREATED:20240910T221846Z
LAST-MODIFIED:20240910T222238Z
UID:10001513-1730908800-1730916000@www.nlc.bc.ca
SUMMARY:Education Assistant studies at NLC Webinar
DESCRIPTION:November 6\, 4pm\n Education Assistant Webinar \nRegistration Link\nhttps://nlc-bc-ca.zoom.us/webinar/register/WN_QWXVVeFzRp-BTUsesbM4Ag
URL:https://www.nlc.bc.ca/event/35258/
LOCATION:Online\, Canada
CATEGORIES:College Events,Webinar
ATTACH;FMTTYPE=image/png:https://www.nlc.bc.ca/wp-content/uploads/2024/09/education-assistant.png
END:VEVENT
BEGIN:VEVENT
DTSTART;TZID=America/Phoenix:20241106T170000
DTEND;TZID=America/Phoenix:20241106T170000
DTSTAMP:20260419T215702
CREATED:20241031T231616Z
LAST-MODIFIED:20241101T183928Z
UID:10001903-1730912400-1730912400@www.nlc.bc.ca
SUMMARY:Devant: Employer Insights: Ask a Recruiter
DESCRIPTION:Connect with active Canadian recruiters! These professionals have years of experience hiring job-seekers in Canada – and they’re available live to answer your job search questions\, as well as share insight into their specific industries. \nRegister here: https://us06web.zoom.us/webinar/register/4417294754476/WN_uzXFqwoXQy2GrP0NsBzC-g 
URL:https://www.nlc.bc.ca/event/devant-employer-insights-ask-a-recruiter/
LOCATION:Online\, Canada
CATEGORIES:Webinar
ATTACH;FMTTYPE=image/png:https://www.nlc.bc.ca/wp-content/uploads/2024/10/Ask-a-Recruiter.png
ORGANIZER;CN="International Education":MAILTO:info@international.nlc.bc.ca
END:VEVENT
BEGIN:VEVENT
DTSTART;TZID=America/Phoenix:20241113T170000
DTEND;TZID=America/Phoenix:20241113T170000
DTSTAMP:20260419T215702
CREATED:20241031T232117Z
LAST-MODIFIED:20241101T183954Z
UID:10001904-1731517200-1731517200@www.nlc.bc.ca
SUMMARY:Devant: LinkedIn Profile Workshop
DESCRIPTION:Join career coaches at this interactive workshop to learn more about how to stand out on LinkedIn\, tailor your profile to your desired industry\, and attract employers to you! \nTopics include: \n\nKey pieces of the LinkedIn profile explained\nHow the LinkedIn algorithm works and what you can do to show up in more searches\nThe best ways to reach out and make new connections And much more!\n\nRegister here: https://us06web.zoom.us/webinar/register/2217294759713/WN_4RTrH8Q1QdGBFIwUdOKqdg  \n 
URL:https://www.nlc.bc.ca/event/devant-linkedin-profile-workshop/
LOCATION:Online\, Canada
CATEGORIES:Webinar
ATTACH;FMTTYPE=image/png:https://www.nlc.bc.ca/wp-content/uploads/2024/10/Premium-Workshop.png
ORGANIZER;CN="International Education":MAILTO:info@international.nlc.bc.ca
END:VEVENT
BEGIN:VEVENT
DTSTART;TZID=America/Phoenix:20241115T190000
DTEND;TZID=America/Phoenix:20241115T220000
DTSTAMP:20260419T215702
CREATED:20241106T223937Z
LAST-MODIFIED:20241106T225339Z
UID:10001966-1731697200-1731708000@www.nlc.bc.ca
SUMMARY:NLC Night with the Fort St. John Huskies
DESCRIPTION:It’s Hockey night in Fort St. John! Come on out to the North Peace Arena for a great night of hockey! \nShow your student ID for a discount on your ticket\, and check out the NLC table for some fun swag!
URL:https://www.nlc.bc.ca/event/nlc-night-with-the-fort-st-john-huskies/
LOCATION:North Peace Arena\, 9805 96 Ave\, BC V1J 1K9\, Fort St John\, BC\, V1J 1K9\, Canada
CATEGORIES:College Events
ATTACH;FMTTYPE=image/jpeg:https://www.nlc.bc.ca/wp-content/uploads/2024/11/Huskies_NLC_Night.jpg
END:VEVENT
BEGIN:VEVENT
DTSTART;TZID=America/Phoenix:20241120T160000
DTEND;TZID=America/Phoenix:20241120T180000
DTSTAMP:20260419T215702
CREATED:20240910T223100Z
LAST-MODIFIED:20240910T223240Z
UID:10001514-1732118400-1732125600@www.nlc.bc.ca
SUMMARY:Social Services Worker studies at NLC webinar
DESCRIPTION:November 20\, 4pm\n Social Service Worker \nRegistration Link https://nlc-bc-ca.zoom.us/webinar/register/WN_EL6PFh5_QLqIr-j7dwVQMg
URL:https://www.nlc.bc.ca/event/social-services-worker-studies-at-nlc-webinar/
LOCATION:Online\, Canada
CATEGORIES:College Events,Webinar
ATTACH;FMTTYPE=image/png:https://www.nlc.bc.ca/wp-content/uploads/2024/09/social-services.png
END:VEVENT
BEGIN:VEVENT
DTSTART;TZID=America/Phoenix:20241120T170000
DTEND;TZID=America/Phoenix:20241120T170000
DTSTAMP:20260419T215702
CREATED:20241031T232609Z
LAST-MODIFIED:20241101T184017Z
UID:10001905-1732122000-1732122000@www.nlc.bc.ca
SUMMARY:Devant: Q&A With Career Coaches
DESCRIPTION:Join Devant career coaches\, Katerina and Tiffany\, to discuss your job search and grow your network with your fellow peers. \nThis is your chance to get your important questions answered by an expert – Whether it is resume\, LinkedIn\, interview\, or networking advice\, we love to share our experiences with you and point you in the right direction. \nRegister here: https://us06web.zoom.us/webinar/register/2717294765682/WN_WF8a4nLFROKXtvRVueOxPg 
URL:https://www.nlc.bc.ca/event/devant-qa-with-career-coaches/
LOCATION:Online\, Canada
CATEGORIES:Webinar
ATTACH;FMTTYPE=image/png:https://www.nlc.bc.ca/wp-content/uploads/2024/10/Career-Cafe.png
END:VEVENT
BEGIN:VEVENT
DTSTART;TZID=America/Phoenix:20241121T160000
DTEND;TZID=America/Phoenix:20241121T180000
DTSTAMP:20260419T215702
CREATED:20240910T225215Z
LAST-MODIFIED:20240910T225239Z
UID:10001515-1732204800-1732212000@www.nlc.bc.ca
SUMMARY:Indigenous Human Service Worker webinar
DESCRIPTION:November 21\, 4pm\nIndigenous Human Service Worker\nRegistration https://nlc-bc-ca.zoom.us/webinar/register/WN_DZKvINrDRuCf7HhHndGsVA
URL:https://www.nlc.bc.ca/event/indigenous-human-service-worker-webinar/
LOCATION:Online\, Canada
CATEGORIES:College Events,Webinar
END:VEVENT
END:VCALENDAR