BEGIN:VCALENDAR
VERSION:2.0
PRODID:-//Northern Lights College - ECPv6.15.20//NONSGML v1.0//EN
CALSCALE:GREGORIAN
METHOD:PUBLISH
X-WR-CALNAME:Northern Lights College
X-ORIGINAL-URL:https://www.nlc.bc.ca
X-WR-CALDESC:Events for Northern Lights College
REFRESH-INTERVAL;VALUE=DURATION:PT1H
X-Robots-Tag:noindex
X-PUBLISHED-TTL:PT1H
BEGIN:VTIMEZONE
TZID:America/Phoenix
BEGIN:STANDARD
TZOFFSETFROM:-0700
TZOFFSETTO:-0700
TZNAME:MST
DTSTART:20240101T000000
END:STANDARD
END:VTIMEZONE
BEGIN:VEVENT
DTSTART;TZID=America/Phoenix:20251009T120000
DTEND;TZID=America/Phoenix:20251009T130000
DTSTAMP:20260421T120916
CREATED:20251006T233507Z
LAST-MODIFIED:20251006T233507Z
UID:10003410-1760011200-1760014800@www.nlc.bc.ca
SUMMARY:Understanding Consent Workshop- FSJ and Online
DESCRIPTION:Attend in person in FSJ or virtually from DC Campus or via this link https://tinyurl.com/msvuyp2w  \nRefreshments will be provided in DC and FSJ.
URL:https://www.nlc.bc.ca/event/understanding-consent-workshop-fsj-and-online/
LOCATION:Fort St John Atrium\, 9820 120th Ave\, Fort St. John\, BC\, V1J 8C3\, Canada
CATEGORIES:College Events,Webinar
ORGANIZER;CN="Learning Support Services":MAILTO:learningsupport@nlc.bc.ca
END:VEVENT
END:VCALENDAR