BEGIN:VCALENDAR
VERSION:2.0
PRODID:-//Northern Lights College - ECPv6.15.20//NONSGML v1.0//EN
CALSCALE:GREGORIAN
METHOD:PUBLISH
X-WR-CALNAME:Northern Lights College
X-ORIGINAL-URL:https://www.nlc.bc.ca
X-WR-CALDESC:Events for Northern Lights College
REFRESH-INTERVAL;VALUE=DURATION:PT1H
X-Robots-Tag:noindex
X-PUBLISHED-TTL:PT1H
BEGIN:VTIMEZONE
TZID:America/Phoenix
BEGIN:STANDARD
TZOFFSETFROM:-0700
TZOFFSETTO:-0700
TZNAME:MST
DTSTART:20230101T000000
END:STANDARD
END:VTIMEZONE
BEGIN:VEVENT
DTSTART;TZID=America/Phoenix:20241025T070000
DTEND;TZID=America/Phoenix:20241025T210000
DTSTAMP:20260422T091028
CREATED:20241015T174704Z
LAST-MODIFIED:20241015T185058Z
UID:10001597-1729839600-1729890000@www.nlc.bc.ca
SUMMARY:Knowledge Unleashed — The Many Faces of Anxiety
DESCRIPTION:Join Patti McDougall on October 25\, 2024\, at 7pm in room 116 at the Dawson Creek campus as she explores The Many Faces of Anxiety. \nWhen we feel anxious\, it tends to trigger our stress response which can look very differently for everyone. Are you or people you know wired to fight\, flight\, freeze or fawn? Do their stress responses trigger your own?\nThrough telling the stories of people around us\, such as a sister with high anxiety or children who’ve struggled\, we can all learn the different ways anxiety presents itself and learn to look at it through a lens of empathy rather than judgement. \nJoin in person or via teams at this link: https://bit.ly/3zRv1Bf \nDon’t forget\, light snacks and refreshments will be served! \nThis is a free event.
URL:https://www.nlc.bc.ca/event/knowledge-unleashed-the-many-faces-of-anxiety/
LOCATION:Room 116\, Dawson Creek campus\, 11401 8 street\, Dawson Creek\, British Columbia\, V1G4E8\, Canada
CATEGORIES:College Events,Webinar
END:VEVENT
BEGIN:VEVENT
DTSTART;TZID=America/Phoenix:20241023T160000
DTEND;TZID=America/Phoenix:20241023T170000
DTSTAMP:20260422T091028
CREATED:20240920T230651Z
LAST-MODIFIED:20240920T230651Z
UID:10001590-1729699200-1729702800@www.nlc.bc.ca
SUMMARY:Devant: Immigration Q+A - Ways to extend your status if your PGWP is expiring
DESCRIPTION:Join us for an insightful Immigration Q&A to learn ways to extend your status if your Post Graduate Work Permit (PGWP) is expiring.\nHosted by Elizabeth Long\, renowned Canadian immigration lawyer and Barrister\, Solicitor\, and Partner at Long Mangalji LLP.\n\nRegister here https://us06web.zoom.us/webinar/register/2017252846186/WN_yUm4ez2WTVuKrOkz12xRBA
URL:https://www.nlc.bc.ca/event/devant-immigration-qa-ways-to-extend-your-status-if-your-pgwp-is-expiring/
LOCATION:Online\, Canada
CATEGORIES:College Events,Webinar
ATTACH;FMTTYPE=image/png:https://www.nlc.bc.ca/wp-content/uploads/2024/09/Immigration-QA-1.png
ORGANIZER;CN="International Education":MAILTO:info@international.nlc.bc.ca
END:VEVENT
BEGIN:VEVENT
DTSTART;TZID=America/Phoenix:20241016T160000
DTEND;TZID=America/Phoenix:20241016T170000
DTSTAMP:20260422T091028
CREATED:20240920T230359Z
LAST-MODIFIED:20240920T230359Z
UID:10001589-1729094400-1729098000@www.nlc.bc.ca
SUMMARY:Devant: Canada-Wide Labour Market Information
DESCRIPTION:Gain a competitive edge in the Canadian job market!\nJoin us for an informative webinar where we delve into comprehensive labour market data spanning all job sectors across Canada. Topics include:\n\n– Changes in sector demands\, emerging opportunities\, and potential challenges.\n– Top in-demand occupations based on National Occupational Classification (NOC).\n– Current trends in education and emerging skills.\n– And much more.\n\nRegister here https://form.jotform.com/242344465548058v 
URL:https://www.nlc.bc.ca/event/devant-canada-wide-labour-market-information/
LOCATION:Online\, Canada
CATEGORIES:College Events,Webinar
ATTACH;FMTTYPE=image/png:https://www.nlc.bc.ca/wp-content/uploads/2024/09/LMI-Event.png
ORGANIZER;CN="International Education":MAILTO:info@international.nlc.bc.ca
END:VEVENT
BEGIN:VEVENT
DTSTART;TZID=America/Phoenix:20241009T160000
DTEND;TZID=America/Phoenix:20241009T170000
DTSTAMP:20260422T091028
CREATED:20240920T230127Z
LAST-MODIFIED:20240920T230458Z
UID:10001588-1728489600-1728493200@www.nlc.bc.ca
SUMMARY:Devant: Live Resume Clinic
DESCRIPTION:Writing an attractive and compelling resume is tough.\n\nDo you struggle to know which information\, skills and keywords to include?\nWondering how to tailor your resume to your chosen industry?\nUnsure what layout or format is appropriate for the Canadian job market?\nWorried that your resume won’t pass through the “Applicant Tracking System (ATS)”?\n\n Join us live for an interactive resume clinic!\nOur career coaches\, Tiffany and Katerina\, will be sharing their best tips to instantly improve your resume\, as well as reviewing up to 5 resumes submitted by workshop attendees.\n\nYou’ll leave the session with an actionable plan to IMPROVE and better TAILOR your resume – So that you can confidently hit that ‘send’ button and boost your chances for an interview callback. Let’s do this!\n\nRegister here https://us06web.zoom.us/webinar/register/2617252403384/WN_Ptl1d8ERRSCxPx8FCLQrOg
URL:https://www.nlc.bc.ca/event/devant-live-resume-clinic/
LOCATION:Online\, Canada
CATEGORIES:College Events,Webinar
ATTACH;FMTTYPE=image/png:https://www.nlc.bc.ca/wp-content/uploads/2024/09/Premium-Workshop.png
ORGANIZER;CN="International Education":MAILTO:info@international.nlc.bc.ca
END:VEVENT
BEGIN:VEVENT
DTSTART;TZID=America/Phoenix:20241002T160000
DTEND;TZID=America/Phoenix:20241002T170000
DTSTAMP:20260422T091028
CREATED:20240920T225918Z
LAST-MODIFIED:20240920T230421Z
UID:10001587-1727884800-1727888400@www.nlc.bc.ca
SUMMARY:Devant: Ask a Recruiter
DESCRIPTION:Connecting you with active Canadian recruiters! These professionals have years of experience hiring jobseekers in Canada – and they’re available live to answer your job search questions\, as well as share insight into their specific industries. \nRegister for this webinar here https://us06web.zoom.us/webinar/register/9417252405944/WN_HL-NnJb9QDyf7bwEc
URL:https://www.nlc.bc.ca/event/devant-ask-a-recruiter/
LOCATION:Online\, Canada
CATEGORIES:College Events,Webinar
ATTACH;FMTTYPE=image/png:https://www.nlc.bc.ca/wp-content/uploads/2024/09/Employer-Insights.png
ORGANIZER;CN="International Education":MAILTO:info@international.nlc.bc.ca
END:VEVENT
BEGIN:VEVENT
DTSTART;TZID=America/Phoenix:20240925T160000
DTEND;TZID=America/Phoenix:20240925T170000
DTSTAMP:20260422T091028
CREATED:20240911T212951Z
LAST-MODIFIED:20240911T212951Z
UID:10001518-1727280000-1727283600@www.nlc.bc.ca
SUMMARY:Devant Immigration Q & A: Ways to extend your status if your PGWP is expiring
DESCRIPTION:Join us for an insightful Immigration Q&A with Elizabeth Long\, renowned Canadian immigration lawyer and Barrister\, Solicitor\, and Partner at Long Mangalji LLP. Elizabeth will discuss your options to extend your status if your PGWP is expiring. \nRegister here https://us06web.zoom.us/webinar/register/5317229735415/WN_yNIdF6TmTsmeveah3kIrBg
URL:https://www.nlc.bc.ca/event/devant-immigration-q-a-ways-to-extend-your-status-if-your-pgwp-is-expiring/
LOCATION:Online\, Canada
CATEGORIES:College Events,Webinar
ATTACH;FMTTYPE=image/png:https://www.nlc.bc.ca/wp-content/uploads/2024/09/Immigration-QA.png
ORGANIZER;CN="International Education":MAILTO:info@international.nlc.bc.ca
END:VEVENT
BEGIN:VEVENT
DTSTART;TZID=America/Phoenix:20240725T160000
DTEND;TZID=America/Phoenix:20240725T170000
DTSTAMP:20260422T091028
CREATED:20240626T225750Z
LAST-MODIFIED:20240626T232532Z
UID:10001486-1721923200-1721926800@www.nlc.bc.ca
SUMMARY:General Arts and Sciences Webinar
DESCRIPTION:Starting your University journey at NLC is a practical think to do.\nLearning how to be a good post-secondary student before you are away from home\, can be money saving and easier on your mental health. \nRegistration link: https://nlc-bc-ca.zoom.us/webinar/register/WN_04y3cUzrQuu0rb23kFHL8Q \nThis webinar is free of charge.
URL:https://www.nlc.bc.ca/event/general-arts-and-sciences-webinar/
CATEGORIES:College Events,Webinar
END:VEVENT
BEGIN:VEVENT
DTSTART;TZID=America/Phoenix:20240723T160000
DTEND;TZID=America/Phoenix:20240723T170000
DTSTAMP:20260422T091028
CREATED:20240626T224955Z
LAST-MODIFIED:20240626T224955Z
UID:10001485-1721750400-1721754000@www.nlc.bc.ca
SUMMARY:Social Services Worker Webinar
DESCRIPTION:Are you interested in a career in Social Service? This webinar can answer any questions you have before you take it! \nRegistration link: https://nlc-bc-ca.zoom.us/webinar/register/WN_0Pioe1W1Tfu8omF4_a0LJA \nThis webinar is free of charge.
URL:https://www.nlc.bc.ca/event/social-services-worker-webinar/
CATEGORIES:College Events,Webinar
ATTACH;FMTTYPE=image/jpeg:https://www.nlc.bc.ca/wp-content/uploads/2024/06/social_service_webinar.jpg
END:VEVENT
BEGIN:VEVENT
DTSTART;TZID=America/Phoenix:20240718T160000
DTEND;TZID=America/Phoenix:20240718T170000
DTSTAMP:20260422T091028
CREATED:20240626T224218Z
LAST-MODIFIED:20240626T232354Z
UID:10001484-1721318400-1721322000@www.nlc.bc.ca
SUMMARY:Business Management Webinar
DESCRIPTION:Business Management is an invaluable program for a person wanting to make their career in business. \nThis free Zoom webinar will be a good chance to learn about the program and decide if it’s right for you! \nRegistration: https://nlc-bc-ca.zoom.us/webinar/register/WN_HaHb-HV4Sz6WNiKAizyZiw
URL:https://www.nlc.bc.ca/event/business-management-webinar/
CATEGORIES:College Events,Webinar
ATTACH;FMTTYPE=image/jpeg:https://www.nlc.bc.ca/wp-content/uploads/2024/06/business_event.jpg
END:VEVENT
BEGIN:VEVENT
DTSTART;TZID=America/Phoenix:20240716T160000
DTEND;TZID=America/Phoenix:20240716T170000
DTSTAMP:20260422T091028
CREATED:20240626T223123Z
LAST-MODIFIED:20240626T231044Z
UID:10001483-1721145600-1721149200@www.nlc.bc.ca
SUMMARY:Criminology Webinar
DESCRIPTION:In Criminology\, students learn about law\, psychology and the politics and sociological aspects of crime and the law. \nThis free Zoom webinar will be a good chance to learn about the program and decide if it’s right for you! \nRegistration: https://nlc-bc-ca.zoom.us/webinar/register/WN_oFSVa–iQJqxLEN9EXzIrw
URL:https://www.nlc.bc.ca/event/criminology-infosession/
CATEGORIES:College Events,Webinar
ATTACH;FMTTYPE=image/jpeg:https://www.nlc.bc.ca/wp-content/uploads/2024/06/criminology_event.jpg
END:VEVENT
BEGIN:VEVENT
DTSTART;TZID=America/Phoenix:20240710T160000
DTEND;TZID=America/Phoenix:20240710T170000
DTSTAMP:20260422T091028
CREATED:20240626T230505Z
LAST-MODIFIED:20240702T174810Z
UID:10001482-1720627200-1720630800@www.nlc.bc.ca
SUMMARY:Land and Water Resources Webinar
DESCRIPTION:The Land and Water Resources (LWR) Diploma program\, run on the Fort St. John campus\, prepares students to effectively conserve and repair disturbed land and riparian zones\, as well as monitor water quality and quantity. \nThis free Zoom webinar will be a good chance to learn about the program and decide if it’s right for you! \nRegistration: https://nlc-bc-ca.zoom.us/webinar/register/WN_STFJLx6kRPqVWW-d3HI1_A
URL:https://www.nlc.bc.ca/event/land-and-water-webinar/
CATEGORIES:College Events,Webinar
ATTACH;FMTTYPE=image/png:https://www.nlc.bc.ca/wp-content/uploads/2024/06/Land-and-Water.png
END:VEVENT
END:VCALENDAR