BEGIN:VCALENDAR
VERSION:2.0
PRODID:-//Northern Lights College - ECPv6.15.20//NONSGML v1.0//EN
CALSCALE:GREGORIAN
METHOD:PUBLISH
X-WR-CALNAME:Northern Lights College
X-ORIGINAL-URL:https://www.nlc.bc.ca
X-WR-CALDESC:Events for Northern Lights College
REFRESH-INTERVAL;VALUE=DURATION:PT1H
X-Robots-Tag:noindex
X-PUBLISHED-TTL:PT1H
BEGIN:VTIMEZONE
TZID:America/Vancouver
BEGIN:DAYLIGHT
TZOFFSETFROM:-0800
TZOFFSETTO:-0700
TZNAME:PDT
DTSTART:20230312T100000
END:DAYLIGHT
BEGIN:STANDARD
TZOFFSETFROM:-0700
TZOFFSETTO:-0800
TZNAME:PST
DTSTART:20231105T090000
END:STANDARD
BEGIN:DAYLIGHT
TZOFFSETFROM:-0800
TZOFFSETTO:-0700
TZNAME:PDT
DTSTART:20240310T100000
END:DAYLIGHT
BEGIN:STANDARD
TZOFFSETFROM:-0700
TZOFFSETTO:-0800
TZNAME:PST
DTSTART:20241103T090000
END:STANDARD
BEGIN:DAYLIGHT
TZOFFSETFROM:-0800
TZOFFSETTO:-0700
TZNAME:PDT
DTSTART:20250309T100000
END:DAYLIGHT
BEGIN:STANDARD
TZOFFSETFROM:-0700
TZOFFSETTO:-0800
TZNAME:PST
DTSTART:20251102T090000
END:STANDARD
END:VTIMEZONE
BEGIN:VEVENT
DTSTART;VALUE=DATE:20240401
DTEND;VALUE=DATE:20240402
DTSTAMP:20260423T170610
CREATED:20240228T211437Z
LAST-MODIFIED:20240305T163131Z
UID:10001364-1711929600-1712015999@www.nlc.bc.ca
SUMMARY:Easter Monday — College Closed
DESCRIPTION:
URL:https://www.nlc.bc.ca/event/easter-monday-college-closed/
LOCATION:BC
CATEGORIES:Important Dates—Academic
END:VEVENT
BEGIN:VEVENT
DTSTART;VALUE=DATE:20240408
DTEND;VALUE=DATE:20240409
DTSTAMP:20260423T170610
CREATED:20240228T212638Z
LAST-MODIFIED:20240305T163125Z
UID:10001365-1712534400-1712620799@www.nlc.bc.ca
SUMMARY:Last Day of Classes (Winter)
DESCRIPTION:
URL:https://www.nlc.bc.ca/event/last-day-of-classes-winter/
LOCATION:BC
CATEGORIES:Important Dates—Academic
END:VEVENT
BEGIN:VEVENT
DTSTART;TZID=America/Vancouver:20240410T080000
DTEND;TZID=America/Vancouver:20240410T170000
DTSTAMP:20260423T170610
CREATED:20240228T212833Z
LAST-MODIFIED:20240305T163046Z
UID:10001366-1712736000-1712768400@www.nlc.bc.ca
SUMMARY:Final Exams start (Winter)
DESCRIPTION:
URL:https://www.nlc.bc.ca/event/final-exams-start-winter/
LOCATION:BC
CATEGORIES:Important Dates—Academic
END:VEVENT
BEGIN:VEVENT
DTSTART;VALUE=DATE:20240415
DTEND;VALUE=DATE:20240416
DTSTAMP:20260423T170610
CREATED:20240228T212945Z
LAST-MODIFIED:20240305T163037Z
UID:10001367-1713139200-1713225599@www.nlc.bc.ca
SUMMARY:Last Day to withdraw 20-week semester
DESCRIPTION:
URL:https://www.nlc.bc.ca/event/last-day-to-withdraw-20-week-semester/
LOCATION:BC
CATEGORIES:Important Dates—Academic
END:VEVENT
BEGIN:VEVENT
DTSTART;VALUE=DATE:20240420
DTEND;VALUE=DATE:20240421
DTSTAMP:20260423T170610
CREATED:20240228T213048Z
LAST-MODIFIED:20240305T163030Z
UID:10001368-1713571200-1713657599@www.nlc.bc.ca
SUMMARY:Final exams end (Winter)
DESCRIPTION:
URL:https://www.nlc.bc.ca/event/final-exams-end-winter/
LOCATION:BC
CATEGORIES:Important Dates—Academic
END:VEVENT
BEGIN:VEVENT
DTSTART;TZID=America/Vancouver:20240429T080000
DTEND;TZID=America/Vancouver:20240429T170000
DTSTAMP:20260423T170610
CREATED:20240228T213200Z
LAST-MODIFIED:20240305T163023Z
UID:10001369-1714377600-1714410000@www.nlc.bc.ca
SUMMARY:First Day of Spring & Intersession Classes
DESCRIPTION:Orientation\, Tuition and Fees due
URL:https://www.nlc.bc.ca/event/first-day-of-spring-intersession-classes/
LOCATION:BC
CATEGORIES:Important Dates—Academic
END:VEVENT
END:VCALENDAR