BEGIN:VCALENDAR
VERSION:2.0
PRODID:-//Northern Lights College - ECPv6.15.20//NONSGML v1.0//EN
CALSCALE:GREGORIAN
METHOD:PUBLISH
X-ORIGINAL-URL:https://www.nlc.bc.ca
X-WR-CALDESC:Events for Northern Lights College
REFRESH-INTERVAL;VALUE=DURATION:PT1H
X-Robots-Tag:noindex
X-PUBLISHED-TTL:PT1H
BEGIN:VTIMEZONE
TZID:America/Vancouver
BEGIN:DAYLIGHT
TZOFFSETFROM:-0800
TZOFFSETTO:-0700
TZNAME:PDT
DTSTART:20230312T100000
END:DAYLIGHT
BEGIN:STANDARD
TZOFFSETFROM:-0700
TZOFFSETTO:-0800
TZNAME:PST
DTSTART:20231105T090000
END:STANDARD
BEGIN:DAYLIGHT
TZOFFSETFROM:-0800
TZOFFSETTO:-0700
TZNAME:PDT
DTSTART:20240310T100000
END:DAYLIGHT
BEGIN:STANDARD
TZOFFSETFROM:-0700
TZOFFSETTO:-0800
TZNAME:PST
DTSTART:20241103T090000
END:STANDARD
BEGIN:DAYLIGHT
TZOFFSETFROM:-0800
TZOFFSETTO:-0700
TZNAME:PDT
DTSTART:20250309T100000
END:DAYLIGHT
BEGIN:STANDARD
TZOFFSETFROM:-0700
TZOFFSETTO:-0800
TZNAME:PST
DTSTART:20251102T090000
END:STANDARD
END:VTIMEZONE
BEGIN:VEVENT
DTSTART;VALUE=DATE:20240615
DTEND;VALUE=DATE:20240616
DTSTAMP:20260423T093922
CREATED:20240228T214826Z
LAST-MODIFIED:20240305T162935Z
UID:10001374-1718409600-1718495999@www.nlc.bc.ca
SUMMARY:Last Day of Classes — Intersession
DESCRIPTION:
URL:https://www.nlc.bc.ca/event/last-day-of-classes-intersession/
LOCATION:BC
CATEGORIES:Important Dates—Academic
END:VEVENT
BEGIN:VEVENT
DTSTART;VALUE=DATE:20240617
DTEND;VALUE=DATE:20240618
DTSTAMP:20260423T093922
CREATED:20240228T215306Z
LAST-MODIFIED:20240305T162920Z
UID:10001376-1718582400-1718668799@www.nlc.bc.ca
SUMMARY:Final exams start Intersession
DESCRIPTION:
URL:https://www.nlc.bc.ca/event/final-exams-start-intersession-2/
LOCATION:BC
CATEGORIES:Important Dates—Academic
END:VEVENT
BEGIN:VEVENT
DTSTART;VALUE=DATE:20240621
DTEND;VALUE=DATE:20240622
DTSTAMP:20260423T093922
CREATED:20240228T214918Z
LAST-MODIFIED:20240305T162906Z
UID:10001375-1718928000-1719014399@www.nlc.bc.ca
SUMMARY:Final exams end Intersession
DESCRIPTION:
URL:https://www.nlc.bc.ca/event/final-exams-start-intersession/
LOCATION:BC
CATEGORIES:Important Dates—Academic
END:VEVENT
BEGIN:VEVENT
DTSTART;VALUE=DATE:20240624
DTEND;VALUE=DATE:20240625
DTSTAMP:20260423T093922
CREATED:20240228T215443Z
LAST-MODIFIED:20240305T162859Z
UID:10001377-1719187200-1719273599@www.nlc.bc.ca
SUMMARY:Last Day to withdraw Spring
DESCRIPTION:
URL:https://www.nlc.bc.ca/event/last-day-to-withdraw-spring/
LOCATION:BC
CATEGORIES:Important Dates—Academic
END:VEVENT
BEGIN:VEVENT
DTSTART;VALUE=DATE:20240624
DTEND;VALUE=DATE:20240625
DTSTAMP:20260423T093922
CREATED:20240228T215513Z
LAST-MODIFIED:20240305T162850Z
UID:10001378-1719187200-1719273599@www.nlc.bc.ca
SUMMARY:Last Day of classes 20-week semester
DESCRIPTION:
URL:https://www.nlc.bc.ca/event/last-day-of-classes-20-week-semester/
LOCATION:BC
CATEGORIES:Important Dates—Academic
END:VEVENT
END:VCALENDAR