BEGIN:VCALENDAR
VERSION:2.0
PRODID:-//Northern Lights College - ECPv6.15.20//NONSGML v1.0//EN
CALSCALE:GREGORIAN
METHOD:PUBLISH
X-ORIGINAL-URL:https://www.nlc.bc.ca
X-WR-CALDESC:Events for Northern Lights College
REFRESH-INTERVAL;VALUE=DURATION:PT1H
X-Robots-Tag:noindex
X-PUBLISHED-TTL:PT1H
BEGIN:VTIMEZONE
TZID:America/Vancouver
BEGIN:DAYLIGHT
TZOFFSETFROM:-0800
TZOFFSETTO:-0700
TZNAME:PDT
DTSTART:20230312T100000
END:DAYLIGHT
BEGIN:STANDARD
TZOFFSETFROM:-0700
TZOFFSETTO:-0800
TZNAME:PST
DTSTART:20231105T090000
END:STANDARD
BEGIN:DAYLIGHT
TZOFFSETFROM:-0800
TZOFFSETTO:-0700
TZNAME:PDT
DTSTART:20240310T100000
END:DAYLIGHT
BEGIN:STANDARD
TZOFFSETFROM:-0700
TZOFFSETTO:-0800
TZNAME:PST
DTSTART:20241103T090000
END:STANDARD
BEGIN:DAYLIGHT
TZOFFSETFROM:-0800
TZOFFSETTO:-0700
TZNAME:PDT
DTSTART:20250309T100000
END:DAYLIGHT
BEGIN:STANDARD
TZOFFSETFROM:-0700
TZOFFSETTO:-0800
TZNAME:PST
DTSTART:20251102T090000
END:STANDARD
END:VTIMEZONE
BEGIN:VEVENT
DTSTART;VALUE=DATE:20240903
DTEND;VALUE=DATE:20240904
DTSTAMP:20260423T034355
CREATED:20240229T151145Z
LAST-MODIFIED:20240903T214152Z
UID:10001392-1725321600-1725407999@www.nlc.bc.ca
SUMMARY:First Day of Classes Fall (Orientation)
DESCRIPTION:Tuition and Fees Due 
URL:https://www.nlc.bc.ca/event/first-day-of-classes-fall-orientation/
LOCATION:Dawson Creek Campus\, 11401 8th St\, Dawson Creek\, British Columbia\, V1G 4G2\, Canada
CATEGORIES:Important Dates—Academic
END:VEVENT
BEGIN:VEVENT
DTSTART;VALUE=DATE:20240903
DTEND;VALUE=DATE:20240904
DTSTAMP:20260423T034355
CREATED:20240229T151304Z
LAST-MODIFIED:20240830T195855Z
UID:10001393-1725321600-1725407999@www.nlc.bc.ca
SUMMARY:First Day of Classes 20-week semester
DESCRIPTION:Tuition and Fees Due
URL:https://www.nlc.bc.ca/event/first-day-of-classes-20-week-semester/
LOCATION:Fort St. John Campus\, 9820 - 120th Ave\, Fort St. John\, British Columbia\, V1J 8C3\, Canada
CATEGORIES:Important Dates—Academic
END:VEVENT
BEGIN:VEVENT
DTSTART;VALUE=DATE:20240916
DTEND;VALUE=DATE:20240917
DTSTAMP:20260423T034355
CREATED:20240229T151513Z
LAST-MODIFIED:20240916T182912Z
UID:10001394-1726444800-1726531199@www.nlc.bc.ca
SUMMARY:End of Add/Drop Period 20-week semester
DESCRIPTION:
URL:https://www.nlc.bc.ca/event/end-of-add-drop-period-20-week-semester/
LOCATION:Online\, Canada
CATEGORIES:Important Dates—Academic
END:VEVENT
BEGIN:VEVENT
DTSTART;VALUE=DATE:20240917
DTEND;VALUE=DATE:20240918
DTSTAMP:20260423T034355
CREATED:20240229T151608Z
LAST-MODIFIED:20240916T181437Z
UID:10001395-1726531200-1726617599@www.nlc.bc.ca
SUMMARY:End of Add/Drop Period Fall 
DESCRIPTION:
URL:https://www.nlc.bc.ca/event/end-of-add-drop-period-fall/
LOCATION:Online\, Canada
CATEGORIES:Important Dates—Academic
END:VEVENT
BEGIN:VEVENT
DTSTART;TZID=America/Vancouver:20240930T083000
DTEND;TZID=America/Vancouver:20240930T163000
DTSTAMP:20260423T034355
CREATED:20240229T151809Z
LAST-MODIFIED:20240917T160238Z
UID:10001396-1727685000-1727713800@www.nlc.bc.ca
SUMMARY:National Day for Truth and Reconciliation (College closed)
DESCRIPTION:All campuses will be closed to respect the National Day for Truth and Reconciliation.
URL:https://www.nlc.bc.ca/event/national-day-for-truth-and-reconciliation-college-closed/
LOCATION:Chetwynd Campus\, 5132 50 Street\, Chetwynd\, British Columbia\, V0C 1J0\, Canada
CATEGORIES:Important Dates—Academic
END:VEVENT
END:VCALENDAR