BEGIN:VCALENDAR
VERSION:2.0
PRODID:-//Northern Lights College - ECPv6.15.20//NONSGML v1.0//EN
CALSCALE:GREGORIAN
METHOD:PUBLISH
X-WR-CALNAME:Northern Lights College
X-ORIGINAL-URL:https://www.nlc.bc.ca
X-WR-CALDESC:Events for Northern Lights College
REFRESH-INTERVAL;VALUE=DURATION:PT1H
X-Robots-Tag:noindex
X-PUBLISHED-TTL:PT1H
BEGIN:VTIMEZONE
TZID:America/Vancouver
BEGIN:DAYLIGHT
TZOFFSETFROM:-0800
TZOFFSETTO:-0700
TZNAME:PDT
DTSTART:20230312T100000
END:DAYLIGHT
BEGIN:STANDARD
TZOFFSETFROM:-0700
TZOFFSETTO:-0800
TZNAME:PST
DTSTART:20231105T090000
END:STANDARD
BEGIN:DAYLIGHT
TZOFFSETFROM:-0800
TZOFFSETTO:-0700
TZNAME:PDT
DTSTART:20240310T100000
END:DAYLIGHT
BEGIN:STANDARD
TZOFFSETFROM:-0700
TZOFFSETTO:-0800
TZNAME:PST
DTSTART:20241103T090000
END:STANDARD
BEGIN:DAYLIGHT
TZOFFSETFROM:-0800
TZOFFSETTO:-0700
TZNAME:PDT
DTSTART:20250309T100000
END:DAYLIGHT
BEGIN:STANDARD
TZOFFSETFROM:-0700
TZOFFSETTO:-0800
TZNAME:PST
DTSTART:20251102T090000
END:STANDARD
BEGIN:DAYLIGHT
TZOFFSETFROM:-0800
TZOFFSETTO:-0700
TZNAME:PDT
DTSTART:20260308T100000
END:DAYLIGHT
BEGIN:STANDARD
TZOFFSETFROM:-0700
TZOFFSETTO:-0800
TZNAME:PST
DTSTART:20261101T090000
END:STANDARD
END:VTIMEZONE
BEGIN:VTIMEZONE
TZID:America/Phoenix
BEGIN:STANDARD
TZOFFSETFROM:-0700
TZOFFSETTO:-0700
TZNAME:MST
DTSTART:20240101T000000
END:STANDARD
END:VTIMEZONE
BEGIN:VEVENT
DTSTART;VALUE=DATE:20241225
DTEND;VALUE=DATE:20250102
DTSTAMP:20260422T210247
CREATED:20240229T202529Z
LAST-MODIFIED:20241203T163317Z
UID:10001408-1735084800-1735775999@www.nlc.bc.ca
SUMMARY:Christmas/Winter Break (College Closed)
DESCRIPTION:
URL:https://www.nlc.bc.ca/event/christmas-winter-break-college-closed/
LOCATION:BC
CATEGORIES:Important Dates—Academic
END:VEVENT
BEGIN:VEVENT
DTSTART;VALUE=DATE:20250101
DTEND;VALUE=DATE:20250102
DTSTAMP:20260422T210247
CREATED:20240229T163941Z
LAST-MODIFIED:20240305T162435Z
UID:10001409-1735689600-1735775999@www.nlc.bc.ca
SUMMARY:New Year's Day (College Closed)
DESCRIPTION:
URL:https://www.nlc.bc.ca/event/new-years-day-college-closed/
LOCATION:BC
CATEGORIES:Important Dates—Academic
END:VEVENT
BEGIN:VEVENT
DTSTART;VALUE=DATE:20250106
DTEND;VALUE=DATE:20250107
DTSTAMP:20260422T210247
CREATED:20240229T202650Z
LAST-MODIFIED:20240305T162427Z
UID:10001410-1736121600-1736207999@www.nlc.bc.ca
SUMMARY:First Day of Classes Winter (Orientation)
DESCRIPTION:Tuition and Fees Due
URL:https://www.nlc.bc.ca/event/first-day-of-classes-winter-orientation/
LOCATION:BC
CATEGORIES:Important Dates—Academic
END:VEVENT
BEGIN:VEVENT
DTSTART;TZID=America/Phoenix:20250106T083000
DTEND;TZID=America/Phoenix:20250106T133000
DTSTAMP:20260422T210247
CREATED:20241212T185248Z
LAST-MODIFIED:20241212T185248Z
UID:10002036-1736152200-1736170200@www.nlc.bc.ca
SUMMARY:FSJ - New Student Orientation
DESCRIPTION:
URL:https://www.nlc.bc.ca/event/fsj-new-student-orientation/
LOCATION:Fort St John Atrium\, 9820 120th Ave\, Fort St. John\, BC\, V1J 8C3\, Canada
CATEGORIES:College Events,Important Dates—Academic
ORGANIZER;CN="Student Life":MAILTO:studentlife@nlc.bc.ca
END:VEVENT
BEGIN:VEVENT
DTSTART;TZID=America/Phoenix:20250106T083000
DTEND;TZID=America/Phoenix:20250106T133000
DTSTAMP:20260422T210247
CREATED:20241212T185548Z
LAST-MODIFIED:20241212T185548Z
UID:10002037-1736152200-1736170200@www.nlc.bc.ca
SUMMARY:DC - New Student Orientation
DESCRIPTION:
URL:https://www.nlc.bc.ca/event/dc-new-student-orientation/
LOCATION:Room 116\, Dawson Creek campus\, 11401 8 street\, Dawson Creek\, British Columbia\, V1G4E8\, Canada
CATEGORIES:College Events,Important Dates—Academic
ORGANIZER;CN="Student Life":MAILTO:studentlife@nlc.bc.ca
END:VEVENT
BEGIN:VEVENT
DTSTART;VALUE=DATE:20250120
DTEND;VALUE=DATE:20250121
DTSTAMP:20260422T210247
CREATED:20240229T202817Z
LAST-MODIFIED:20250120T201117Z
UID:10001411-1737331200-1737417599@www.nlc.bc.ca
SUMMARY:End of Add/Drop Period Winter 
DESCRIPTION:Withdrawals refunded at 85% to the last day of Add/Drop Period. After Add/Drop Period\, no refund is issued for withdrawals. 
URL:https://www.nlc.bc.ca/event/end-of-add-drop-period-winter/
LOCATION:BC
CATEGORIES:Important Dates—Academic
END:VEVENT
BEGIN:VEVENT
DTSTART;VALUE=DATE:20250125
DTEND;VALUE=DATE:20250126
DTSTAMP:20260422T210247
CREATED:20240229T203508Z
LAST-MODIFIED:20240305T162409Z
UID:10001412-1737763200-1737849599@www.nlc.bc.ca
SUMMARY:Last Day of Classes 20-week semester
DESCRIPTION:
URL:https://www.nlc.bc.ca/event/last-day-of-classes-20-week-semester-2/
LOCATION:BC
CATEGORIES:Important Dates—Academic
END:VEVENT
END:VCALENDAR