BEGIN:VCALENDAR
VERSION:2.0
PRODID:-//Northern Lights College - ECPv6.15.20//NONSGML v1.0//EN
CALSCALE:GREGORIAN
METHOD:PUBLISH
X-WR-CALNAME:Northern Lights College
X-ORIGINAL-URL:https://www.nlc.bc.ca
X-WR-CALDESC:Events for Northern Lights College
REFRESH-INTERVAL;VALUE=DURATION:PT1H
X-Robots-Tag:noindex
X-PUBLISHED-TTL:PT1H
BEGIN:VTIMEZONE
TZID:America/Vancouver
BEGIN:DAYLIGHT
TZOFFSETFROM:-0800
TZOFFSETTO:-0700
TZNAME:PDT
DTSTART:20240310T100000
END:DAYLIGHT
BEGIN:STANDARD
TZOFFSETFROM:-0700
TZOFFSETTO:-0800
TZNAME:PST
DTSTART:20241103T090000
END:STANDARD
BEGIN:DAYLIGHT
TZOFFSETFROM:-0800
TZOFFSETTO:-0700
TZNAME:PDT
DTSTART:20250309T100000
END:DAYLIGHT
BEGIN:STANDARD
TZOFFSETFROM:-0700
TZOFFSETTO:-0800
TZNAME:PST
DTSTART:20251102T090000
END:STANDARD
BEGIN:DAYLIGHT
TZOFFSETFROM:-0800
TZOFFSETTO:-0700
TZNAME:PDT
DTSTART:20260308T100000
END:DAYLIGHT
BEGIN:STANDARD
TZOFFSETFROM:-0700
TZOFFSETTO:-0800
TZNAME:PST
DTSTART:20261101T090000
END:STANDARD
END:VTIMEZONE
BEGIN:VEVENT
DTSTART;VALUE=DATE:20250410
DTEND;VALUE=DATE:20250411
DTSTAMP:20260421T090554
CREATED:20240229T205027Z
LAST-MODIFIED:20240305T162246Z
UID:10001418-1744243200-1744329599@www.nlc.bc.ca
SUMMARY:Last Day to withdraw 20-week semester
DESCRIPTION:
URL:https://www.nlc.bc.ca/event/last-day-to-withdraw-20-week-semester-3/
LOCATION:BC
CATEGORIES:Important Dates—Academic
END:VEVENT
BEGIN:VEVENT
DTSTART;VALUE=DATE:20250412
DTEND;VALUE=DATE:20250413
DTSTAMP:20260421T090554
CREATED:20240229T205117Z
LAST-MODIFIED:20240305T162239Z
UID:10001419-1744416000-1744502399@www.nlc.bc.ca
SUMMARY:Last Day of Classes Winter
DESCRIPTION:
URL:https://www.nlc.bc.ca/event/last-day-of-classes-winter-2/
LOCATION:BC
CATEGORIES:Important Dates—Academic
END:VEVENT
BEGIN:VEVENT
DTSTART;VALUE=DATE:20250414
DTEND;VALUE=DATE:20250415
DTSTAMP:20260421T090554
CREATED:20240229T205157Z
LAST-MODIFIED:20240305T162232Z
UID:10001420-1744588800-1744675199@www.nlc.bc.ca
SUMMARY:Final exams start Winter
DESCRIPTION:
URL:https://www.nlc.bc.ca/event/final-exams-start-winter-2/
LOCATION:BC
CATEGORIES:Important Dates—Academic
END:VEVENT
BEGIN:VEVENT
DTSTART;VALUE=DATE:20250418
DTEND;VALUE=DATE:20250419
DTSTAMP:20260421T090554
CREATED:20240229T205440Z
LAST-MODIFIED:20250402T182939Z
UID:10001421-1744934400-1745020799@www.nlc.bc.ca
SUMMARY:Good Friday (College closed)
DESCRIPTION:College is closed and will reopen April 22\, 2025
URL:https://www.nlc.bc.ca/event/good-friday-college-closed-2/
LOCATION:BC
CATEGORIES:Important Dates—Academic
END:VEVENT
BEGIN:VEVENT
DTSTART;VALUE=DATE:20250419
DTEND;VALUE=DATE:20250420
DTSTAMP:20260421T090554
CREATED:20240229T205548Z
LAST-MODIFIED:20240305T162218Z
UID:10001422-1745020800-1745107199@www.nlc.bc.ca
SUMMARY:Easter Weekend (non-instructional)
DESCRIPTION:
URL:https://www.nlc.bc.ca/event/easter-weekend-non-instructional/
LOCATION:BC
CATEGORIES:Important Dates—Academic
END:VEVENT
BEGIN:VEVENT
DTSTART;VALUE=DATE:20250420
DTEND;VALUE=DATE:20250421
DTSTAMP:20260421T090554
CREATED:20240229T205640Z
LAST-MODIFIED:20240305T162204Z
UID:10001423-1745107200-1745193599@www.nlc.bc.ca
SUMMARY:Easter Sunday
DESCRIPTION:
URL:https://www.nlc.bc.ca/event/easter-sunday-2/
LOCATION:BC
CATEGORIES:Important Dates—Academic
END:VEVENT
BEGIN:VEVENT
DTSTART;VALUE=DATE:20250421
DTEND;VALUE=DATE:20250422
DTSTAMP:20260421T090554
CREATED:20240229T205730Z
LAST-MODIFIED:20240305T162155Z
UID:10001424-1745193600-1745279999@www.nlc.bc.ca
SUMMARY:Easter Monday (College closed)
DESCRIPTION:
URL:https://www.nlc.bc.ca/event/easter-monday-college-closed-2/
LOCATION:BC
CATEGORIES:Important Dates—Academic
END:VEVENT
BEGIN:VEVENT
DTSTART;VALUE=DATE:20250426
DTEND;VALUE=DATE:20250427
DTSTAMP:20260421T090554
CREATED:20240229T205818Z
LAST-MODIFIED:20240305T162146Z
UID:10001425-1745625600-1745711999@www.nlc.bc.ca
SUMMARY:Final exams end Winter
DESCRIPTION:
URL:https://www.nlc.bc.ca/event/final-exams-end-winter-2/
LOCATION:BC
CATEGORIES:Important Dates—Academic
END:VEVENT
END:VCALENDAR