BEGIN:VCALENDAR
VERSION:2.0
PRODID:-//Northern Lights College - ECPv6.15.20//NONSGML v1.0//EN
CALSCALE:GREGORIAN
METHOD:PUBLISH
X-ORIGINAL-URL:https://www.nlc.bc.ca
X-WR-CALDESC:Events for Northern Lights College
REFRESH-INTERVAL;VALUE=DURATION:PT1H
X-Robots-Tag:noindex
X-PUBLISHED-TTL:PT1H
BEGIN:VTIMEZONE
TZID:America/Vancouver
BEGIN:DAYLIGHT
TZOFFSETFROM:-0800
TZOFFSETTO:-0700
TZNAME:PDT
DTSTART:20240310T100000
END:DAYLIGHT
BEGIN:STANDARD
TZOFFSETFROM:-0700
TZOFFSETTO:-0800
TZNAME:PST
DTSTART:20241103T090000
END:STANDARD
BEGIN:DAYLIGHT
TZOFFSETFROM:-0800
TZOFFSETTO:-0700
TZNAME:PDT
DTSTART:20250309T100000
END:DAYLIGHT
BEGIN:STANDARD
TZOFFSETFROM:-0700
TZOFFSETTO:-0800
TZNAME:PST
DTSTART:20251102T090000
END:STANDARD
BEGIN:DAYLIGHT
TZOFFSETFROM:-0800
TZOFFSETTO:-0700
TZNAME:PDT
DTSTART:20260308T100000
END:DAYLIGHT
BEGIN:STANDARD
TZOFFSETFROM:-0700
TZOFFSETTO:-0800
TZNAME:PST
DTSTART:20261101T090000
END:STANDARD
END:VTIMEZONE
BEGIN:VTIMEZONE
TZID:America/Phoenix
BEGIN:STANDARD
TZOFFSETFROM:-0700
TZOFFSETTO:-0700
TZNAME:MST
DTSTART:20240101T000000
END:STANDARD
END:VTIMEZONE
BEGIN:VEVENT
DTSTART;VALUE=DATE:20250505
DTEND;VALUE=DATE:20250506
DTSTAMP:20260422T145611
CREATED:20240229T205945Z
LAST-MODIFIED:20240305T162139Z
UID:10001426-1746403200-1746489599@www.nlc.bc.ca
SUMMARY:First Day of Spring & Intersession Classes (Orientation)
DESCRIPTION:Tuition and Fees Due 
URL:https://www.nlc.bc.ca/event/first-day-of-spring-intersession-classes-orientation/
LOCATION:BC
CATEGORIES:Important Dates—Academic
END:VEVENT
BEGIN:VEVENT
DTSTART;TZID=America/Phoenix:20250505T084500
DTEND;TZID=America/Phoenix:20250505T130000
DTSTAMP:20260422T145611
CREATED:20250410T221341Z
LAST-MODIFIED:20250410T221341Z
UID:10002652-1746434700-1746450000@www.nlc.bc.ca
SUMMARY:FSJ General Orientation
DESCRIPTION:
URL:https://www.nlc.bc.ca/event/fsj-general-orientation/
LOCATION:Fort St John Atrium\, 9820 120th Ave\, Fort St. John\, BC\, V1J 8C3\, Canada
CATEGORIES:College Events,Important Dates—Academic
ORGANIZER;CN="Student Life":MAILTO:studentlife@nlc.bc.ca
END:VEVENT
END:VCALENDAR