BEGIN:VCALENDAR
VERSION:2.0
PRODID:-//Northern Lights College - ECPv6.15.17.1//NONSGML v1.0//EN
CALSCALE:GREGORIAN
METHOD:PUBLISH
X-ORIGINAL-URL:https://www.nlc.bc.ca
X-WR-CALDESC:Events for Northern Lights College
REFRESH-INTERVAL;VALUE=DURATION:PT1H
X-Robots-Tag:noindex
X-PUBLISHED-TTL:PT1H
BEGIN:VTIMEZONE
TZID:America/Vancouver
BEGIN:DAYLIGHT
TZOFFSETFROM:-0800
TZOFFSETTO:-0700
TZNAME:PDT
DTSTART:20220313T100000
END:DAYLIGHT
BEGIN:STANDARD
TZOFFSETFROM:-0700
TZOFFSETTO:-0800
TZNAME:PST
DTSTART:20221106T090000
END:STANDARD
BEGIN:DAYLIGHT
TZOFFSETFROM:-0800
TZOFFSETTO:-0700
TZNAME:PDT
DTSTART:20230312T100000
END:DAYLIGHT
BEGIN:STANDARD
TZOFFSETFROM:-0700
TZOFFSETTO:-0800
TZNAME:PST
DTSTART:20231105T090000
END:STANDARD
BEGIN:DAYLIGHT
TZOFFSETFROM:-0800
TZOFFSETTO:-0700
TZNAME:PDT
DTSTART:20240310T100000
END:DAYLIGHT
BEGIN:STANDARD
TZOFFSETFROM:-0700
TZOFFSETTO:-0800
TZNAME:PST
DTSTART:20241103T090000
END:STANDARD
END:VTIMEZONE
BEGIN:VEVENT
DTSTART;TZID=America/Vancouver:20230207T114500
DTEND;TZID=America/Vancouver:20230207T124500
DTSTAMP:20260419T183212
CREATED:20230221T184416Z
LAST-MODIFIED:20230221T191248Z
UID:10000800-1675770300-1675773900@www.nlc.bc.ca
SUMMARY:Zumba for wellness
DESCRIPTION:Tuesdays\, January 17–April 4\, 2023 \nDawson Creek Gymnasium \nOpen to all students and staff \nContact Learning Support for more information.
URL:https://www.nlc.bc.ca/event/zumba-for-wellness/2023-02-07/
LOCATION:Dawson Creek Campus\, 11401 8th St\, Dawson Creek\, British Columbia\, V1G 4G2\, Canada
CATEGORIES:College Events,Sports
END:VEVENT
BEGIN:VEVENT
DTSTART;TZID=America/Vancouver:20230214T114500
DTEND;TZID=America/Vancouver:20230214T124500
DTSTAMP:20260419T183212
CREATED:20230221T184416Z
LAST-MODIFIED:20230221T191248Z
UID:10000801-1676375100-1676378700@www.nlc.bc.ca
SUMMARY:Zumba for wellness
DESCRIPTION:Tuesdays\, January 17–April 4\, 2023 \nDawson Creek Gymnasium \nOpen to all students and staff \nContact Learning Support for more information.
URL:https://www.nlc.bc.ca/event/zumba-for-wellness/2023-02-14/
LOCATION:Dawson Creek Campus\, 11401 8th St\, Dawson Creek\, British Columbia\, V1G 4G2\, Canada
CATEGORIES:College Events,Sports
END:VEVENT
BEGIN:VEVENT
DTSTART;VALUE=DATE:20230221
DTEND;VALUE=DATE:20230222
DTSTAMP:20260419T183212
CREATED:20230221T183822Z
LAST-MODIFIED:20230221T194142Z
UID:10000014-1676937600-1677023999@www.nlc.bc.ca
SUMMARY:Try Crossfit!
DESCRIPTION:Every Tuesday and Thursday\, Try Crossfit! \nContact Chantiel for more details – cdrschiwiski@engagesportnorth.com or 250-401-8080.
URL:https://www.nlc.bc.ca/event/try-crossfit/2023-02-21/
LOCATION:British Columbia
CATEGORIES:College Events,Sports
ORGANIZER;CN="Chantiel":MAILTO:cdrschiwiski@engagesportnorth.com
END:VEVENT
BEGIN:VEVENT
DTSTART;TZID=America/Vancouver:20230221T114500
DTEND;TZID=America/Vancouver:20230221T124500
DTSTAMP:20260419T183212
CREATED:20230221T184416Z
LAST-MODIFIED:20230221T191248Z
UID:10000802-1676979900-1676983500@www.nlc.bc.ca
SUMMARY:Zumba for wellness
DESCRIPTION:Tuesdays\, January 17–April 4\, 2023 \nDawson Creek Gymnasium \nOpen to all students and staff \nContact Learning Support for more information.
URL:https://www.nlc.bc.ca/event/zumba-for-wellness/2023-02-21/
LOCATION:Dawson Creek Campus\, 11401 8th St\, Dawson Creek\, British Columbia\, V1G 4G2\, Canada
CATEGORIES:College Events,Sports
END:VEVENT
BEGIN:VEVENT
DTSTART;VALUE=DATE:20230223
DTEND;VALUE=DATE:20230224
DTSTAMP:20260419T183212
CREATED:20230221T183822Z
LAST-MODIFIED:20230221T194142Z
UID:10001008-1677110400-1677196799@www.nlc.bc.ca
SUMMARY:Try Crossfit!
DESCRIPTION:Every Tuesday and Thursday\, Try Crossfit! \nContact Chantiel for more details – cdrschiwiski@engagesportnorth.com or 250-401-8080.
URL:https://www.nlc.bc.ca/event/try-crossfit/2023-02-23/
LOCATION:British Columbia
CATEGORIES:College Events,Sports
ORGANIZER;CN="Chantiel":MAILTO:cdrschiwiski@engagesportnorth.com
END:VEVENT
BEGIN:VEVENT
DTSTART;TZID=America/Vancouver:20230224T190000
DTEND;TZID=America/Vancouver:20230224T210000
DTSTAMP:20260419T183212
CREATED:20230221T193628Z
LAST-MODIFIED:20230221T193652Z
UID:10000982-1677265200-1677272400@www.nlc.bc.ca
SUMMARY:Intramurals - DC
DESCRIPTION:Intramurals \nFridays: 7–9pm \nDawson Creek Campus Gym \nContact Chanteil 250-401-8080\, cdrschiwiski@engagesportnorth.com for questions and more information.
URL:https://www.nlc.bc.ca/event/intramurals-dc/2023-02-24/
LOCATION:Dawson Creek Campus\, 11401 8th St\, Dawson Creek\, British Columbia\, V1G 4G2\, Canada
CATEGORIES:College Events,Sports
ORGANIZER;CN="Chantiel":MAILTO:cdrschiwiski@engagesportnorth.com
END:VEVENT
BEGIN:VEVENT
DTSTART;TZID=America/Vancouver:20230225T170000
DTEND;TZID=America/Vancouver:20230225T190000
DTSTAMP:20260419T183212
CREATED:20230221T194055Z
LAST-MODIFIED:20230221T194055Z
UID:10001000-1677344400-1677351600@www.nlc.bc.ca
SUMMARY:Cricket - FSJ
DESCRIPTION:Cricket \nSaturdays 5-7pm \nContact Chanteil 250-401-8080 cdrschiwiski@engagesportnorth.com for details.
URL:https://www.nlc.bc.ca/event/cricket-fsj/2023-02-25/
LOCATION:British Columbia
CATEGORIES:College Events,Sports
END:VEVENT
BEGIN:VEVENT
DTSTART;VALUE=DATE:20230228
DTEND;VALUE=DATE:20230301
DTSTAMP:20260419T183213
CREATED:20230221T183822Z
LAST-MODIFIED:20230221T194142Z
UID:10000015-1677542400-1677628799@www.nlc.bc.ca
SUMMARY:Try Crossfit!
DESCRIPTION:Every Tuesday and Thursday\, Try Crossfit! \nContact Chantiel for more details – cdrschiwiski@engagesportnorth.com or 250-401-8080.
URL:https://www.nlc.bc.ca/event/try-crossfit/2023-02-28/
LOCATION:British Columbia
CATEGORIES:College Events,Sports
ORGANIZER;CN="Chantiel":MAILTO:cdrschiwiski@engagesportnorth.com
END:VEVENT
BEGIN:VEVENT
DTSTART;TZID=America/Vancouver:20230228T114500
DTEND;TZID=America/Vancouver:20230228T124500
DTSTAMP:20260419T183213
CREATED:20230221T184416Z
LAST-MODIFIED:20230221T191248Z
UID:10000803-1677584700-1677588300@www.nlc.bc.ca
SUMMARY:Zumba for wellness
DESCRIPTION:Tuesdays\, January 17–April 4\, 2023 \nDawson Creek Gymnasium \nOpen to all students and staff \nContact Learning Support for more information.
URL:https://www.nlc.bc.ca/event/zumba-for-wellness/2023-02-28/
LOCATION:Dawson Creek Campus\, 11401 8th St\, Dawson Creek\, British Columbia\, V1G 4G2\, Canada
CATEGORIES:College Events,Sports
END:VEVENT
END:VCALENDAR