BEGIN:VCALENDAR
VERSION:2.0
PRODID:-//Northern Lights College - ECPv6.15.20//NONSGML v1.0//EN
CALSCALE:GREGORIAN
METHOD:PUBLISH
X-WR-CALNAME:Northern Lights College
X-ORIGINAL-URL:https://www.nlc.bc.ca
X-WR-CALDESC:Events for Northern Lights College
REFRESH-INTERVAL;VALUE=DURATION:PT1H
X-Robots-Tag:noindex
X-PUBLISHED-TTL:PT1H
BEGIN:VTIMEZONE
TZID:America/Phoenix
BEGIN:STANDARD
TZOFFSETFROM:-0700
TZOFFSETTO:-0700
TZNAME:MST
DTSTART:20250101T000000
END:STANDARD
END:VTIMEZONE
BEGIN:VEVENT
DTSTART;TZID=America/Phoenix:20260104T180000
DTEND;TZID=America/Phoenix:20260104T210000
DTSTAMP:20260420T211158
CREATED:20250829T174153Z
LAST-MODIFIED:20251203T170721Z
UID:10002968-1767549600-1767560400@www.nlc.bc.ca
SUMMARY:DC Campus Sunday Drop-in Sports — Futsal
DESCRIPTION:Come out and play!\nHave you ever tried Futsal? Come out this Sunday!\n(indoor soccer) \n*Drop-in sports are free and open to current students and staff of NLC\nFrom September 3\, 2025 to January 4\, 2026.\nNo drop-in sports during NLC holiday closures\, statutory holidays or during exams. \nDon’t see your sport? Suggest a sport or get more information. Contact Amber at sportdiscoverypeace@engagesportnorth.com or 250-784-3926 \n 
URL:https://www.nlc.bc.ca/event/sunday-drop-in-sports-futsal/2026-01-04/
LOCATION:NLC Dawson Creek Campus Gym\, 11401 8 Street\, Dawson Creek\, BC\, V1G 4G2\, Canada
CATEGORIES:College Events,Sports
ATTACH;FMTTYPE=image/jpeg:https://www.nlc.bc.ca/wp-content/uploads/2025/08/DC_dropin_sports-fall25.jpg
END:VEVENT
BEGIN:VEVENT
DTSTART;TZID=America/Phoenix:20260121T180000
DTEND;TZID=America/Phoenix:20260121T200000
DTSTAMP:20260420T211158
CREATED:20260121T181635Z
LAST-MODIFIED:20260121T232714Z
UID:10003687-1769018400-1769025600@www.nlc.bc.ca
SUMMARY:DC Campus Drop-in Sports — Basketball
DESCRIPTION:Come out and play!\nWednesdays\, 6–8pm \nHave you ever tried Basketball? Come out this Wednesday! \n*Drop-in sports are free and open to current students and staff of NLC\nFrom January 5\, 2026 to June 27\, 2026.\nNo drop-in sports during NLC holiday closures\, statutory holidays or during exams. \nDon’t see your sport? Suggest a sport or get more information. Contact Amber at sportdiscoverypeace@engagesportnorth.com or 250-784-3926
URL:https://www.nlc.bc.ca/event/dc-campus-drop-in-sports-basketball/2026-01-21/
LOCATION:NLC Dawson Creek Campus Gym\, 11401 8 Street\, Dawson Creek\, BC\, V1G 4G2\, Canada
CATEGORIES:College Events,Sports
ATTACH;FMTTYPE=image/jpeg:https://www.nlc.bc.ca/wp-content/uploads/2026/01/dc_drop-in_sports.jpg
END:VEVENT
BEGIN:VEVENT
DTSTART;TZID=America/Phoenix:20260122T180000
DTEND;TZID=America/Phoenix:20260122T200000
DTSTAMP:20260420T211158
CREATED:20260121T182031Z
LAST-MODIFIED:20260121T230434Z
UID:10003762-1769104800-1769112000@www.nlc.bc.ca
SUMMARY:DC Campus Drop-in Sports — Volleyball
DESCRIPTION:Come out and play!\nThursdays\, 6–8pm \nHave you ever tried Volleyball? Come out this Thursday! \n*Drop-in sports are free and open to current students and staff of NLC\nFrom January 5\, 2026 to June 27\, 2026.\nNo drop-in sports during NLC holiday closures\, statutory holidays or during exams. \nDon’t see your sport? Suggest a sport or get more information. Contact Amber at sportdiscoverypeace@engagesportnorth.com or 250-784-3926
URL:https://www.nlc.bc.ca/event/dc-campus-drop-in-sports-volleyball-2/2026-01-22/
LOCATION:NLC Dawson Creek Campus Gym\, 11401 8 Street\, Dawson Creek\, BC\, V1G 4G2\, Canada
CATEGORIES:College Events,Sports
ATTACH;FMTTYPE=image/jpeg:https://www.nlc.bc.ca/wp-content/uploads/2026/01/dc_drop-in_sports.jpg
END:VEVENT
BEGIN:VEVENT
DTSTART;TZID=America/Phoenix:20260122T200000
DTEND;TZID=America/Phoenix:20260122T220000
DTSTAMP:20260420T211158
CREATED:20260121T230338Z
LAST-MODIFIED:20260121T230503Z
UID:10003837-1769112000-1769119200@www.nlc.bc.ca
SUMMARY:DC Campus Drop-in Sports — Futsal
DESCRIPTION:Come out and play!\nThursdays\, 8–10pm \nHave you ever tried Futsal? Come out this Thursday! \n*Drop-in sports are free and open to current students and staff of NLC\nFrom January 5\, 2026 to June 27\, 2026.\nNo drop-in sports during NLC holiday closures\, statutory holidays or during exams. \nDon’t see your sport? Suggest a sport or get more information. Contact Amber at sportdiscoverypeace@engagesportnorth.com or 250-784-3926
URL:https://www.nlc.bc.ca/event/dc-campus-drop-in-sports-futsal-2/2026-01-22/
LOCATION:NLC Dawson Creek Campus Gym\, 11401 8 Street\, Dawson Creek\, BC\, V1G 4G2\, Canada
CATEGORIES:College Events,Sports
ATTACH;FMTTYPE=image/jpeg:https://www.nlc.bc.ca/wp-content/uploads/2026/01/dc_drop-in_sports.jpg
END:VEVENT
BEGIN:VEVENT
DTSTART;TZID=America/Phoenix:20260123T180000
DTEND;TZID=America/Phoenix:20260123T200000
DTSTAMP:20260420T211158
CREATED:20260121T230833Z
LAST-MODIFIED:20260121T230833Z
UID:10003912-1769191200-1769198400@www.nlc.bc.ca
SUMMARY:DC Campus Drop-in Sports — Basketball
DESCRIPTION:Come out and play!\nFridays\, 6–8pm \nHave you ever tried Basketball? Come out this Friday! \n*Drop-in sports are free and open to current students and staff of NLC\nFrom January 5\, 2026 to June 27\, 2026.\nNo drop-in sports during NLC holiday closures\, statutory holidays or during exams. \nDon’t see your sport? Suggest a sport or get more information. Contact Amber at sportdiscoverypeace@engagesportnorth.com or 250-784-3926
URL:https://www.nlc.bc.ca/event/dc-campus-drop-in-sports-basketball-2/2026-01-23/
LOCATION:NLC Dawson Creek Campus Gym\, 11401 8 Street\, Dawson Creek\, BC\, V1G 4G2\, Canada
CATEGORIES:College Events,Sports
ATTACH;FMTTYPE=image/jpeg:https://www.nlc.bc.ca/wp-content/uploads/2026/01/dc_drop-in_sports.jpg
END:VEVENT
BEGIN:VEVENT
DTSTART;TZID=America/Phoenix:20260123T200000
DTEND;TZID=America/Phoenix:20260123T220000
DTSTAMP:20260420T211158
CREATED:20260121T231040Z
LAST-MODIFIED:20260121T231040Z
UID:10003987-1769198400-1769205600@www.nlc.bc.ca
SUMMARY:DC Campus Drop-in Sports — Futsal
DESCRIPTION:Come out and play!\nFridays\, 8–10pm \nHave you ever tried Futsal? Come out this Friday! \n*Drop-in sports are free and open to current students and staff of NLC\nFrom January 5\, 2026 to June 27\, 2026.\nNo drop-in sports during NLC holiday closures\, statutory holidays or during exams. \nDon’t see your sport? Suggest a sport or get more information. Contact Amber at sportdiscoverypeace@engagesportnorth.com or 250-784-3926
URL:https://www.nlc.bc.ca/event/dc-campus-drop-in-sports-futsal-3/2026-01-23/
LOCATION:NLC Dawson Creek Campus Gym\, 11401 8 Street\, Dawson Creek\, BC\, V1G 4G2\, Canada
CATEGORIES:College Events,Sports
ATTACH;FMTTYPE=image/jpeg:https://www.nlc.bc.ca/wp-content/uploads/2026/01/dc_drop-in_sports.jpg
END:VEVENT
BEGIN:VEVENT
DTSTART;TZID=America/Phoenix:20260124T180000
DTEND;TZID=America/Phoenix:20260124T200000
DTSTAMP:20260420T211158
CREATED:20260121T232450Z
LAST-MODIFIED:20260121T232532Z
UID:10004136-1769277600-1769284800@www.nlc.bc.ca
SUMMARY:DC Campus Drop-in Sports — Competitive Volleyball
DESCRIPTION:Come out and play some Volleyball!!\nSaturdays\, 6–8pm \nIs Volleyball your sport? Come out this Saturday! \n*Drop-in sports are free and open to current students and staff of NLC\nFrom January 5\, 2026 to June 27\, 2026.\nNo drop-in sports during NLC holiday closures\, statutory holidays or during exams. \nDon’t see your sport? Suggest a sport or get more information. Contact Amber at sportdiscoverypeace@engagesportnorth.com or 250-784-3926
URL:https://www.nlc.bc.ca/event/dc-campus-drop-in-sports-competitive-volleyball/2026-01-24/
LOCATION:NLC Dawson Creek Campus Gym\, 11401 8 Street\, Dawson Creek\, BC\, V1G 4G2\, Canada
CATEGORIES:College Events,Sports
ATTACH;FMTTYPE=image/jpeg:https://www.nlc.bc.ca/wp-content/uploads/2026/01/dc_drop-in_sports.jpg
END:VEVENT
BEGIN:VEVENT
DTSTART;TZID=America/Phoenix:20260125T180000
DTEND;TZID=America/Phoenix:20260125T210000
DTSTAMP:20260420T211158
CREATED:20260120T225744Z
LAST-MODIFIED:20260120T225744Z
UID:10003558-1769364000-1769374800@www.nlc.bc.ca
SUMMARY:DC Campus Drop-in Sports — Futsal
DESCRIPTION:Come out and play!\nSundays\, 6–9pm \nHave you ever tried Futsal? Come out this Sunday!\n(indoor soccer) \n*Drop-in sports are free and open to current students and staff of NLC\nFrom January 5\, 2026 to June 27\, 2026.\nNo drop-in sports during NLC holiday closures\, statutory holidays or during exams. \nDon’t see your sport? Suggest a sport or get more information. Contact Amber at sportdiscoverypeace@engagesportnorth.com or 250-784-3926
URL:https://www.nlc.bc.ca/event/dc-campus-drop-in-sports-futsal/2026-01-25/
LOCATION:NLC Dawson Creek Campus Gym\, 11401 8 Street\, Dawson Creek\, BC\, V1G 4G2\, Canada
CATEGORIES:College Events,Sports
ATTACH;FMTTYPE=image/jpeg:https://www.nlc.bc.ca/wp-content/uploads/2026/01/dc_drop-in_sports.jpg
END:VEVENT
BEGIN:VEVENT
DTSTART;TZID=America/Phoenix:20260126T180000
DTEND;TZID=America/Phoenix:20260126T200000
DTSTAMP:20260420T211158
CREATED:20260120T230210Z
LAST-MODIFIED:20260120T233129Z
UID:10003633-1769450400-1769457600@www.nlc.bc.ca
SUMMARY:DC Campus Drop-in Sports — Badminton
DESCRIPTION:Come out and play!\nMondays\, 6–8pm \nHave you ever tried Badminton? Come out this Monday!\n(indoor soccer) \n*Drop-in sports are free and open to current students and staff of NLC\nFrom January 5\, 2026 to June 27\, 2026.\nNo drop-in sports during NLC holiday closures\, statutory holidays or during exams. \nDon’t see your sport? Suggest a sport or get more information. Contact Amber at sportdiscoverypeace@engagesportnorth.com or 250-784-3926
URL:https://www.nlc.bc.ca/event/dc-campus-drop-in-sports-badminton/
LOCATION:NLC Dawson Creek Campus Gym\, 11401 8 Street\, Dawson Creek\, BC\, V1G 4G2\, Canada
CATEGORIES:College Events,Sports
ATTACH;FMTTYPE=image/jpeg:https://www.nlc.bc.ca/wp-content/uploads/2026/01/dc_drop-in_sports.jpg
END:VEVENT
BEGIN:VEVENT
DTSTART;TZID=America/Phoenix:20260126T180000
DTEND;TZID=America/Phoenix:20260126T200000
DTSTAMP:20260420T211158
CREATED:20260122T202055Z
LAST-MODIFIED:20260122T202526Z
UID:10004137-1769450400-1769457600@www.nlc.bc.ca
SUMMARY:FSJ Campus Drop-in Sports — Futsal
DESCRIPTION:Mondays\, 6–8pm\nBert Ambrose School Gymnasium \nHave you ever tried Futsal? Come out this Monday!\n(indoor soccer) \n*Drop-in sports are free and open to current students and staff of NLC\nFrom January 5\, 2026 to June 27\, 2026.\nNo drop-in sports during NLC holiday closures\, statutory holidays or during exams. \nDon’t see your sport? Suggest a sport or get more information. Contact Amber at sportdiscoverypeace@engagesportnorth.comemail or 250-784-3926
URL:https://www.nlc.bc.ca/event/fsj-campus-drop-in-sports-futsal/2026-01-26/
LOCATION:Bert Ambrose School Gymnasium\, 9616 115 Ave\, Fort St John\, BC\, V1J 2Y1\, Canada
CATEGORIES:College Events,Sports
ATTACH;FMTTYPE=image/jpeg:https://www.nlc.bc.ca/wp-content/uploads/2026/01/DropIn-FSJ.jpg
END:VEVENT
BEGIN:VEVENT
DTSTART;TZID=America/Phoenix:20260126T200000
DTEND;TZID=America/Phoenix:20260126T220000
DTSTAMP:20260420T211158
CREATED:20260120T233144Z
LAST-MODIFIED:20260121T181433Z
UID:10003634-1769457600-1769464800@www.nlc.bc.ca
SUMMARY:DC Campus Drop-in Sports — Volleyball
DESCRIPTION:Come out and play!\nMondays\, 8–10pm \nHave you ever tried Volleyball? Come out this Monday! \n*Drop-in sports are free and open to current students and staff of NLC\nFrom January 5\, 2026 to June 27\, 2026.\nNo drop-in sports during NLC holiday closures\, statutory holidays or during exams. \nDon’t see your sport? Suggest a sport or get more information. Contact Amber at sportdiscoverypeace@engagesportnorth.com or 250-784-3926
URL:https://www.nlc.bc.ca/event/dc-campus-drop-in-sports-volleyball/2026-01-26/
LOCATION:NLC Dawson Creek Campus Gym\, 11401 8 Street\, Dawson Creek\, BC\, V1G 4G2\, Canada
CATEGORIES:College Events,Sports
ATTACH;FMTTYPE=image/jpeg:https://www.nlc.bc.ca/wp-content/uploads/2026/01/dc_drop-in_sports.jpg
END:VEVENT
BEGIN:VEVENT
DTSTART;TZID=America/Phoenix:20260126T200000
DTEND;TZID=America/Phoenix:20260126T220000
DTSTAMP:20260420T211158
CREATED:20260122T202333Z
LAST-MODIFIED:20260122T202421Z
UID:10004211-1769457600-1769464800@www.nlc.bc.ca
SUMMARY:FSJ Campus Drop-in Sports — Basketball
DESCRIPTION:Mondays\, 8–10pm\nBert Ambrose School Gymnasium \nHave you ever tried Basketball? Come out this Monday! \n*Drop-in sports are free and open to current students and staff of NLC\nFrom January 5\, 2026 to June 27\, 2026.\nNo drop-in sports during NLC holiday closures\, statutory holidays or during exams. \nDon’t see your sport? Suggest a sport or get more information. Contact Amber at sportdiscoverypeace@engagesportnorth.comemail or 250-784-3926
URL:https://www.nlc.bc.ca/event/fsj-campus-drop-in-sports-basketball/2026-01-26/
LOCATION:Bert Ambrose School Gymnasium\, 9616 115 Ave\, Fort St John\, BC\, V1J 2Y1\, Canada
CATEGORIES:College Events,Sports
ATTACH;FMTTYPE=image/jpeg:https://www.nlc.bc.ca/wp-content/uploads/2026/01/DropIn-FSJ.jpg
END:VEVENT
BEGIN:VEVENT
DTSTART;TZID=America/Phoenix:20260128T180000
DTEND;TZID=America/Phoenix:20260128T200000
DTSTAMP:20260420T211158
CREATED:20260121T181635Z
LAST-MODIFIED:20260121T232714Z
UID:10003688-1769623200-1769630400@www.nlc.bc.ca
SUMMARY:DC Campus Drop-in Sports — Basketball
DESCRIPTION:Come out and play!\nWednesdays\, 6–8pm \nHave you ever tried Basketball? Come out this Wednesday! \n*Drop-in sports are free and open to current students and staff of NLC\nFrom January 5\, 2026 to June 27\, 2026.\nNo drop-in sports during NLC holiday closures\, statutory holidays or during exams. \nDon’t see your sport? Suggest a sport or get more information. Contact Amber at sportdiscoverypeace@engagesportnorth.com or 250-784-3926
URL:https://www.nlc.bc.ca/event/dc-campus-drop-in-sports-basketball/2026-01-28/
LOCATION:NLC Dawson Creek Campus Gym\, 11401 8 Street\, Dawson Creek\, BC\, V1G 4G2\, Canada
CATEGORIES:College Events,Sports
ATTACH;FMTTYPE=image/jpeg:https://www.nlc.bc.ca/wp-content/uploads/2026/01/dc_drop-in_sports.jpg
END:VEVENT
BEGIN:VEVENT
DTSTART;TZID=America/Phoenix:20260129T180000
DTEND;TZID=America/Phoenix:20260129T200000
DTSTAMP:20260420T211158
CREATED:20260121T182031Z
LAST-MODIFIED:20260121T230434Z
UID:10003763-1769709600-1769716800@www.nlc.bc.ca
SUMMARY:DC Campus Drop-in Sports — Volleyball
DESCRIPTION:Come out and play!\nThursdays\, 6–8pm \nHave you ever tried Volleyball? Come out this Thursday! \n*Drop-in sports are free and open to current students and staff of NLC\nFrom January 5\, 2026 to June 27\, 2026.\nNo drop-in sports during NLC holiday closures\, statutory holidays or during exams. \nDon’t see your sport? Suggest a sport or get more information. Contact Amber at sportdiscoverypeace@engagesportnorth.com or 250-784-3926
URL:https://www.nlc.bc.ca/event/dc-campus-drop-in-sports-volleyball-2/2026-01-29/
LOCATION:NLC Dawson Creek Campus Gym\, 11401 8 Street\, Dawson Creek\, BC\, V1G 4G2\, Canada
CATEGORIES:College Events,Sports
ATTACH;FMTTYPE=image/jpeg:https://www.nlc.bc.ca/wp-content/uploads/2026/01/dc_drop-in_sports.jpg
END:VEVENT
BEGIN:VEVENT
DTSTART;TZID=America/Phoenix:20260129T200000
DTEND;TZID=America/Phoenix:20260129T220000
DTSTAMP:20260420T211158
CREATED:20260121T230338Z
LAST-MODIFIED:20260121T230503Z
UID:10003838-1769716800-1769724000@www.nlc.bc.ca
SUMMARY:DC Campus Drop-in Sports — Futsal
DESCRIPTION:Come out and play!\nThursdays\, 8–10pm \nHave you ever tried Futsal? Come out this Thursday! \n*Drop-in sports are free and open to current students and staff of NLC\nFrom January 5\, 2026 to June 27\, 2026.\nNo drop-in sports during NLC holiday closures\, statutory holidays or during exams. \nDon’t see your sport? Suggest a sport or get more information. Contact Amber at sportdiscoverypeace@engagesportnorth.com or 250-784-3926
URL:https://www.nlc.bc.ca/event/dc-campus-drop-in-sports-futsal-2/2026-01-29/
LOCATION:NLC Dawson Creek Campus Gym\, 11401 8 Street\, Dawson Creek\, BC\, V1G 4G2\, Canada
CATEGORIES:College Events,Sports
ATTACH;FMTTYPE=image/jpeg:https://www.nlc.bc.ca/wp-content/uploads/2026/01/dc_drop-in_sports.jpg
END:VEVENT
BEGIN:VEVENT
DTSTART;TZID=America/Phoenix:20260130T180000
DTEND;TZID=America/Phoenix:20260130T200000
DTSTAMP:20260420T211158
CREATED:20260121T230833Z
LAST-MODIFIED:20260121T230833Z
UID:10003913-1769796000-1769803200@www.nlc.bc.ca
SUMMARY:DC Campus Drop-in Sports — Basketball
DESCRIPTION:Come out and play!\nFridays\, 6–8pm \nHave you ever tried Basketball? Come out this Friday! \n*Drop-in sports are free and open to current students and staff of NLC\nFrom January 5\, 2026 to June 27\, 2026.\nNo drop-in sports during NLC holiday closures\, statutory holidays or during exams. \nDon’t see your sport? Suggest a sport or get more information. Contact Amber at sportdiscoverypeace@engagesportnorth.com or 250-784-3926
URL:https://www.nlc.bc.ca/event/dc-campus-drop-in-sports-basketball-2/2026-01-30/
LOCATION:NLC Dawson Creek Campus Gym\, 11401 8 Street\, Dawson Creek\, BC\, V1G 4G2\, Canada
CATEGORIES:College Events,Sports
ATTACH;FMTTYPE=image/jpeg:https://www.nlc.bc.ca/wp-content/uploads/2026/01/dc_drop-in_sports.jpg
END:VEVENT
BEGIN:VEVENT
DTSTART;TZID=America/Phoenix:20260130T200000
DTEND;TZID=America/Phoenix:20260130T220000
DTSTAMP:20260420T211158
CREATED:20260121T231040Z
LAST-MODIFIED:20260121T231040Z
UID:10003988-1769803200-1769810400@www.nlc.bc.ca
SUMMARY:DC Campus Drop-in Sports — Futsal
DESCRIPTION:Come out and play!\nFridays\, 8–10pm \nHave you ever tried Futsal? Come out this Friday! \n*Drop-in sports are free and open to current students and staff of NLC\nFrom January 5\, 2026 to June 27\, 2026.\nNo drop-in sports during NLC holiday closures\, statutory holidays or during exams. \nDon’t see your sport? Suggest a sport or get more information. Contact Amber at sportdiscoverypeace@engagesportnorth.com or 250-784-3926
URL:https://www.nlc.bc.ca/event/dc-campus-drop-in-sports-futsal-3/2026-01-30/
LOCATION:NLC Dawson Creek Campus Gym\, 11401 8 Street\, Dawson Creek\, BC\, V1G 4G2\, Canada
CATEGORIES:College Events,Sports
ATTACH;FMTTYPE=image/jpeg:https://www.nlc.bc.ca/wp-content/uploads/2026/01/dc_drop-in_sports.jpg
END:VEVENT
BEGIN:VEVENT
DTSTART;TZID=America/Phoenix:20260131T180000
DTEND;TZID=America/Phoenix:20260131T200000
DTSTAMP:20260420T211158
CREATED:20260121T232450Z
LAST-MODIFIED:20260121T232532Z
UID:10004062-1769882400-1769889600@www.nlc.bc.ca
SUMMARY:DC Campus Drop-in Sports — Competitive Volleyball
DESCRIPTION:Come out and play some Volleyball!!\nSaturdays\, 6–8pm \nIs Volleyball your sport? Come out this Saturday! \n*Drop-in sports are free and open to current students and staff of NLC\nFrom January 5\, 2026 to June 27\, 2026.\nNo drop-in sports during NLC holiday closures\, statutory holidays or during exams. \nDon’t see your sport? Suggest a sport or get more information. Contact Amber at sportdiscoverypeace@engagesportnorth.com or 250-784-3926
URL:https://www.nlc.bc.ca/event/dc-campus-drop-in-sports-competitive-volleyball/2026-01-31/
LOCATION:NLC Dawson Creek Campus Gym\, 11401 8 Street\, Dawson Creek\, BC\, V1G 4G2\, Canada
CATEGORIES:College Events,Sports
ATTACH;FMTTYPE=image/jpeg:https://www.nlc.bc.ca/wp-content/uploads/2026/01/dc_drop-in_sports.jpg
END:VEVENT
END:VCALENDAR