BEGIN:VCALENDAR
VERSION:2.0
PRODID:-//Northern Lights College - ECPv6.15.17.1//NONSGML v1.0//EN
CALSCALE:GREGORIAN
METHOD:PUBLISH
X-WR-CALNAME:Northern Lights College
X-ORIGINAL-URL:https://www.nlc.bc.ca
X-WR-CALDESC:Events for Northern Lights College
REFRESH-INTERVAL;VALUE=DURATION:PT1H
X-Robots-Tag:noindex
X-PUBLISHED-TTL:PT1H
BEGIN:VTIMEZONE
TZID:America/Phoenix
BEGIN:STANDARD
TZOFFSETFROM:-0700
TZOFFSETTO:-0700
TZNAME:MST
DTSTART:20250101T000000
END:STANDARD
END:VTIMEZONE
BEGIN:VEVENT
DTSTART;TZID=America/Phoenix:20260418T180000
DTEND;TZID=America/Phoenix:20260418T200000
DTSTAMP:20260418T000123
CREATED:20260121T232450Z
LAST-MODIFIED:20260121T232532Z
UID:10004073-1776535200-1776542400@www.nlc.bc.ca
SUMMARY:DC Campus Drop-in Sports — Competitive Volleyball
DESCRIPTION:Come out and play some Volleyball!!\nSaturdays\, 6–8pm \nIs Volleyball your sport? Come out this Saturday! \n*Drop-in sports are free and open to current students and staff of NLC\nFrom January 5\, 2026 to June 27\, 2026.\nNo drop-in sports during NLC holiday closures\, statutory holidays or during exams. \nDon’t see your sport? Suggest a sport or get more information. Contact Amber at sportdiscoverypeace@engagesportnorth.com or 250-784-3926
URL:https://www.nlc.bc.ca/event/dc-campus-drop-in-sports-competitive-volleyball/2026-04-18/
LOCATION:NLC Dawson Creek Campus Gym\, 11401 8 Street\, Dawson Creek\, BC\, V1G 4G2\, Canada
CATEGORIES:College Events,Sports
ATTACH;FMTTYPE=image/jpeg:https://www.nlc.bc.ca/wp-content/uploads/2026/01/dc_drop-in_sports.jpg
END:VEVENT
BEGIN:VEVENT
DTSTART;TZID=America/Phoenix:20260419T180000
DTEND;TZID=America/Phoenix:20260419T210000
DTSTAMP:20260418T000123
CREATED:20260120T225744Z
LAST-MODIFIED:20260120T225744Z
UID:10003570-1776621600-1776632400@www.nlc.bc.ca
SUMMARY:DC Campus Drop-in Sports — Futsal
DESCRIPTION:Come out and play!\nSundays\, 6–9pm \nHave you ever tried Futsal? Come out this Sunday!\n(indoor soccer) \n*Drop-in sports are free and open to current students and staff of NLC\nFrom January 5\, 2026 to June 27\, 2026.\nNo drop-in sports during NLC holiday closures\, statutory holidays or during exams. \nDon’t see your sport? Suggest a sport or get more information. Contact Amber at sportdiscoverypeace@engagesportnorth.com or 250-784-3926
URL:https://www.nlc.bc.ca/event/dc-campus-drop-in-sports-futsal/2026-04-19/
LOCATION:NLC Dawson Creek Campus Gym\, 11401 8 Street\, Dawson Creek\, BC\, V1G 4G2\, Canada
CATEGORIES:College Events,Sports
ATTACH;FMTTYPE=image/jpeg:https://www.nlc.bc.ca/wp-content/uploads/2026/01/dc_drop-in_sports.jpg
END:VEVENT
BEGIN:VEVENT
DTSTART;TZID=America/Phoenix:20260420T180000
DTEND;TZID=America/Phoenix:20260420T200000
DTSTAMP:20260418T000123
CREATED:20260122T202055Z
LAST-MODIFIED:20260122T202526Z
UID:10004149-1776708000-1776715200@www.nlc.bc.ca
SUMMARY:FSJ Campus Drop-in Sports — Futsal
DESCRIPTION:Mondays\, 6–8pm\nBert Ambrose School Gymnasium \nHave you ever tried Futsal? Come out this Monday!\n(indoor soccer) \n*Drop-in sports are free and open to current students and staff of NLC\nFrom January 5\, 2026 to June 27\, 2026.\nNo drop-in sports during NLC holiday closures\, statutory holidays or during exams. \nDon’t see your sport? Suggest a sport or get more information. Contact Amber at sportdiscoverypeace@engagesportnorth.comemail or 250-784-3926
URL:https://www.nlc.bc.ca/event/fsj-campus-drop-in-sports-futsal/2026-04-20/
LOCATION:Bert Ambrose School Gymnasium\, 9616 115 Ave\, Fort St John\, BC\, V1J 2Y1\, Canada
CATEGORIES:College Events,Sports
ATTACH;FMTTYPE=image/jpeg:https://www.nlc.bc.ca/wp-content/uploads/2026/01/DropIn-FSJ.jpg
END:VEVENT
BEGIN:VEVENT
DTSTART;TZID=America/Phoenix:20260420T200000
DTEND;TZID=America/Phoenix:20260420T220000
DTSTAMP:20260418T000123
CREATED:20260120T233144Z
LAST-MODIFIED:20260121T181433Z
UID:10003646-1776715200-1776722400@www.nlc.bc.ca
SUMMARY:DC Campus Drop-in Sports — Volleyball
DESCRIPTION:Come out and play!\nMondays\, 8–10pm \nHave you ever tried Volleyball? Come out this Monday! \n*Drop-in sports are free and open to current students and staff of NLC\nFrom January 5\, 2026 to June 27\, 2026.\nNo drop-in sports during NLC holiday closures\, statutory holidays or during exams. \nDon’t see your sport? Suggest a sport or get more information. Contact Amber at sportdiscoverypeace@engagesportnorth.com or 250-784-3926
URL:https://www.nlc.bc.ca/event/dc-campus-drop-in-sports-volleyball/2026-04-20/
LOCATION:NLC Dawson Creek Campus Gym\, 11401 8 Street\, Dawson Creek\, BC\, V1G 4G2\, Canada
CATEGORIES:College Events,Sports
ATTACH;FMTTYPE=image/jpeg:https://www.nlc.bc.ca/wp-content/uploads/2026/01/dc_drop-in_sports.jpg
END:VEVENT
BEGIN:VEVENT
DTSTART;TZID=America/Phoenix:20260420T200000
DTEND;TZID=America/Phoenix:20260420T220000
DTSTAMP:20260418T000123
CREATED:20260122T202333Z
LAST-MODIFIED:20260122T202421Z
UID:10004223-1776715200-1776722400@www.nlc.bc.ca
SUMMARY:FSJ Campus Drop-in Sports — Basketball
DESCRIPTION:Mondays\, 8–10pm\nBert Ambrose School Gymnasium \nHave you ever tried Basketball? Come out this Monday! \n*Drop-in sports are free and open to current students and staff of NLC\nFrom January 5\, 2026 to June 27\, 2026.\nNo drop-in sports during NLC holiday closures\, statutory holidays or during exams. \nDon’t see your sport? Suggest a sport or get more information. Contact Amber at sportdiscoverypeace@engagesportnorth.comemail or 250-784-3926
URL:https://www.nlc.bc.ca/event/fsj-campus-drop-in-sports-basketball/2026-04-20/
LOCATION:Bert Ambrose School Gymnasium\, 9616 115 Ave\, Fort St John\, BC\, V1J 2Y1\, Canada
CATEGORIES:College Events,Sports
ATTACH;FMTTYPE=image/jpeg:https://www.nlc.bc.ca/wp-content/uploads/2026/01/DropIn-FSJ.jpg
END:VEVENT
BEGIN:VEVENT
DTSTART;TZID=America/Phoenix:20260422T180000
DTEND;TZID=America/Phoenix:20260422T200000
DTSTAMP:20260418T000123
CREATED:20260121T181635Z
LAST-MODIFIED:20260121T232714Z
UID:10003700-1776880800-1776888000@www.nlc.bc.ca
SUMMARY:DC Campus Drop-in Sports — Basketball
DESCRIPTION:Come out and play!\nWednesdays\, 6–8pm \nHave you ever tried Basketball? Come out this Wednesday! \n*Drop-in sports are free and open to current students and staff of NLC\nFrom January 5\, 2026 to June 27\, 2026.\nNo drop-in sports during NLC holiday closures\, statutory holidays or during exams. \nDon’t see your sport? Suggest a sport or get more information. Contact Amber at sportdiscoverypeace@engagesportnorth.com or 250-784-3926
URL:https://www.nlc.bc.ca/event/dc-campus-drop-in-sports-basketball/2026-04-22/
LOCATION:NLC Dawson Creek Campus Gym\, 11401 8 Street\, Dawson Creek\, BC\, V1G 4G2\, Canada
CATEGORIES:College Events,Sports
ATTACH;FMTTYPE=image/jpeg:https://www.nlc.bc.ca/wp-content/uploads/2026/01/dc_drop-in_sports.jpg
END:VEVENT
BEGIN:VEVENT
DTSTART;TZID=America/Phoenix:20260423T180000
DTEND;TZID=America/Phoenix:20260423T200000
DTSTAMP:20260418T000123
CREATED:20260121T182031Z
LAST-MODIFIED:20260121T230434Z
UID:10003775-1776967200-1776974400@www.nlc.bc.ca
SUMMARY:DC Campus Drop-in Sports — Volleyball
DESCRIPTION:Come out and play!\nThursdays\, 6–8pm \nHave you ever tried Volleyball? Come out this Thursday! \n*Drop-in sports are free and open to current students and staff of NLC\nFrom January 5\, 2026 to June 27\, 2026.\nNo drop-in sports during NLC holiday closures\, statutory holidays or during exams. \nDon’t see your sport? Suggest a sport or get more information. Contact Amber at sportdiscoverypeace@engagesportnorth.com or 250-784-3926
URL:https://www.nlc.bc.ca/event/dc-campus-drop-in-sports-volleyball-2/2026-04-23/
LOCATION:NLC Dawson Creek Campus Gym\, 11401 8 Street\, Dawson Creek\, BC\, V1G 4G2\, Canada
CATEGORIES:College Events,Sports
ATTACH;FMTTYPE=image/jpeg:https://www.nlc.bc.ca/wp-content/uploads/2026/01/dc_drop-in_sports.jpg
END:VEVENT
BEGIN:VEVENT
DTSTART;TZID=America/Phoenix:20260423T200000
DTEND;TZID=America/Phoenix:20260423T220000
DTSTAMP:20260418T000123
CREATED:20260121T230338Z
LAST-MODIFIED:20260121T230503Z
UID:10003850-1776974400-1776981600@www.nlc.bc.ca
SUMMARY:DC Campus Drop-in Sports — Futsal
DESCRIPTION:Come out and play!\nThursdays\, 8–10pm \nHave you ever tried Futsal? Come out this Thursday! \n*Drop-in sports are free and open to current students and staff of NLC\nFrom January 5\, 2026 to June 27\, 2026.\nNo drop-in sports during NLC holiday closures\, statutory holidays or during exams. \nDon’t see your sport? Suggest a sport or get more information. Contact Amber at sportdiscoverypeace@engagesportnorth.com or 250-784-3926
URL:https://www.nlc.bc.ca/event/dc-campus-drop-in-sports-futsal-2/2026-04-23/
LOCATION:NLC Dawson Creek Campus Gym\, 11401 8 Street\, Dawson Creek\, BC\, V1G 4G2\, Canada
CATEGORIES:College Events,Sports
ATTACH;FMTTYPE=image/jpeg:https://www.nlc.bc.ca/wp-content/uploads/2026/01/dc_drop-in_sports.jpg
END:VEVENT
BEGIN:VEVENT
DTSTART;TZID=America/Phoenix:20260424T180000
DTEND;TZID=America/Phoenix:20260424T200000
DTSTAMP:20260418T000123
CREATED:20260121T230833Z
LAST-MODIFIED:20260121T230833Z
UID:10003925-1777053600-1777060800@www.nlc.bc.ca
SUMMARY:DC Campus Drop-in Sports — Basketball
DESCRIPTION:Come out and play!\nFridays\, 6–8pm \nHave you ever tried Basketball? Come out this Friday! \n*Drop-in sports are free and open to current students and staff of NLC\nFrom January 5\, 2026 to June 27\, 2026.\nNo drop-in sports during NLC holiday closures\, statutory holidays or during exams. \nDon’t see your sport? Suggest a sport or get more information. Contact Amber at sportdiscoverypeace@engagesportnorth.com or 250-784-3926
URL:https://www.nlc.bc.ca/event/dc-campus-drop-in-sports-basketball-2/2026-04-24/
LOCATION:NLC Dawson Creek Campus Gym\, 11401 8 Street\, Dawson Creek\, BC\, V1G 4G2\, Canada
CATEGORIES:College Events,Sports
ATTACH;FMTTYPE=image/jpeg:https://www.nlc.bc.ca/wp-content/uploads/2026/01/dc_drop-in_sports.jpg
END:VEVENT
BEGIN:VEVENT
DTSTART;TZID=America/Phoenix:20260424T200000
DTEND;TZID=America/Phoenix:20260424T220000
DTSTAMP:20260418T000123
CREATED:20260121T231040Z
LAST-MODIFIED:20260121T231040Z
UID:10004000-1777060800-1777068000@www.nlc.bc.ca
SUMMARY:DC Campus Drop-in Sports — Futsal
DESCRIPTION:Come out and play!\nFridays\, 8–10pm \nHave you ever tried Futsal? Come out this Friday! \n*Drop-in sports are free and open to current students and staff of NLC\nFrom January 5\, 2026 to June 27\, 2026.\nNo drop-in sports during NLC holiday closures\, statutory holidays or during exams. \nDon’t see your sport? Suggest a sport or get more information. Contact Amber at sportdiscoverypeace@engagesportnorth.com or 250-784-3926
URL:https://www.nlc.bc.ca/event/dc-campus-drop-in-sports-futsal-3/2026-04-24/
LOCATION:NLC Dawson Creek Campus Gym\, 11401 8 Street\, Dawson Creek\, BC\, V1G 4G2\, Canada
CATEGORIES:College Events,Sports
ATTACH;FMTTYPE=image/jpeg:https://www.nlc.bc.ca/wp-content/uploads/2026/01/dc_drop-in_sports.jpg
END:VEVENT
BEGIN:VEVENT
DTSTART;TZID=America/Phoenix:20260425T180000
DTEND;TZID=America/Phoenix:20260425T200000
DTSTAMP:20260418T000123
CREATED:20260121T232450Z
LAST-MODIFIED:20260121T232532Z
UID:10004074-1777140000-1777147200@www.nlc.bc.ca
SUMMARY:DC Campus Drop-in Sports — Competitive Volleyball
DESCRIPTION:Come out and play some Volleyball!!\nSaturdays\, 6–8pm \nIs Volleyball your sport? Come out this Saturday! \n*Drop-in sports are free and open to current students and staff of NLC\nFrom January 5\, 2026 to June 27\, 2026.\nNo drop-in sports during NLC holiday closures\, statutory holidays or during exams. \nDon’t see your sport? Suggest a sport or get more information. Contact Amber at sportdiscoverypeace@engagesportnorth.com or 250-784-3926
URL:https://www.nlc.bc.ca/event/dc-campus-drop-in-sports-competitive-volleyball/2026-04-25/
LOCATION:NLC Dawson Creek Campus Gym\, 11401 8 Street\, Dawson Creek\, BC\, V1G 4G2\, Canada
CATEGORIES:College Events,Sports
ATTACH;FMTTYPE=image/jpeg:https://www.nlc.bc.ca/wp-content/uploads/2026/01/dc_drop-in_sports.jpg
END:VEVENT
BEGIN:VEVENT
DTSTART;TZID=America/Phoenix:20260426T180000
DTEND;TZID=America/Phoenix:20260426T210000
DTSTAMP:20260418T000123
CREATED:20260120T225744Z
LAST-MODIFIED:20260120T225744Z
UID:10003571-1777226400-1777237200@www.nlc.bc.ca
SUMMARY:DC Campus Drop-in Sports — Futsal
DESCRIPTION:Come out and play!\nSundays\, 6–9pm \nHave you ever tried Futsal? Come out this Sunday!\n(indoor soccer) \n*Drop-in sports are free and open to current students and staff of NLC\nFrom January 5\, 2026 to June 27\, 2026.\nNo drop-in sports during NLC holiday closures\, statutory holidays or during exams. \nDon’t see your sport? Suggest a sport or get more information. Contact Amber at sportdiscoverypeace@engagesportnorth.com or 250-784-3926
URL:https://www.nlc.bc.ca/event/dc-campus-drop-in-sports-futsal/2026-04-26/
LOCATION:NLC Dawson Creek Campus Gym\, 11401 8 Street\, Dawson Creek\, BC\, V1G 4G2\, Canada
CATEGORIES:College Events,Sports
ATTACH;FMTTYPE=image/jpeg:https://www.nlc.bc.ca/wp-content/uploads/2026/01/dc_drop-in_sports.jpg
END:VEVENT
BEGIN:VEVENT
DTSTART;TZID=America/Phoenix:20260427T180000
DTEND;TZID=America/Phoenix:20260427T200000
DTSTAMP:20260418T000123
CREATED:20260122T202055Z
LAST-MODIFIED:20260122T202526Z
UID:10004150-1777312800-1777320000@www.nlc.bc.ca
SUMMARY:FSJ Campus Drop-in Sports — Futsal
DESCRIPTION:Mondays\, 6–8pm\nBert Ambrose School Gymnasium \nHave you ever tried Futsal? Come out this Monday!\n(indoor soccer) \n*Drop-in sports are free and open to current students and staff of NLC\nFrom January 5\, 2026 to June 27\, 2026.\nNo drop-in sports during NLC holiday closures\, statutory holidays or during exams. \nDon’t see your sport? Suggest a sport or get more information. Contact Amber at sportdiscoverypeace@engagesportnorth.comemail or 250-784-3926
URL:https://www.nlc.bc.ca/event/fsj-campus-drop-in-sports-futsal/2026-04-27/
LOCATION:Bert Ambrose School Gymnasium\, 9616 115 Ave\, Fort St John\, BC\, V1J 2Y1\, Canada
CATEGORIES:College Events,Sports
ATTACH;FMTTYPE=image/jpeg:https://www.nlc.bc.ca/wp-content/uploads/2026/01/DropIn-FSJ.jpg
END:VEVENT
BEGIN:VEVENT
DTSTART;TZID=America/Phoenix:20260427T200000
DTEND;TZID=America/Phoenix:20260427T220000
DTSTAMP:20260418T000123
CREATED:20260120T233144Z
LAST-MODIFIED:20260121T181433Z
UID:10003647-1777320000-1777327200@www.nlc.bc.ca
SUMMARY:DC Campus Drop-in Sports — Volleyball
DESCRIPTION:Come out and play!\nMondays\, 8–10pm \nHave you ever tried Volleyball? Come out this Monday! \n*Drop-in sports are free and open to current students and staff of NLC\nFrom January 5\, 2026 to June 27\, 2026.\nNo drop-in sports during NLC holiday closures\, statutory holidays or during exams. \nDon’t see your sport? Suggest a sport or get more information. Contact Amber at sportdiscoverypeace@engagesportnorth.com or 250-784-3926
URL:https://www.nlc.bc.ca/event/dc-campus-drop-in-sports-volleyball/2026-04-27/
LOCATION:NLC Dawson Creek Campus Gym\, 11401 8 Street\, Dawson Creek\, BC\, V1G 4G2\, Canada
CATEGORIES:College Events,Sports
ATTACH;FMTTYPE=image/jpeg:https://www.nlc.bc.ca/wp-content/uploads/2026/01/dc_drop-in_sports.jpg
END:VEVENT
BEGIN:VEVENT
DTSTART;TZID=America/Phoenix:20260427T200000
DTEND;TZID=America/Phoenix:20260427T220000
DTSTAMP:20260418T000123
CREATED:20260122T202333Z
LAST-MODIFIED:20260122T202421Z
UID:10004224-1777320000-1777327200@www.nlc.bc.ca
SUMMARY:FSJ Campus Drop-in Sports — Basketball
DESCRIPTION:Mondays\, 8–10pm\nBert Ambrose School Gymnasium \nHave you ever tried Basketball? Come out this Monday! \n*Drop-in sports are free and open to current students and staff of NLC\nFrom January 5\, 2026 to June 27\, 2026.\nNo drop-in sports during NLC holiday closures\, statutory holidays or during exams. \nDon’t see your sport? Suggest a sport or get more information. Contact Amber at sportdiscoverypeace@engagesportnorth.comemail or 250-784-3926
URL:https://www.nlc.bc.ca/event/fsj-campus-drop-in-sports-basketball/2026-04-27/
LOCATION:Bert Ambrose School Gymnasium\, 9616 115 Ave\, Fort St John\, BC\, V1J 2Y1\, Canada
CATEGORIES:College Events,Sports
ATTACH;FMTTYPE=image/jpeg:https://www.nlc.bc.ca/wp-content/uploads/2026/01/DropIn-FSJ.jpg
END:VEVENT
BEGIN:VEVENT
DTSTART;TZID=America/Phoenix:20260429T180000
DTEND;TZID=America/Phoenix:20260429T200000
DTSTAMP:20260418T000123
CREATED:20260121T181635Z
LAST-MODIFIED:20260121T232714Z
UID:10003701-1777485600-1777492800@www.nlc.bc.ca
SUMMARY:DC Campus Drop-in Sports — Basketball
DESCRIPTION:Come out and play!\nWednesdays\, 6–8pm \nHave you ever tried Basketball? Come out this Wednesday! \n*Drop-in sports are free and open to current students and staff of NLC\nFrom January 5\, 2026 to June 27\, 2026.\nNo drop-in sports during NLC holiday closures\, statutory holidays or during exams. \nDon’t see your sport? Suggest a sport or get more information. Contact Amber at sportdiscoverypeace@engagesportnorth.com or 250-784-3926
URL:https://www.nlc.bc.ca/event/dc-campus-drop-in-sports-basketball/2026-04-29/
LOCATION:NLC Dawson Creek Campus Gym\, 11401 8 Street\, Dawson Creek\, BC\, V1G 4G2\, Canada
CATEGORIES:College Events,Sports
ATTACH;FMTTYPE=image/jpeg:https://www.nlc.bc.ca/wp-content/uploads/2026/01/dc_drop-in_sports.jpg
END:VEVENT
BEGIN:VEVENT
DTSTART;TZID=America/Phoenix:20260430T180000
DTEND;TZID=America/Phoenix:20260430T200000
DTSTAMP:20260418T000123
CREATED:20260121T182031Z
LAST-MODIFIED:20260121T230434Z
UID:10003776-1777572000-1777579200@www.nlc.bc.ca
SUMMARY:DC Campus Drop-in Sports — Volleyball
DESCRIPTION:Come out and play!\nThursdays\, 6–8pm \nHave you ever tried Volleyball? Come out this Thursday! \n*Drop-in sports are free and open to current students and staff of NLC\nFrom January 5\, 2026 to June 27\, 2026.\nNo drop-in sports during NLC holiday closures\, statutory holidays or during exams. \nDon’t see your sport? Suggest a sport or get more information. Contact Amber at sportdiscoverypeace@engagesportnorth.com or 250-784-3926
URL:https://www.nlc.bc.ca/event/dc-campus-drop-in-sports-volleyball-2/2026-04-30/
LOCATION:NLC Dawson Creek Campus Gym\, 11401 8 Street\, Dawson Creek\, BC\, V1G 4G2\, Canada
CATEGORIES:College Events,Sports
ATTACH;FMTTYPE=image/jpeg:https://www.nlc.bc.ca/wp-content/uploads/2026/01/dc_drop-in_sports.jpg
END:VEVENT
BEGIN:VEVENT
DTSTART;TZID=America/Phoenix:20260430T200000
DTEND;TZID=America/Phoenix:20260430T220000
DTSTAMP:20260418T000123
CREATED:20260121T230338Z
LAST-MODIFIED:20260121T230503Z
UID:10003851-1777579200-1777586400@www.nlc.bc.ca
SUMMARY:DC Campus Drop-in Sports — Futsal
DESCRIPTION:Come out and play!\nThursdays\, 8–10pm \nHave you ever tried Futsal? Come out this Thursday! \n*Drop-in sports are free and open to current students and staff of NLC\nFrom January 5\, 2026 to June 27\, 2026.\nNo drop-in sports during NLC holiday closures\, statutory holidays or during exams. \nDon’t see your sport? Suggest a sport or get more information. Contact Amber at sportdiscoverypeace@engagesportnorth.com or 250-784-3926
URL:https://www.nlc.bc.ca/event/dc-campus-drop-in-sports-futsal-2/2026-04-30/
LOCATION:NLC Dawson Creek Campus Gym\, 11401 8 Street\, Dawson Creek\, BC\, V1G 4G2\, Canada
CATEGORIES:College Events,Sports
ATTACH;FMTTYPE=image/jpeg:https://www.nlc.bc.ca/wp-content/uploads/2026/01/dc_drop-in_sports.jpg
END:VEVENT
END:VCALENDAR