BEGIN:VCALENDAR
VERSION:2.0
PRODID:-//Northern Lights College - ECPv6.15.17.1//NONSGML v1.0//EN
CALSCALE:GREGORIAN
METHOD:PUBLISH
X-WR-CALNAME:Northern Lights College
X-ORIGINAL-URL:https://www.nlc.bc.ca
X-WR-CALDESC:Events for Northern Lights College
REFRESH-INTERVAL;VALUE=DURATION:PT1H
X-Robots-Tag:noindex
X-PUBLISHED-TTL:PT1H
BEGIN:VTIMEZONE
TZID:America/Phoenix
BEGIN:STANDARD
TZOFFSETFROM:-0700
TZOFFSETTO:-0700
TZNAME:MST
DTSTART:20260101T000000
END:STANDARD
END:VTIMEZONE
BEGIN:VEVENT
DTSTART;TZID=America/Phoenix:20270624T200000
DTEND;TZID=America/Phoenix:20270624T220000
DTSTAMP:20260419T071026
CREATED:20260121T230338Z
LAST-MODIFIED:20260121T230503Z
UID:10003911-1813867200-1813874400@www.nlc.bc.ca
SUMMARY:DC Campus Drop-in Sports — Futsal
DESCRIPTION:Come out and play!\nThursdays\, 8–10pm \nHave you ever tried Futsal? Come out this Thursday! \n*Drop-in sports are free and open to current students and staff of NLC\nFrom January 5\, 2026 to June 27\, 2026.\nNo drop-in sports during NLC holiday closures\, statutory holidays or during exams. \nDon’t see your sport? Suggest a sport or get more information. Contact Amber at sportdiscoverypeace@engagesportnorth.com or 250-784-3926
URL:https://www.nlc.bc.ca/event/dc-campus-drop-in-sports-futsal-2/2027-06-24/
LOCATION:NLC Dawson Creek Campus Gym\, 11401 8 Street\, Dawson Creek\, BC\, V1G 4G2\, Canada
CATEGORIES:College Events,Sports
ATTACH;FMTTYPE=image/jpeg:https://www.nlc.bc.ca/wp-content/uploads/2026/01/dc_drop-in_sports.jpg
END:VEVENT
BEGIN:VEVENT
DTSTART;TZID=America/Phoenix:20270625T180000
DTEND;TZID=America/Phoenix:20270625T200000
DTSTAMP:20260419T071026
CREATED:20260121T230833Z
LAST-MODIFIED:20260121T230833Z
UID:10003986-1813946400-1813953600@www.nlc.bc.ca
SUMMARY:DC Campus Drop-in Sports — Basketball
DESCRIPTION:Come out and play!\nFridays\, 6–8pm \nHave you ever tried Basketball? Come out this Friday! \n*Drop-in sports are free and open to current students and staff of NLC\nFrom January 5\, 2026 to June 27\, 2026.\nNo drop-in sports during NLC holiday closures\, statutory holidays or during exams. \nDon’t see your sport? Suggest a sport or get more information. Contact Amber at sportdiscoverypeace@engagesportnorth.com or 250-784-3926
URL:https://www.nlc.bc.ca/event/dc-campus-drop-in-sports-basketball-2/2027-06-25/
LOCATION:NLC Dawson Creek Campus Gym\, 11401 8 Street\, Dawson Creek\, BC\, V1G 4G2\, Canada
CATEGORIES:College Events,Sports
ATTACH;FMTTYPE=image/jpeg:https://www.nlc.bc.ca/wp-content/uploads/2026/01/dc_drop-in_sports.jpg
END:VEVENT
BEGIN:VEVENT
DTSTART;TZID=America/Phoenix:20270625T200000
DTEND;TZID=America/Phoenix:20270625T220000
DTSTAMP:20260419T071026
CREATED:20260121T231040Z
LAST-MODIFIED:20260121T231040Z
UID:10004061-1813953600-1813960800@www.nlc.bc.ca
SUMMARY:DC Campus Drop-in Sports — Futsal
DESCRIPTION:Come out and play!\nFridays\, 8–10pm \nHave you ever tried Futsal? Come out this Friday! \n*Drop-in sports are free and open to current students and staff of NLC\nFrom January 5\, 2026 to June 27\, 2026.\nNo drop-in sports during NLC holiday closures\, statutory holidays or during exams. \nDon’t see your sport? Suggest a sport or get more information. Contact Amber at sportdiscoverypeace@engagesportnorth.com or 250-784-3926
URL:https://www.nlc.bc.ca/event/dc-campus-drop-in-sports-futsal-3/2027-06-25/
LOCATION:NLC Dawson Creek Campus Gym\, 11401 8 Street\, Dawson Creek\, BC\, V1G 4G2\, Canada
CATEGORIES:College Events,Sports
ATTACH;FMTTYPE=image/jpeg:https://www.nlc.bc.ca/wp-content/uploads/2026/01/dc_drop-in_sports.jpg
END:VEVENT
BEGIN:VEVENT
DTSTART;TZID=America/Phoenix:20270626T180000
DTEND;TZID=America/Phoenix:20270626T200000
DTSTAMP:20260419T071026
CREATED:20260121T232450Z
LAST-MODIFIED:20260121T232532Z
UID:10004135-1814032800-1814040000@www.nlc.bc.ca
SUMMARY:DC Campus Drop-in Sports — Competitive Volleyball
DESCRIPTION:Come out and play some Volleyball!!\nSaturdays\, 6–8pm \nIs Volleyball your sport? Come out this Saturday! \n*Drop-in sports are free and open to current students and staff of NLC\nFrom January 5\, 2026 to June 27\, 2026.\nNo drop-in sports during NLC holiday closures\, statutory holidays or during exams. \nDon’t see your sport? Suggest a sport or get more information. Contact Amber at sportdiscoverypeace@engagesportnorth.com or 250-784-3926
URL:https://www.nlc.bc.ca/event/dc-campus-drop-in-sports-competitive-volleyball/2027-06-26/
LOCATION:NLC Dawson Creek Campus Gym\, 11401 8 Street\, Dawson Creek\, BC\, V1G 4G2\, Canada
CATEGORIES:College Events,Sports
ATTACH;FMTTYPE=image/jpeg:https://www.nlc.bc.ca/wp-content/uploads/2026/01/dc_drop-in_sports.jpg
END:VEVENT
BEGIN:VEVENT
DTSTART;TZID=America/Phoenix:20270627T180000
DTEND;TZID=America/Phoenix:20270627T210000
DTSTAMP:20260419T071026
CREATED:20260120T225744Z
LAST-MODIFIED:20260120T225744Z
UID:10003632-1814119200-1814130000@www.nlc.bc.ca
SUMMARY:DC Campus Drop-in Sports — Futsal
DESCRIPTION:Come out and play!\nSundays\, 6–9pm \nHave you ever tried Futsal? Come out this Sunday!\n(indoor soccer) \n*Drop-in sports are free and open to current students and staff of NLC\nFrom January 5\, 2026 to June 27\, 2026.\nNo drop-in sports during NLC holiday closures\, statutory holidays or during exams. \nDon’t see your sport? Suggest a sport or get more information. Contact Amber at sportdiscoverypeace@engagesportnorth.com or 250-784-3926
URL:https://www.nlc.bc.ca/event/dc-campus-drop-in-sports-futsal/2027-06-27/
LOCATION:NLC Dawson Creek Campus Gym\, 11401 8 Street\, Dawson Creek\, BC\, V1G 4G2\, Canada
CATEGORIES:College Events,Sports
ATTACH;FMTTYPE=image/jpeg:https://www.nlc.bc.ca/wp-content/uploads/2026/01/dc_drop-in_sports.jpg
END:VEVENT
END:VCALENDAR