BEGIN:VCALENDAR
VERSION:2.0
PRODID:-//Northern Lights College - ECPv6.15.20//NONSGML v1.0//EN
CALSCALE:GREGORIAN
METHOD:PUBLISH
X-WR-CALNAME:Northern Lights College
X-ORIGINAL-URL:https://www.nlc.bc.ca
X-WR-CALDESC:Events for Northern Lights College
REFRESH-INTERVAL;VALUE=DURATION:PT1H
X-Robots-Tag:noindex
X-PUBLISHED-TTL:PT1H
BEGIN:VTIMEZONE
TZID:America/Vancouver
BEGIN:DAYLIGHT
TZOFFSETFROM:-0800
TZOFFSETTO:-0700
TZNAME:PDT
DTSTART:20240310T100000
END:DAYLIGHT
BEGIN:STANDARD
TZOFFSETFROM:-0700
TZOFFSETTO:-0800
TZNAME:PST
DTSTART:20241103T090000
END:STANDARD
BEGIN:DAYLIGHT
TZOFFSETFROM:-0800
TZOFFSETTO:-0700
TZNAME:PDT
DTSTART:20250309T100000
END:DAYLIGHT
BEGIN:STANDARD
TZOFFSETFROM:-0700
TZOFFSETTO:-0800
TZNAME:PST
DTSTART:20251102T090000
END:STANDARD
BEGIN:DAYLIGHT
TZOFFSETFROM:-0800
TZOFFSETTO:-0700
TZNAME:PDT
DTSTART:20260308T100000
END:DAYLIGHT
BEGIN:STANDARD
TZOFFSETFROM:-0700
TZOFFSETTO:-0800
TZNAME:PST
DTSTART:20261101T090000
END:STANDARD
END:VTIMEZONE
BEGIN:VTIMEZONE
TZID:America/Phoenix
BEGIN:STANDARD
TZOFFSETFROM:-0700
TZOFFSETTO:-0700
TZNAME:MST
DTSTART:20240101T000000
END:STANDARD
END:VTIMEZONE
BEGIN:VEVENT
DTSTART;VALUE=DATE:20250701
DTEND;VALUE=DATE:20250702
DTSTAMP:20260421T105133
CREATED:20240229T213428Z
LAST-MODIFIED:20240305T161929Z
UID:10001437-1751328000-1751414399@www.nlc.bc.ca
SUMMARY:Canada Day (College closed)
DESCRIPTION:
URL:https://www.nlc.bc.ca/event/canada-day-college-closed-2/
CATEGORIES:Important Dates—Academic
ATTACH;FMTTYPE=image/jpeg:https://www.nlc.bc.ca/wp-content/uploads/canada-flag-scaled.jpg
END:VEVENT
BEGIN:VEVENT
DTSTART;TZID=America/Phoenix:20250701T180000
DTEND;TZID=America/Phoenix:20250701T200000
DTSTAMP:20260421T105133
CREATED:20250624T171207Z
LAST-MODIFIED:20251203T201251Z
UID:10002671-1751392800-1751400000@www.nlc.bc.ca
SUMMARY:FSJ Drop-in Soccer
DESCRIPTION:Free drop-in soccer for staff and students! \nLocation : FSJ Campus\, near the community forest entrance.
URL:https://www.nlc.bc.ca/event/fsj-drop-in-soccer/2025-07-01/
LOCATION:Fort St. John Campus\, 9820 - 120th Ave\, Fort St. John\, British Columbia\, V1J 8C3\, Canada
ORGANIZER;CN="Student Life":MAILTO:studentlife@nlc.bc.ca
END:VEVENT
BEGIN:VEVENT
DTSTART;TZID=America/Phoenix:20250703T170000
DTEND;TZID=America/Phoenix:20250703T220000
DTSTAMP:20260421T105133
CREATED:20250410T165602Z
LAST-MODIFIED:20251203T170545Z
UID:10002403-1751562000-1751580000@www.nlc.bc.ca
SUMMARY:NLC Pub Night — Dawson Creek
DESCRIPTION:Join us at the George Dawson Inn at the GDI Lounge every Thursday night!\nFood and drink specials and karaoke! \nNo cover charge
URL:https://www.nlc.bc.ca/event/nlc-pub-night/2025-07-03/
LOCATION:George Dawson Inn Lounge\, 11705 8th St\, Dawson Creek\, BC\, V1G 4N9\, Canada
CATEGORIES:College Events
END:VEVENT
BEGIN:VEVENT
DTSTART;VALUE=DATE:20250707
DTEND;VALUE=DATE:20250708
DTSTAMP:20260421T105133
CREATED:20240229T213501Z
LAST-MODIFIED:20240305T161921Z
UID:10001438-1751846400-1751932799@www.nlc.bc.ca
SUMMARY:End of Add/Drop Period Summer
DESCRIPTION:
URL:https://www.nlc.bc.ca/event/end-of-add-drop-period-summer-2/
CATEGORIES:Important Dates—Academic
END:VEVENT
BEGIN:VEVENT
DTSTART;TZID=America/Phoenix:20250708T180000
DTEND;TZID=America/Phoenix:20250708T200000
DTSTAMP:20260421T105133
CREATED:20250624T171207Z
LAST-MODIFIED:20251203T201251Z
UID:10002672-1751997600-1752004800@www.nlc.bc.ca
SUMMARY:FSJ Drop-in Soccer
DESCRIPTION:Free drop-in soccer for staff and students! \nLocation : FSJ Campus\, near the community forest entrance.
URL:https://www.nlc.bc.ca/event/fsj-drop-in-soccer/2025-07-08/
LOCATION:Fort St. John Campus\, 9820 - 120th Ave\, Fort St. John\, British Columbia\, V1J 8C3\, Canada
ORGANIZER;CN="Student Life":MAILTO:studentlife@nlc.bc.ca
END:VEVENT
BEGIN:VEVENT
DTSTART;TZID=America/Phoenix:20250710T170000
DTEND;TZID=America/Phoenix:20250710T220000
DTSTAMP:20260421T105133
CREATED:20250410T165602Z
LAST-MODIFIED:20251203T170545Z
UID:10002404-1752166800-1752184800@www.nlc.bc.ca
SUMMARY:NLC Pub Night — Dawson Creek
DESCRIPTION:Join us at the George Dawson Inn at the GDI Lounge every Thursday night!\nFood and drink specials and karaoke! \nNo cover charge
URL:https://www.nlc.bc.ca/event/nlc-pub-night/2025-07-10/
LOCATION:George Dawson Inn Lounge\, 11705 8th St\, Dawson Creek\, BC\, V1G 4N9\, Canada
CATEGORIES:College Events
END:VEVENT
BEGIN:VEVENT
DTSTART;TZID=America/Phoenix:20250715T180000
DTEND;TZID=America/Phoenix:20250715T200000
DTSTAMP:20260421T105133
CREATED:20250624T171207Z
LAST-MODIFIED:20251203T201251Z
UID:10002673-1752602400-1752609600@www.nlc.bc.ca
SUMMARY:FSJ Drop-in Soccer
DESCRIPTION:Free drop-in soccer for staff and students! \nLocation : FSJ Campus\, near the community forest entrance.
URL:https://www.nlc.bc.ca/event/fsj-drop-in-soccer/2025-07-15/
LOCATION:Fort St. John Campus\, 9820 - 120th Ave\, Fort St. John\, British Columbia\, V1J 8C3\, Canada
ORGANIZER;CN="Student Life":MAILTO:studentlife@nlc.bc.ca
END:VEVENT
BEGIN:VEVENT
DTSTART;TZID=America/Phoenix:20250717T170000
DTEND;TZID=America/Phoenix:20250717T220000
DTSTAMP:20260421T105133
CREATED:20250410T165602Z
LAST-MODIFIED:20251203T170545Z
UID:10002405-1752771600-1752789600@www.nlc.bc.ca
SUMMARY:NLC Pub Night — Dawson Creek
DESCRIPTION:Join us at the George Dawson Inn at the GDI Lounge every Thursday night!\nFood and drink specials and karaoke! \nNo cover charge
URL:https://www.nlc.bc.ca/event/nlc-pub-night/2025-07-17/
LOCATION:George Dawson Inn Lounge\, 11705 8th St\, Dawson Creek\, BC\, V1G 4N9\, Canada
CATEGORIES:College Events
END:VEVENT
BEGIN:VEVENT
DTSTART;TZID=America/Phoenix:20250722T180000
DTEND;TZID=America/Phoenix:20250722T200000
DTSTAMP:20260421T105133
CREATED:20250624T171207Z
LAST-MODIFIED:20251203T201251Z
UID:10002674-1753207200-1753214400@www.nlc.bc.ca
SUMMARY:FSJ Drop-in Soccer
DESCRIPTION:Free drop-in soccer for staff and students! \nLocation : FSJ Campus\, near the community forest entrance.
URL:https://www.nlc.bc.ca/event/fsj-drop-in-soccer/2025-07-22/
LOCATION:Fort St. John Campus\, 9820 - 120th Ave\, Fort St. John\, British Columbia\, V1J 8C3\, Canada
ORGANIZER;CN="Student Life":MAILTO:studentlife@nlc.bc.ca
END:VEVENT
BEGIN:VEVENT
DTSTART;TZID=America/Phoenix:20250724T170000
DTEND;TZID=America/Phoenix:20250724T220000
DTSTAMP:20260421T105133
CREATED:20250410T165602Z
LAST-MODIFIED:20251203T170545Z
UID:10002406-1753376400-1753394400@www.nlc.bc.ca
SUMMARY:NLC Pub Night — Dawson Creek
DESCRIPTION:Join us at the George Dawson Inn at the GDI Lounge every Thursday night!\nFood and drink specials and karaoke! \nNo cover charge
URL:https://www.nlc.bc.ca/event/nlc-pub-night/2025-07-24/
LOCATION:George Dawson Inn Lounge\, 11705 8th St\, Dawson Creek\, BC\, V1G 4N9\, Canada
CATEGORIES:College Events
END:VEVENT
BEGIN:VEVENT
DTSTART;VALUE=DATE:20250728
DTEND;VALUE=DATE:20250729
DTSTAMP:20260421T105133
CREATED:20240229T213623Z
LAST-MODIFIED:20240305T161913Z
UID:10001439-1753660800-1753747199@www.nlc.bc.ca
SUMMARY:Last Day to Withdraw Summer
DESCRIPTION:
URL:https://www.nlc.bc.ca/event/last-day-to-withdraw-summer-2/
CATEGORIES:Important Dates—Academic
END:VEVENT
BEGIN:VEVENT
DTSTART;TZID=America/Phoenix:20250729T180000
DTEND;TZID=America/Phoenix:20250729T200000
DTSTAMP:20260421T105133
CREATED:20250624T171207Z
LAST-MODIFIED:20251203T201251Z
UID:10002675-1753812000-1753819200@www.nlc.bc.ca
SUMMARY:FSJ Drop-in Soccer
DESCRIPTION:Free drop-in soccer for staff and students! \nLocation : FSJ Campus\, near the community forest entrance.
URL:https://www.nlc.bc.ca/event/fsj-drop-in-soccer/2025-07-29/
LOCATION:Fort St. John Campus\, 9820 - 120th Ave\, Fort St. John\, British Columbia\, V1J 8C3\, Canada
ORGANIZER;CN="Student Life":MAILTO:studentlife@nlc.bc.ca
END:VEVENT
BEGIN:VEVENT
DTSTART;TZID=America/Phoenix:20250731T170000
DTEND;TZID=America/Phoenix:20250731T220000
DTSTAMP:20260421T105133
CREATED:20250410T165602Z
LAST-MODIFIED:20251203T170545Z
UID:10002407-1753981200-1753999200@www.nlc.bc.ca
SUMMARY:NLC Pub Night — Dawson Creek
DESCRIPTION:Join us at the George Dawson Inn at the GDI Lounge every Thursday night!\nFood and drink specials and karaoke! \nNo cover charge
URL:https://www.nlc.bc.ca/event/nlc-pub-night/2025-07-31/
LOCATION:George Dawson Inn Lounge\, 11705 8th St\, Dawson Creek\, BC\, V1G 4N9\, Canada
CATEGORIES:College Events
END:VEVENT
END:VCALENDAR