BEGIN:VCALENDAR
VERSION:2.0
PRODID:-//Northern Lights College - ECPv6.15.20//NONSGML v1.0//EN
CALSCALE:GREGORIAN
METHOD:PUBLISH
X-ORIGINAL-URL:https://www.nlc.bc.ca
X-WR-CALDESC:Events for Northern Lights College
REFRESH-INTERVAL;VALUE=DURATION:PT1H
X-Robots-Tag:noindex
X-PUBLISHED-TTL:PT1H
BEGIN:VTIMEZONE
TZID:America/Vancouver
BEGIN:DAYLIGHT
TZOFFSETFROM:-0800
TZOFFSETTO:-0700
TZNAME:PDT
DTSTART:20240310T100000
END:DAYLIGHT
BEGIN:STANDARD
TZOFFSETFROM:-0700
TZOFFSETTO:-0800
TZNAME:PST
DTSTART:20241103T090000
END:STANDARD
BEGIN:DAYLIGHT
TZOFFSETFROM:-0800
TZOFFSETTO:-0700
TZNAME:PDT
DTSTART:20250309T100000
END:DAYLIGHT
BEGIN:STANDARD
TZOFFSETFROM:-0700
TZOFFSETTO:-0800
TZNAME:PST
DTSTART:20251102T090000
END:STANDARD
BEGIN:DAYLIGHT
TZOFFSETFROM:-0800
TZOFFSETTO:-0700
TZNAME:PDT
DTSTART:20260308T100000
END:DAYLIGHT
BEGIN:STANDARD
TZOFFSETFROM:-0700
TZOFFSETTO:-0800
TZNAME:PST
DTSTART:20261101T090000
END:STANDARD
END:VTIMEZONE
BEGIN:VTIMEZONE
TZID:America/Phoenix
BEGIN:STANDARD
TZOFFSETFROM:-0700
TZOFFSETTO:-0700
TZNAME:MST
DTSTART:20240101T000000
END:STANDARD
END:VTIMEZONE
BEGIN:VEVENT
DTSTART;TZID=America/Vancouver:20250804T080000
DTEND;TZID=America/Vancouver:20250804T170000
DTSTAMP:20260421T093526
CREATED:20240229T213723Z
LAST-MODIFIED:20240305T161905Z
UID:10001440-1754294400-1754326800@www.nlc.bc.ca
SUMMARY:BC Day (College closed)
DESCRIPTION:
URL:https://www.nlc.bc.ca/event/bc-day-college-closed-2/
CATEGORIES:Important Dates—Academic
ATTACH;FMTTYPE=image/jpeg:https://www.nlc.bc.ca/wp-content/uploads/BC-Flag-scaled.jpeg
END:VEVENT
BEGIN:VEVENT
DTSTART;VALUE=DATE:20250805
DTEND;VALUE=DATE:20250806
DTSTAMP:20260421T093526
CREATED:20240304T215814Z
LAST-MODIFIED:20240305T161859Z
UID:10001441-1754352000-1754438399@www.nlc.bc.ca
SUMMARY:Last Day of Classes (Spring)
DESCRIPTION:
URL:https://www.nlc.bc.ca/event/last-day-of-classes-spring-2/
CATEGORIES:Important Dates—Academic
END:VEVENT
BEGIN:VEVENT
DTSTART;TZID=America/Phoenix:20250805T180000
DTEND;TZID=America/Phoenix:20250805T200000
DTSTAMP:20260421T093526
CREATED:20250624T171207Z
LAST-MODIFIED:20251203T201251Z
UID:10002676-1754416800-1754424000@www.nlc.bc.ca
SUMMARY:FSJ Drop-in Soccer
DESCRIPTION:Free drop-in soccer for staff and students! \nLocation : FSJ Campus\, near the community forest entrance.
URL:https://www.nlc.bc.ca/event/fsj-drop-in-soccer/2025-08-05/
LOCATION:Fort St. John Campus\, 9820 - 120th Ave\, Fort St. John\, British Columbia\, V1J 8C3\, Canada
ORGANIZER;CN="Student Life":MAILTO:studentlife@nlc.bc.ca
END:VEVENT
BEGIN:VEVENT
DTSTART;VALUE=DATE:20250807
DTEND;VALUE=DATE:20250808
DTSTAMP:20260421T093526
CREATED:20240304T221139Z
LAST-MODIFIED:20240305T161852Z
UID:10001442-1754524800-1754611199@www.nlc.bc.ca
SUMMARY:Final exams start Spring
DESCRIPTION:
URL:https://www.nlc.bc.ca/event/final-exams-start-spring-2/
CATEGORIES:Important Dates—Academic
END:VEVENT
BEGIN:VEVENT
DTSTART;TZID=America/Phoenix:20250807T170000
DTEND;TZID=America/Phoenix:20250807T220000
DTSTAMP:20260421T093526
CREATED:20250410T165602Z
LAST-MODIFIED:20251203T170545Z
UID:10002408-1754586000-1754604000@www.nlc.bc.ca
SUMMARY:NLC Pub Night — Dawson Creek
DESCRIPTION:Join us at the George Dawson Inn at the GDI Lounge every Thursday night!\nFood and drink specials and karaoke! \nNo cover charge
URL:https://www.nlc.bc.ca/event/nlc-pub-night/2025-08-07/
LOCATION:George Dawson Inn Lounge\, 11705 8th St\, Dawson Creek\, BC\, V1G 4N9\, Canada
CATEGORIES:College Events
END:VEVENT
BEGIN:VEVENT
DTSTART;TZID=America/Phoenix:20250812T180000
DTEND;TZID=America/Phoenix:20250812T200000
DTSTAMP:20260421T093526
CREATED:20250624T171207Z
LAST-MODIFIED:20251203T201251Z
UID:10002677-1755021600-1755028800@www.nlc.bc.ca
SUMMARY:FSJ Drop-in Soccer
DESCRIPTION:Free drop-in soccer for staff and students! \nLocation : FSJ Campus\, near the community forest entrance.
URL:https://www.nlc.bc.ca/event/fsj-drop-in-soccer/2025-08-12/
LOCATION:Fort St. John Campus\, 9820 - 120th Ave\, Fort St. John\, British Columbia\, V1J 8C3\, Canada
ORGANIZER;CN="Student Life":MAILTO:studentlife@nlc.bc.ca
END:VEVENT
BEGIN:VEVENT
DTSTART;TZID=America/Phoenix:20250814T170000
DTEND;TZID=America/Phoenix:20250814T220000
DTSTAMP:20260421T093526
CREATED:20250410T165602Z
LAST-MODIFIED:20251203T170545Z
UID:10002409-1755190800-1755208800@www.nlc.bc.ca
SUMMARY:NLC Pub Night — Dawson Creek
DESCRIPTION:Join us at the George Dawson Inn at the GDI Lounge every Thursday night!\nFood and drink specials and karaoke! \nNo cover charge
URL:https://www.nlc.bc.ca/event/nlc-pub-night/2025-08-14/
LOCATION:George Dawson Inn Lounge\, 11705 8th St\, Dawson Creek\, BC\, V1G 4N9\, Canada
CATEGORIES:College Events
END:VEVENT
BEGIN:VEVENT
DTSTART;VALUE=DATE:20250816
DTEND;VALUE=DATE:20250817
DTSTAMP:20260421T093526
CREATED:20240304T221349Z
LAST-MODIFIED:20240305T161843Z
UID:10001445-1755302400-1755388799@www.nlc.bc.ca
SUMMARY:Last Day of classes Summer
DESCRIPTION:
URL:https://www.nlc.bc.ca/event/last-day-of-classes-summer-2/
CATEGORIES:Important Dates—Academic
END:VEVENT
BEGIN:VEVENT
DTSTART;VALUE=DATE:20250818
DTEND;VALUE=DATE:20250819
DTSTAMP:20260421T093526
CREATED:20240304T221209Z
LAST-MODIFIED:20240305T161824Z
UID:10001443-1755475200-1755561599@www.nlc.bc.ca
SUMMARY:Final exams start Spring
DESCRIPTION:
URL:https://www.nlc.bc.ca/event/final-exams-start-spring-3/
CATEGORIES:Important Dates—Academic
END:VEVENT
BEGIN:VEVENT
DTSTART;VALUE=DATE:20250818
DTEND;VALUE=DATE:20250819
DTSTAMP:20260421T093526
CREATED:20240304T221259Z
LAST-MODIFIED:20240305T161729Z
UID:10001444-1755475200-1755561599@www.nlc.bc.ca
SUMMARY:Final exams start Summer
DESCRIPTION:
URL:https://www.nlc.bc.ca/event/final-exams-start-summer-2/
CATEGORIES:Important Dates—Academic
END:VEVENT
BEGIN:VEVENT
DTSTART;TZID=America/Phoenix:20250819T180000
DTEND;TZID=America/Phoenix:20250819T200000
DTSTAMP:20260421T093526
CREATED:20250624T171207Z
LAST-MODIFIED:20251203T201251Z
UID:10002678-1755626400-1755633600@www.nlc.bc.ca
SUMMARY:FSJ Drop-in Soccer
DESCRIPTION:Free drop-in soccer for staff and students! \nLocation : FSJ Campus\, near the community forest entrance.
URL:https://www.nlc.bc.ca/event/fsj-drop-in-soccer/2025-08-19/
LOCATION:Fort St. John Campus\, 9820 - 120th Ave\, Fort St. John\, British Columbia\, V1J 8C3\, Canada
ORGANIZER;CN="Student Life":MAILTO:studentlife@nlc.bc.ca
END:VEVENT
BEGIN:VEVENT
DTSTART;TZID=America/Phoenix:20250821T170000
DTEND;TZID=America/Phoenix:20250821T220000
DTSTAMP:20260421T093526
CREATED:20250410T165602Z
LAST-MODIFIED:20251203T170545Z
UID:10002410-1755795600-1755813600@www.nlc.bc.ca
SUMMARY:NLC Pub Night — Dawson Creek
DESCRIPTION:Join us at the George Dawson Inn at the GDI Lounge every Thursday night!\nFood and drink specials and karaoke! \nNo cover charge
URL:https://www.nlc.bc.ca/event/nlc-pub-night/2025-08-21/
LOCATION:George Dawson Inn Lounge\, 11705 8th St\, Dawson Creek\, BC\, V1G 4N9\, Canada
CATEGORIES:College Events
END:VEVENT
BEGIN:VEVENT
DTSTART;VALUE=DATE:20250823
DTEND;VALUE=DATE:20250824
DTSTAMP:20260421T093526
CREATED:20240304T221439Z
LAST-MODIFIED:20240305T161720Z
UID:10001446-1755907200-1755993599@www.nlc.bc.ca
SUMMARY:Final exams end Summer
DESCRIPTION:
URL:https://www.nlc.bc.ca/event/final-exams-end-summer-2/
CATEGORIES:Important Dates—Academic
END:VEVENT
BEGIN:VEVENT
DTSTART;TZID=America/Phoenix:20250826T130000
DTEND;TZID=America/Phoenix:20250826T170000
DTSTAMP:20260421T093526
CREATED:20250814T173623Z
LAST-MODIFIED:20250814T173722Z
UID:10002924-1756213200-1756227600@www.nlc.bc.ca
SUMMARY:Food Drive for FSJ Women's Resource Society
DESCRIPTION:NLC Fort St. John’s Students are hosting a food drive for FSJ Women’s Resource Society \nAugust 26\, 2025\n1pm–5pm\nSave On Foods\, Fort St. John \nVolunteers Wanted!\nReach out to studentlife@nlc.bc.ca
URL:https://www.nlc.bc.ca/event/food-drive-for-fsj-womens-resource-society/
LOCATION:Save On Foods  Fort St. John\, 10345 100 St.\, Fort St John\, British Columbia\, V1J 3Z2\, Canada
CATEGORIES:College Events,Student Association
ATTACH;FMTTYPE=image/jpeg:https://www.nlc.bc.ca/wp-content/uploads/2025/08/Food_Drive-scaled.jpg
ORGANIZER;CN="Student Life":MAILTO:studentlife@nlc.bc.ca
END:VEVENT
BEGIN:VEVENT
DTSTART;TZID=America/Phoenix:20250826T180000
DTEND;TZID=America/Phoenix:20250826T200000
DTSTAMP:20260421T093526
CREATED:20250624T171207Z
LAST-MODIFIED:20251203T201251Z
UID:10002679-1756231200-1756238400@www.nlc.bc.ca
SUMMARY:FSJ Drop-in Soccer
DESCRIPTION:Free drop-in soccer for staff and students! \nLocation : FSJ Campus\, near the community forest entrance.
URL:https://www.nlc.bc.ca/event/fsj-drop-in-soccer/2025-08-26/
LOCATION:Fort St. John Campus\, 9820 - 120th Ave\, Fort St. John\, British Columbia\, V1J 8C3\, Canada
ORGANIZER;CN="Student Life":MAILTO:studentlife@nlc.bc.ca
END:VEVENT
BEGIN:VEVENT
DTSTART;TZID=America/Phoenix:20250828T170000
DTEND;TZID=America/Phoenix:20250828T220000
DTSTAMP:20260421T093526
CREATED:20250410T165602Z
LAST-MODIFIED:20251203T170545Z
UID:10002411-1756400400-1756418400@www.nlc.bc.ca
SUMMARY:NLC Pub Night — Dawson Creek
DESCRIPTION:Join us at the George Dawson Inn at the GDI Lounge every Thursday night!\nFood and drink specials and karaoke! \nNo cover charge
URL:https://www.nlc.bc.ca/event/nlc-pub-night/2025-08-28/
LOCATION:George Dawson Inn Lounge\, 11705 8th St\, Dawson Creek\, BC\, V1G 4N9\, Canada
CATEGORIES:College Events
END:VEVENT
BEGIN:VEVENT
DTSTART;VALUE=DATE:20250829
DTEND;VALUE=DATE:20250830
DTSTAMP:20260421T093526
CREATED:20240304T221529Z
LAST-MODIFIED:20240305T161710Z
UID:10001447-1756425600-1756511999@www.nlc.bc.ca
SUMMARY:All grades submitted Summer
DESCRIPTION:
URL:https://www.nlc.bc.ca/event/all-grades-submitted-summer/
CATEGORIES:Important Dates—Academic
END:VEVENT
END:VCALENDAR